
BEGIN:VCALENDAR
VERSION:2.0
PRODID:-//Deutsche Alzheimer Gesellschaft - ECPv6.15.20//NONSGML v1.0//EN
CALSCALE:GREGORIAN
METHOD:PUBLISH
X-ORIGINAL-URL:https://alzheimer-mv.de
X-WR-CALDESC:Veranstaltungen für Deutsche Alzheimer Gesellschaft
REFRESH-INTERVAL;VALUE=DURATION:PT1H
X-Robots-Tag:noindex
X-PUBLISHED-TTL:PT1H
BEGIN:VTIMEZONE
TZID:Europe/Berlin
BEGIN:DAYLIGHT
TZOFFSETFROM:+0100
TZOFFSETTO:+0200
TZNAME:CEST
DTSTART:20220327T010000
END:DAYLIGHT
BEGIN:STANDARD
TZOFFSETFROM:+0200
TZOFFSETTO:+0100
TZNAME:CET
DTSTART:20221030T010000
END:STANDARD
BEGIN:DAYLIGHT
TZOFFSETFROM:+0100
TZOFFSETTO:+0200
TZNAME:CEST
DTSTART:20230326T010000
END:DAYLIGHT
BEGIN:STANDARD
TZOFFSETFROM:+0200
TZOFFSETTO:+0100
TZNAME:CET
DTSTART:20231029T010000
END:STANDARD
BEGIN:DAYLIGHT
TZOFFSETFROM:+0100
TZOFFSETTO:+0200
TZNAME:CEST
DTSTART:20240331T010000
END:DAYLIGHT
BEGIN:STANDARD
TZOFFSETFROM:+0200
TZOFFSETTO:+0100
TZNAME:CET
DTSTART:20241027T010000
END:STANDARD
END:VTIMEZONE
BEGIN:VEVENT
DTSTART;TZID=Europe/Berlin:20230701T100000
DTEND;TZID=Europe/Berlin:20230701T140000
DTSTAMP:20260425T151342
CREATED:20230427T120123Z
LAST-MODIFIED:20230427T120222Z
UID:10002899-1688205600-1688220000@alzheimer-mv.de
SUMMARY:Angehörigenschulung „Leben mit Demenz“ (Nr. 28/23) in der Stadtbibliothek Rostock (Stadtmitte)
DESCRIPTION:Am Samstag\, den 10. Juni 2023\, beginnt um 10:00 Uhr in der Stadtbibliothek Rostock (Zentralbibliothek\, Kröpeliner Straße 82\,\n18055 Rostock) eine weitere Schulung für Angehörige von Menschen mit dementiellen Veränderungen.\nIn der Schulungsveranstaltung wird Wissenswertes über die Krankheit und ihren Verlauf sowie Therapiemöglichkeiten vermittelt\, Aspekte zu Kommunikation und Umgang mit dem oder der Erkrankten\, aber auch Leistungen der Pflegekassen\, rechtliche Fragen und Entlastungsmöglichkeiten für die Angehörigen werden besprochen. \nSchulungsleiterin dieser Schulungsreihe ist Frau Doris Hoffmann. Sie ist examinierte Krankenschwester und Pädagogin für Gesundheitsfachberufe sowie Pflegeberaterin und verfügt über das Weiterbildungszertifikat „Palliative Care“. Sie kann auf über 40 Jahre Berufserfahrung mit Menschen mit Demenz zurückblicken und steht Ihnen mit einem breiten Wissens- und Erfahrungsschatz zur Seite. \nDie Schulung umfasst 4 Doppelmodule. Die Teilnahme ist kostenlos. Zur Planung bitten wir um vorherige Anmeldung unter 0152 03709800 oder per E-Mail unter hoffmann-doris61@web.de. \nDie Schulungsreihe für Angehörige von Menschen mit Demenz wird organisiert von der Deutschen Alzheimer Gesellschaft Landesverband M-V und dem Deutschen Zentrums für Neurodegenerative Erkrankungen e.V. Standort Rostock/Greifswald\, unterstützt durch die Krankenkasse KKH. \nAlle Informationen über die Themen der Schulung finden Sie hier im Flyer AGS 28/23.
URL:https://alzheimer-mv.de/event/angehoerigenschulung-leben-mit-demenz-nr-28-23-in-der-stadtbibliothek-rostock-stadtmitte/2023-07-01/
LOCATION:Stadtbibliothek Rostock\, Kröpeliner Straße 82\, Rostock\, 18055
CATEGORIES:Angehörigenschulung
ORGANIZER;CN="DAlzG LV M-V/ Schulungsleiterin Doris Hoffmann":MAILTO:hoffmann-doris61@web.de
GEO:54.0885754;12.1367008
X-APPLE-STRUCTURED-LOCATION;VALUE=URI;X-ADDRESS=Stadtbibliothek Rostock Kröpeliner Straße 82 Rostock 18055;X-APPLE-RADIUS=500;X-TITLE=Kröpeliner Straße 82:geo:12.1367008,54.0885754
END:VEVENT
BEGIN:VEVENT
DTSTART;TZID=Europe/Berlin:20230624T100000
DTEND;TZID=Europe/Berlin:20230624T140000
DTSTAMP:20260425T151342
CREATED:20230427T120123Z
LAST-MODIFIED:20230427T120222Z
UID:10002898-1687600800-1687615200@alzheimer-mv.de
SUMMARY:Angehörigenschulung „Leben mit Demenz“ (Nr. 28/23) in der Stadtbibliothek Rostock (Stadtmitte)
DESCRIPTION:Am Samstag\, den 10. Juni 2023\, beginnt um 10:00 Uhr in der Stadtbibliothek Rostock (Zentralbibliothek\, Kröpeliner Straße 82\,\n18055 Rostock) eine weitere Schulung für Angehörige von Menschen mit dementiellen Veränderungen.\nIn der Schulungsveranstaltung wird Wissenswertes über die Krankheit und ihren Verlauf sowie Therapiemöglichkeiten vermittelt\, Aspekte zu Kommunikation und Umgang mit dem oder der Erkrankten\, aber auch Leistungen der Pflegekassen\, rechtliche Fragen und Entlastungsmöglichkeiten für die Angehörigen werden besprochen. \nSchulungsleiterin dieser Schulungsreihe ist Frau Doris Hoffmann. Sie ist examinierte Krankenschwester und Pädagogin für Gesundheitsfachberufe sowie Pflegeberaterin und verfügt über das Weiterbildungszertifikat „Palliative Care“. Sie kann auf über 40 Jahre Berufserfahrung mit Menschen mit Demenz zurückblicken und steht Ihnen mit einem breiten Wissens- und Erfahrungsschatz zur Seite. \nDie Schulung umfasst 4 Doppelmodule. Die Teilnahme ist kostenlos. Zur Planung bitten wir um vorherige Anmeldung unter 0152 03709800 oder per E-Mail unter hoffmann-doris61@web.de. \nDie Schulungsreihe für Angehörige von Menschen mit Demenz wird organisiert von der Deutschen Alzheimer Gesellschaft Landesverband M-V und dem Deutschen Zentrums für Neurodegenerative Erkrankungen e.V. Standort Rostock/Greifswald\, unterstützt durch die Krankenkasse KKH. \nAlle Informationen über die Themen der Schulung finden Sie hier im Flyer AGS 28/23.
URL:https://alzheimer-mv.de/event/angehoerigenschulung-leben-mit-demenz-nr-28-23-in-der-stadtbibliothek-rostock-stadtmitte/2023-06-24/
LOCATION:Stadtbibliothek Rostock\, Kröpeliner Straße 82\, Rostock\, 18055
CATEGORIES:Angehörigenschulung
ORGANIZER;CN="DAlzG LV M-V/ Schulungsleiterin Doris Hoffmann":MAILTO:hoffmann-doris61@web.de
GEO:54.0885754;12.1367008
X-APPLE-STRUCTURED-LOCATION;VALUE=URI;X-ADDRESS=Stadtbibliothek Rostock Kröpeliner Straße 82 Rostock 18055;X-APPLE-RADIUS=500;X-TITLE=Kröpeliner Straße 82:geo:12.1367008,54.0885754
END:VEVENT
BEGIN:VEVENT
DTSTART;TZID=Europe/Berlin:20230617T100000
DTEND;TZID=Europe/Berlin:20230617T140000
DTSTAMP:20260425T151342
CREATED:20230427T120123Z
LAST-MODIFIED:20230427T120222Z
UID:10002897-1686996000-1687010400@alzheimer-mv.de
SUMMARY:Angehörigenschulung „Leben mit Demenz“ (Nr. 28/23) in der Stadtbibliothek Rostock (Stadtmitte)
DESCRIPTION:Am Samstag\, den 10. Juni 2023\, beginnt um 10:00 Uhr in der Stadtbibliothek Rostock (Zentralbibliothek\, Kröpeliner Straße 82\,\n18055 Rostock) eine weitere Schulung für Angehörige von Menschen mit dementiellen Veränderungen.\nIn der Schulungsveranstaltung wird Wissenswertes über die Krankheit und ihren Verlauf sowie Therapiemöglichkeiten vermittelt\, Aspekte zu Kommunikation und Umgang mit dem oder der Erkrankten\, aber auch Leistungen der Pflegekassen\, rechtliche Fragen und Entlastungsmöglichkeiten für die Angehörigen werden besprochen. \nSchulungsleiterin dieser Schulungsreihe ist Frau Doris Hoffmann. Sie ist examinierte Krankenschwester und Pädagogin für Gesundheitsfachberufe sowie Pflegeberaterin und verfügt über das Weiterbildungszertifikat „Palliative Care“. Sie kann auf über 40 Jahre Berufserfahrung mit Menschen mit Demenz zurückblicken und steht Ihnen mit einem breiten Wissens- und Erfahrungsschatz zur Seite. \nDie Schulung umfasst 4 Doppelmodule. Die Teilnahme ist kostenlos. Zur Planung bitten wir um vorherige Anmeldung unter 0152 03709800 oder per E-Mail unter hoffmann-doris61@web.de. \nDie Schulungsreihe für Angehörige von Menschen mit Demenz wird organisiert von der Deutschen Alzheimer Gesellschaft Landesverband M-V und dem Deutschen Zentrums für Neurodegenerative Erkrankungen e.V. Standort Rostock/Greifswald\, unterstützt durch die Krankenkasse KKH. \nAlle Informationen über die Themen der Schulung finden Sie hier im Flyer AGS 28/23.
URL:https://alzheimer-mv.de/event/angehoerigenschulung-leben-mit-demenz-nr-28-23-in-der-stadtbibliothek-rostock-stadtmitte/2023-06-17/
LOCATION:Stadtbibliothek Rostock\, Kröpeliner Straße 82\, Rostock\, 18055
CATEGORIES:Angehörigenschulung
ORGANIZER;CN="DAlzG LV M-V/ Schulungsleiterin Doris Hoffmann":MAILTO:hoffmann-doris61@web.de
GEO:54.0885754;12.1367008
X-APPLE-STRUCTURED-LOCATION;VALUE=URI;X-ADDRESS=Stadtbibliothek Rostock Kröpeliner Straße 82 Rostock 18055;X-APPLE-RADIUS=500;X-TITLE=Kröpeliner Straße 82:geo:12.1367008,54.0885754
END:VEVENT
BEGIN:VEVENT
DTSTART;TZID=Europe/Berlin:20230610T100000
DTEND;TZID=Europe/Berlin:20230610T140000
DTSTAMP:20260425T151342
CREATED:20230427T120123Z
LAST-MODIFIED:20230427T120222Z
UID:10002896-1686391200-1686405600@alzheimer-mv.de
SUMMARY:Angehörigenschulung „Leben mit Demenz“ (Nr. 28/23) in der Stadtbibliothek Rostock (Stadtmitte)
DESCRIPTION:Am Samstag\, den 10. Juni 2023\, beginnt um 10:00 Uhr in der Stadtbibliothek Rostock (Zentralbibliothek\, Kröpeliner Straße 82\,\n18055 Rostock) eine weitere Schulung für Angehörige von Menschen mit dementiellen Veränderungen.\nIn der Schulungsveranstaltung wird Wissenswertes über die Krankheit und ihren Verlauf sowie Therapiemöglichkeiten vermittelt\, Aspekte zu Kommunikation und Umgang mit dem oder der Erkrankten\, aber auch Leistungen der Pflegekassen\, rechtliche Fragen und Entlastungsmöglichkeiten für die Angehörigen werden besprochen. \nSchulungsleiterin dieser Schulungsreihe ist Frau Doris Hoffmann. Sie ist examinierte Krankenschwester und Pädagogin für Gesundheitsfachberufe sowie Pflegeberaterin und verfügt über das Weiterbildungszertifikat „Palliative Care“. Sie kann auf über 40 Jahre Berufserfahrung mit Menschen mit Demenz zurückblicken und steht Ihnen mit einem breiten Wissens- und Erfahrungsschatz zur Seite. \nDie Schulung umfasst 4 Doppelmodule. Die Teilnahme ist kostenlos. Zur Planung bitten wir um vorherige Anmeldung unter 0152 03709800 oder per E-Mail unter hoffmann-doris61@web.de. \nDie Schulungsreihe für Angehörige von Menschen mit Demenz wird organisiert von der Deutschen Alzheimer Gesellschaft Landesverband M-V und dem Deutschen Zentrums für Neurodegenerative Erkrankungen e.V. Standort Rostock/Greifswald\, unterstützt durch die Krankenkasse KKH. \nAlle Informationen über die Themen der Schulung finden Sie hier im Flyer AGS 28/23.
URL:https://alzheimer-mv.de/event/angehoerigenschulung-leben-mit-demenz-nr-28-23-in-der-stadtbibliothek-rostock-stadtmitte/2023-06-10/
LOCATION:Stadtbibliothek Rostock\, Kröpeliner Straße 82\, Rostock\, 18055
CATEGORIES:Angehörigenschulung
ORGANIZER;CN="DAlzG LV M-V/ Schulungsleiterin Doris Hoffmann":MAILTO:hoffmann-doris61@web.de
GEO:54.0885754;12.1367008
X-APPLE-STRUCTURED-LOCATION;VALUE=URI;X-ADDRESS=Stadtbibliothek Rostock Kröpeliner Straße 82 Rostock 18055;X-APPLE-RADIUS=500;X-TITLE=Kröpeliner Straße 82:geo:12.1367008,54.0885754
END:VEVENT
BEGIN:VEVENT
DTSTART;TZID=Europe/Berlin:20230520T100000
DTEND;TZID=Europe/Berlin:20230520T140000
DTSTAMP:20260425T151342
CREATED:20230405T141012Z
LAST-MODIFIED:20230524T133445Z
UID:10002850-1684576800-1684591200@alzheimer-mv.de
SUMMARY:Angehörigenschulung „Leben mit Demenz“ (Nr. 26/23) in der Stadtbibliothek Rostock (Stadtmitte)
DESCRIPTION:Am Samstag\, den 22. April 2023\, beginnt um 10:00 Uhr in der Stadtbibliothek Rostock (Zentralbibliothek\, Kröpeliner Straße 82\,\n18055 Rostock) eine weitere Schulung für Angehörige von Menschen mit dementiellen Veränderungen.\nIn der Schulungsveranstaltung wird Wissenswertes über die Krankheit und ihren Verlauf sowie Therapiemöglichkeiten vermittelt\, Aspekte zu Kommunikation und Umgang mit dem oder der Erkrankten\, aber auch Leistungen der Pflegekassen\, rechtliche Fragen und Entlastungsmöglichkeiten für die Angehörigen werden besprochen. \nSchulungsleiterin dieser Schulungsreihe ist Frau Doris Hoffmann. Sie ist examinierte Krankenschwester und Pädagogin für Gesundheitsfachberufe sowie Pflegeberaterin und verfügt über das Weiterbildungszertifikat „Palliative Care“. Sie kann auf über 40 Jahre Berufserfahrung mit Menschen mit Demenz zurückblicken und steht Ihnen mit einem breiten Wissens- und Erfahrungsschatz zur Seite. \nDie Schulung umfasst 4 Doppelmodule. Die Teilnahme ist kostenlos. Zur Planung bitten wir um vorherige Anmeldung unter 0152 03709800 oder per E-Mail unter hoffmann-doris61@web.de. \nDie Schulungsreihe für Angehörige von Menschen mit Demenz wird organisiert von der Deutschen Alzheimer Gesellschaft Landesverband M-V und dem Deutschen Zentrums für Neurodegenerative Erkrankungen e.V. Standort Rostock/Greifswald\, unterstützt durch die BARMER Ersatzkasse. \nAlle Informationen über die Themen der Schulung finden Sie hier im Flyer AGS 26/23.
URL:https://alzheimer-mv.de/event/angehoerigenschulung-leben-mit-demenz-nr-26-23-in-der-stadtbibliothek-rostock-stadtmitte/2023-05-20/
LOCATION:Stadtbibliothek Rostock\, Kröpeliner Straße 82\, Rostock\, 18055
CATEGORIES:Angehörigenschulung
ATTACH;FMTTYPE=image/png:https://alzheimer-mv.de/download/24123/?tmstv=1777122822&v=24124
ORGANIZER;CN="DAlzG LV M-V/ Schulungsleiterin Doris Hoffmann":MAILTO:hoffmann-doris61@web.de
GEO:54.0885754;12.1367008
X-APPLE-STRUCTURED-LOCATION;VALUE=URI;X-ADDRESS=Stadtbibliothek Rostock Kröpeliner Straße 82 Rostock 18055;X-APPLE-RADIUS=500;X-TITLE=Kröpeliner Straße 82:geo:12.1367008,54.0885754
END:VEVENT
BEGIN:VEVENT
DTSTART;TZID=Europe/Berlin:20230513T100000
DTEND;TZID=Europe/Berlin:20230513T140000
DTSTAMP:20260425T151342
CREATED:20230405T141012Z
LAST-MODIFIED:20230524T133445Z
UID:10002849-1683972000-1683986400@alzheimer-mv.de
SUMMARY:Angehörigenschulung „Leben mit Demenz“ (Nr. 26/23) in der Stadtbibliothek Rostock (Stadtmitte)
DESCRIPTION:Am Samstag\, den 22. April 2023\, beginnt um 10:00 Uhr in der Stadtbibliothek Rostock (Zentralbibliothek\, Kröpeliner Straße 82\,\n18055 Rostock) eine weitere Schulung für Angehörige von Menschen mit dementiellen Veränderungen.\nIn der Schulungsveranstaltung wird Wissenswertes über die Krankheit und ihren Verlauf sowie Therapiemöglichkeiten vermittelt\, Aspekte zu Kommunikation und Umgang mit dem oder der Erkrankten\, aber auch Leistungen der Pflegekassen\, rechtliche Fragen und Entlastungsmöglichkeiten für die Angehörigen werden besprochen. \nSchulungsleiterin dieser Schulungsreihe ist Frau Doris Hoffmann. Sie ist examinierte Krankenschwester und Pädagogin für Gesundheitsfachberufe sowie Pflegeberaterin und verfügt über das Weiterbildungszertifikat „Palliative Care“. Sie kann auf über 40 Jahre Berufserfahrung mit Menschen mit Demenz zurückblicken und steht Ihnen mit einem breiten Wissens- und Erfahrungsschatz zur Seite. \nDie Schulung umfasst 4 Doppelmodule. Die Teilnahme ist kostenlos. Zur Planung bitten wir um vorherige Anmeldung unter 0152 03709800 oder per E-Mail unter hoffmann-doris61@web.de. \nDie Schulungsreihe für Angehörige von Menschen mit Demenz wird organisiert von der Deutschen Alzheimer Gesellschaft Landesverband M-V und dem Deutschen Zentrums für Neurodegenerative Erkrankungen e.V. Standort Rostock/Greifswald\, unterstützt durch die BARMER Ersatzkasse. \nAlle Informationen über die Themen der Schulung finden Sie hier im Flyer AGS 26/23.
URL:https://alzheimer-mv.de/event/angehoerigenschulung-leben-mit-demenz-nr-26-23-in-der-stadtbibliothek-rostock-stadtmitte/2023-05-13/
LOCATION:Stadtbibliothek Rostock\, Kröpeliner Straße 82\, Rostock\, 18055
CATEGORIES:Angehörigenschulung
ATTACH;FMTTYPE=image/png:https://alzheimer-mv.de/download/24123/?tmstv=1777122822&v=24124
ORGANIZER;CN="DAlzG LV M-V/ Schulungsleiterin Doris Hoffmann":MAILTO:hoffmann-doris61@web.de
GEO:54.0885754;12.1367008
X-APPLE-STRUCTURED-LOCATION;VALUE=URI;X-ADDRESS=Stadtbibliothek Rostock Kröpeliner Straße 82 Rostock 18055;X-APPLE-RADIUS=500;X-TITLE=Kröpeliner Straße 82:geo:12.1367008,54.0885754
END:VEVENT
BEGIN:VEVENT
DTSTART;TZID=Europe/Berlin:20230429T100000
DTEND;TZID=Europe/Berlin:20230429T140000
DTSTAMP:20260425T151342
CREATED:20230405T141012Z
LAST-MODIFIED:20230524T133445Z
UID:10002848-1682762400-1682776800@alzheimer-mv.de
SUMMARY:Angehörigenschulung „Leben mit Demenz“ (Nr. 26/23) in der Stadtbibliothek Rostock (Stadtmitte)
DESCRIPTION:Am Samstag\, den 22. April 2023\, beginnt um 10:00 Uhr in der Stadtbibliothek Rostock (Zentralbibliothek\, Kröpeliner Straße 82\,\n18055 Rostock) eine weitere Schulung für Angehörige von Menschen mit dementiellen Veränderungen.\nIn der Schulungsveranstaltung wird Wissenswertes über die Krankheit und ihren Verlauf sowie Therapiemöglichkeiten vermittelt\, Aspekte zu Kommunikation und Umgang mit dem oder der Erkrankten\, aber auch Leistungen der Pflegekassen\, rechtliche Fragen und Entlastungsmöglichkeiten für die Angehörigen werden besprochen. \nSchulungsleiterin dieser Schulungsreihe ist Frau Doris Hoffmann. Sie ist examinierte Krankenschwester und Pädagogin für Gesundheitsfachberufe sowie Pflegeberaterin und verfügt über das Weiterbildungszertifikat „Palliative Care“. Sie kann auf über 40 Jahre Berufserfahrung mit Menschen mit Demenz zurückblicken und steht Ihnen mit einem breiten Wissens- und Erfahrungsschatz zur Seite. \nDie Schulung umfasst 4 Doppelmodule. Die Teilnahme ist kostenlos. Zur Planung bitten wir um vorherige Anmeldung unter 0152 03709800 oder per E-Mail unter hoffmann-doris61@web.de. \nDie Schulungsreihe für Angehörige von Menschen mit Demenz wird organisiert von der Deutschen Alzheimer Gesellschaft Landesverband M-V und dem Deutschen Zentrums für Neurodegenerative Erkrankungen e.V. Standort Rostock/Greifswald\, unterstützt durch die BARMER Ersatzkasse. \nAlle Informationen über die Themen der Schulung finden Sie hier im Flyer AGS 26/23.
URL:https://alzheimer-mv.de/event/angehoerigenschulung-leben-mit-demenz-nr-26-23-in-der-stadtbibliothek-rostock-stadtmitte/2023-04-29/
LOCATION:Stadtbibliothek Rostock\, Kröpeliner Straße 82\, Rostock\, 18055
CATEGORIES:Angehörigenschulung
ATTACH;FMTTYPE=image/png:https://alzheimer-mv.de/download/24123/?tmstv=1777122822&v=24124
ORGANIZER;CN="DAlzG LV M-V/ Schulungsleiterin Doris Hoffmann":MAILTO:hoffmann-doris61@web.de
GEO:54.0885754;12.1367008
X-APPLE-STRUCTURED-LOCATION;VALUE=URI;X-ADDRESS=Stadtbibliothek Rostock Kröpeliner Straße 82 Rostock 18055;X-APPLE-RADIUS=500;X-TITLE=Kröpeliner Straße 82:geo:12.1367008,54.0885754
END:VEVENT
BEGIN:VEVENT
DTSTART;TZID=Europe/Berlin:20230422T100000
DTEND;TZID=Europe/Berlin:20230422T140000
DTSTAMP:20260425T151342
CREATED:20230405T141012Z
LAST-MODIFIED:20230524T133445Z
UID:10002847-1682157600-1682172000@alzheimer-mv.de
SUMMARY:Angehörigenschulung „Leben mit Demenz“ (Nr. 26/23) in der Stadtbibliothek Rostock (Stadtmitte)
DESCRIPTION:Am Samstag\, den 22. April 2023\, beginnt um 10:00 Uhr in der Stadtbibliothek Rostock (Zentralbibliothek\, Kröpeliner Straße 82\,\n18055 Rostock) eine weitere Schulung für Angehörige von Menschen mit dementiellen Veränderungen.\nIn der Schulungsveranstaltung wird Wissenswertes über die Krankheit und ihren Verlauf sowie Therapiemöglichkeiten vermittelt\, Aspekte zu Kommunikation und Umgang mit dem oder der Erkrankten\, aber auch Leistungen der Pflegekassen\, rechtliche Fragen und Entlastungsmöglichkeiten für die Angehörigen werden besprochen. \nSchulungsleiterin dieser Schulungsreihe ist Frau Doris Hoffmann. Sie ist examinierte Krankenschwester und Pädagogin für Gesundheitsfachberufe sowie Pflegeberaterin und verfügt über das Weiterbildungszertifikat „Palliative Care“. Sie kann auf über 40 Jahre Berufserfahrung mit Menschen mit Demenz zurückblicken und steht Ihnen mit einem breiten Wissens- und Erfahrungsschatz zur Seite. \nDie Schulung umfasst 4 Doppelmodule. Die Teilnahme ist kostenlos. Zur Planung bitten wir um vorherige Anmeldung unter 0152 03709800 oder per E-Mail unter hoffmann-doris61@web.de. \nDie Schulungsreihe für Angehörige von Menschen mit Demenz wird organisiert von der Deutschen Alzheimer Gesellschaft Landesverband M-V und dem Deutschen Zentrums für Neurodegenerative Erkrankungen e.V. Standort Rostock/Greifswald\, unterstützt durch die BARMER Ersatzkasse. \nAlle Informationen über die Themen der Schulung finden Sie hier im Flyer AGS 26/23.
URL:https://alzheimer-mv.de/event/angehoerigenschulung-leben-mit-demenz-nr-26-23-in-der-stadtbibliothek-rostock-stadtmitte/2023-04-22/
LOCATION:Stadtbibliothek Rostock\, Kröpeliner Straße 82\, Rostock\, 18055
CATEGORIES:Angehörigenschulung
ATTACH;FMTTYPE=image/png:https://alzheimer-mv.de/download/24123/?tmstv=1777122822&v=24124
ORGANIZER;CN="DAlzG LV M-V/ Schulungsleiterin Doris Hoffmann":MAILTO:hoffmann-doris61@web.de
GEO:54.0885754;12.1367008
X-APPLE-STRUCTURED-LOCATION;VALUE=URI;X-ADDRESS=Stadtbibliothek Rostock Kröpeliner Straße 82 Rostock 18055;X-APPLE-RADIUS=500;X-TITLE=Kröpeliner Straße 82:geo:12.1367008,54.0885754
END:VEVENT
END:VCALENDAR