
BEGIN:VCALENDAR
VERSION:2.0
PRODID:-//Deutsche Alzheimer Gesellschaft - ECPv6.15.20//NONSGML v1.0//EN
CALSCALE:GREGORIAN
METHOD:PUBLISH
X-ORIGINAL-URL:https://alzheimer-mv.de
X-WR-CALDESC:Veranstaltungen für Deutsche Alzheimer Gesellschaft
REFRESH-INTERVAL;VALUE=DURATION:PT1H
X-Robots-Tag:noindex
X-PUBLISHED-TTL:PT1H
BEGIN:VTIMEZONE
TZID:Europe/Berlin
BEGIN:DAYLIGHT
TZOFFSETFROM:+0100
TZOFFSETTO:+0200
TZNAME:CEST
DTSTART:20250330T010000
END:DAYLIGHT
BEGIN:STANDARD
TZOFFSETFROM:+0200
TZOFFSETTO:+0100
TZNAME:CET
DTSTART:20251026T010000
END:STANDARD
BEGIN:DAYLIGHT
TZOFFSETFROM:+0100
TZOFFSETTO:+0200
TZNAME:CEST
DTSTART:20260329T010000
END:DAYLIGHT
BEGIN:STANDARD
TZOFFSETFROM:+0200
TZOFFSETTO:+0100
TZNAME:CET
DTSTART:20261025T010000
END:STANDARD
BEGIN:DAYLIGHT
TZOFFSETFROM:+0100
TZOFFSETTO:+0200
TZNAME:CEST
DTSTART:20270328T010000
END:DAYLIGHT
BEGIN:STANDARD
TZOFFSETFROM:+0200
TZOFFSETTO:+0100
TZNAME:CET
DTSTART:20271031T010000
END:STANDARD
END:VTIMEZONE
BEGIN:VEVENT
DTSTART;TZID=Europe/Berlin:20260507T170000
DTEND;TZID=Europe/Berlin:20260507T183000
DTSTAMP:20260420T054952
CREATED:20260306T104558Z
LAST-MODIFIED:20260306T104558Z
UID:10007195-1778173200-1778178600@alzheimer-mv.de
SUMMARY:Filmvorführung - remember me
DESCRIPTION:Kurzinhalt\nEs ist Liebe auf den ersten Blick\, als der angehende Arzt Max der umwerfenden Sängerin Elina begegnet. Doch während die beiden eine Familie gründen\, beginnt Elina\, sich scheinbar grundlos immer eigenartiger zu verhalten. Je beharrlicher Max versucht\, die Beziehung zu retten\, umso schneller droht die Familie in die Brüche zu gehen. Als er das volle Ausmaß ihrer Krise begreifen kann\, gibt es kein Zurück mehr. \n  \nDetails\n\nGenre: Drama\nLand/Jahr: Deutschland\, 2023\nBuch & Regie: Lukas Olszewski\nHauptdarsteller: Solgerd Isalv\, \nKamera: Micky Graeter\nFilm Editor: Sebastian Wild\nMusik: Jens Heuler\nSprache: Deutsch (auch in Schwedisch oder Englisch synchronisiert)\nLänge: 40 min.\nProduktion: Lukas Olszewski\n\n  \nSeien Sie dabei am 07.05.26 in der Frieda23 in Rostock
URL:https://alzheimer-mv.de/event/filmvorfuehrung-remember-me/
LOCATION:Frieda 23\, Friedrichstr. 23\, Rostock\, 18057
ORGANIZER;CN="Deutsche Alzheimer Gesellschaft Landesverband M-V e.V. Selbsthilfe Demenz":MAILTO:gericoach@alzheimer-mv.de
GEO:54.0911845;12.1228068
X-APPLE-STRUCTURED-LOCATION;VALUE=URI;X-ADDRESS=Frieda 23 Friedrichstr. 23 Rostock 18057;X-APPLE-RADIUS=500;X-TITLE=Friedrichstr. 23:geo:12.1228068,54.0911845
END:VEVENT
END:VCALENDAR