
BEGIN:VCALENDAR
VERSION:2.0
PRODID:-//Deutsche Alzheimer Gesellschaft - ECPv6.15.20//NONSGML v1.0//EN
CALSCALE:GREGORIAN
METHOD:PUBLISH
X-ORIGINAL-URL:https://alzheimer-mv.de
X-WR-CALDESC:Veranstaltungen für Deutsche Alzheimer Gesellschaft
REFRESH-INTERVAL;VALUE=DURATION:PT1H
X-Robots-Tag:noindex
X-PUBLISHED-TTL:PT1H
BEGIN:VTIMEZONE
TZID:Europe/Berlin
BEGIN:DAYLIGHT
TZOFFSETFROM:+0100
TZOFFSETTO:+0200
TZNAME:CEST
DTSTART:20220327T010000
END:DAYLIGHT
BEGIN:STANDARD
TZOFFSETFROM:+0200
TZOFFSETTO:+0100
TZNAME:CET
DTSTART:20221030T010000
END:STANDARD
BEGIN:DAYLIGHT
TZOFFSETFROM:+0100
TZOFFSETTO:+0200
TZNAME:CEST
DTSTART:20230326T010000
END:DAYLIGHT
BEGIN:STANDARD
TZOFFSETFROM:+0200
TZOFFSETTO:+0100
TZNAME:CET
DTSTART:20231029T010000
END:STANDARD
BEGIN:DAYLIGHT
TZOFFSETFROM:+0100
TZOFFSETTO:+0200
TZNAME:CEST
DTSTART:20240331T010000
END:DAYLIGHT
BEGIN:STANDARD
TZOFFSETFROM:+0200
TZOFFSETTO:+0100
TZNAME:CET
DTSTART:20241027T010000
END:STANDARD
END:VTIMEZONE
BEGIN:VEVENT
DTSTART;TZID=Europe/Berlin:20230921T190000
DTEND;TZID=Europe/Berlin:20230921T210000
DTSTAMP:20260425T025402
CREATED:20230912T133346Z
LAST-MODIFIED:20230912T133346Z
UID:10003495-1695322800-1695330000@alzheimer-mv.de
SUMMARY:Welt-Alzheimertag in Parchim/ Kino
DESCRIPTION:21.09.2023\, 19:00 Uhr \nKino Movie Star\nFilm „Blauer Himmel Weiße Wolken“
URL:https://alzheimer-mv.de/event/welt-alzheimertag-in-parchim-kino/
LOCATION:Kino Movie Star\, Gneisenaustr. 2\, Parchim\, 19370\, Deutschland
CATEGORIES:Allgemein
ATTACH;FMTTYPE=image/jpeg:https://alzheimer-mv.de/wp-content/uploads/2023/07/2023_WAT_Facebook_1.200_x_630_px.jpg
GEO:53.4207976;11.8402637
X-APPLE-STRUCTURED-LOCATION;VALUE=URI;X-ADDRESS=Kino Movie Star Gneisenaustr. 2 Parchim 19370 Deutschland;X-APPLE-RADIUS=500;X-TITLE=Gneisenaustr. 2:geo:11.8402637,53.4207976
END:VEVENT
BEGIN:VEVENT
DTSTART;TZID=Europe/Berlin:20230922T100000
DTEND;TZID=Europe/Berlin:20230922T120000
DTSTAMP:20260425T025402
CREATED:20230915T142705Z
LAST-MODIFIED:20230915T142705Z
UID:10003502-1695376800-1695384000@alzheimer-mv.de
SUMMARY:Woche der Demenz in Rostock/ Zooführung
DESCRIPTION:Zooführung\nEin besonderes Führungsangebot im Zoo Rostock richtet sich an Menschen mit Demenz und soll ihnen und ihren Angehörigen im oftmals beschwerlichen Alltag einige unbeschwerte Stunden verschaffen und freudige Erinnerungen wecken. \nNur mit Anmeldung unter 0381 2082215.\nKosten 30 EUR inkl. einer Begleitperson
URL:https://alzheimer-mv.de/event/woche-der-demenz-in-rostock-zoofuehrung/2023-09-22/
LOCATION:Rostocker Zoo\, Barnstorfer Ring 1\, Rostock\, Rostock\, 18059\, Deutschland
CATEGORIES:Allgemein
ATTACH;FMTTYPE=image/jpeg:https://alzheimer-mv.de/wp-content/uploads/2023/07/2023_WAT_Facebook_1.200_x_630_px.jpg
ORGANIZER;CN="Rostocker Zoo":MAILTO:https://www.zoo-rostock.de/
GEO:54.0799374;12.0826984
X-APPLE-STRUCTURED-LOCATION;VALUE=URI;X-ADDRESS=Rostocker Zoo Barnstorfer Ring 1 Rostock Rostock 18059 Deutschland;X-APPLE-RADIUS=500;X-TITLE=Barnstorfer Ring 1:geo:12.0826984,54.0799374
END:VEVENT
BEGIN:VEVENT
DTSTART;TZID=Europe/Berlin:20230922T100000
DTEND;TZID=Europe/Berlin:20230922T180000
DTSTAMP:20260425T025402
CREATED:20230915T143821Z
LAST-MODIFIED:20230915T143821Z
UID:10003510-1695376800-1695405600@alzheimer-mv.de
SUMMARY:Woche der Demenz in Rostock/ Stadtbibliothek
DESCRIPTION:Wanderausstellung DEMENSCH\nAlltagssituationen von Menschen mit Demenz in Cartoons von Peter Gaymann \nDas Projekt „DEMENSCH“\, rief Peter Gaymann gemeinsam mit Prof. Dr. Thomas Klie 2013 ins Leben. Ziel dieser Initiative ist es\, mithilfe von Humor Demenz aus der gesellschaftlichen Tabuzone zu holen\, im Alltag Barrieren zu überwinden und Bilder gegen die Krankheit als Schreckgespenst einer modernen\, leistungsorientierten Gesellschaft zu setzen. \nDie Ausstellung findet anlässlich des Welt-Alzheimertag am 21. September und die Woche der Demenz vom 18.-24.09.2023 statt. In diesem Jahr lautet das Motto „Demenz – die Welt steht Kopf“. \nUnser Schaufenster präsentiert ab 23.08.0223 eine Auswahl an Literatur zum Thema Demenz\, die ab dem 27.09.2023 zur Ausleihe zur Verfügung steht.
URL:https://alzheimer-mv.de/event/woche-der-demenz-in-rostock-stadtbibliothek/2023-09-22/
LOCATION:Zentralbibliothek\, Kröpeliner Str. 82\, Rostock\, Rostock\, 18055\, Deutschland
CATEGORIES:Allgemein
ATTACH;FMTTYPE=image/jpeg:https://alzheimer-mv.de/wp-content/uploads/2023/07/2023_WAT_Facebook_1.200_x_630_px.jpg
GEO:54.0885754;12.1367008
X-APPLE-STRUCTURED-LOCATION;VALUE=URI;X-ADDRESS=Zentralbibliothek Kröpeliner Str. 82 Rostock Rostock 18055 Deutschland;X-APPLE-RADIUS=500;X-TITLE=Kröpeliner Str. 82:geo:12.1367008,54.0885754
END:VEVENT
BEGIN:VEVENT
DTSTART;TZID=Europe/Berlin:20230922T140000
DTEND;TZID=Europe/Berlin:20230922T153000
DTSTAMP:20260425T025402
CREATED:20230912T134230Z
LAST-MODIFIED:20230912T134230Z
UID:10003496-1695391200-1695396600@alzheimer-mv.de
SUMMARY:Woche der Demenz in Parchim/ Stadtbibliothek
DESCRIPTION:22.09.2023\, 14:00 bis 15:30 Uhr \nStadtbibliothek Parchim\nMit Gedichten und Liedern durch das Leben\nBekanntes und Neues zum Hören\, Mitsprechen und Mitsingen mit Julia Spiering \nAnmeldung: 03871 6869150
URL:https://alzheimer-mv.de/event/woche-der-demenz-in-parchim-stadtbibliothek/
LOCATION:Stadtbibliothek Parchim\, Putlitzer Str. 56\, Parchim\, 19370\, Deutschland
CATEGORIES:Allgemein
ATTACH;FMTTYPE=image/jpeg:https://alzheimer-mv.de/wp-content/uploads/2023/07/2023_WAT_Facebook_1.200_x_630_px.jpg
GEO:53.4243141;11.8465875
X-APPLE-STRUCTURED-LOCATION;VALUE=URI;X-ADDRESS=Stadtbibliothek Parchim Putlitzer Str. 56 Parchim 19370 Deutschland;X-APPLE-RADIUS=500;X-TITLE=Putlitzer Str. 56:geo:11.8465875,53.4243141
END:VEVENT
BEGIN:VEVENT
DTSTART;TZID=Europe/Berlin:20230923T100000
DTEND;TZID=Europe/Berlin:20230923T180000
DTSTAMP:20260425T025402
CREATED:20230915T143821Z
LAST-MODIFIED:20230915T143821Z
UID:10003511-1695463200-1695492000@alzheimer-mv.de
SUMMARY:Woche der Demenz in Rostock/ Stadtbibliothek
DESCRIPTION:Wanderausstellung DEMENSCH\nAlltagssituationen von Menschen mit Demenz in Cartoons von Peter Gaymann \nDas Projekt „DEMENSCH“\, rief Peter Gaymann gemeinsam mit Prof. Dr. Thomas Klie 2013 ins Leben. Ziel dieser Initiative ist es\, mithilfe von Humor Demenz aus der gesellschaftlichen Tabuzone zu holen\, im Alltag Barrieren zu überwinden und Bilder gegen die Krankheit als Schreckgespenst einer modernen\, leistungsorientierten Gesellschaft zu setzen. \nDie Ausstellung findet anlässlich des Welt-Alzheimertag am 21. September und die Woche der Demenz vom 18.-24.09.2023 statt. In diesem Jahr lautet das Motto „Demenz – die Welt steht Kopf“. \nUnser Schaufenster präsentiert ab 23.08.0223 eine Auswahl an Literatur zum Thema Demenz\, die ab dem 27.09.2023 zur Ausleihe zur Verfügung steht.
URL:https://alzheimer-mv.de/event/woche-der-demenz-in-rostock-stadtbibliothek/2023-09-23/
LOCATION:Zentralbibliothek\, Kröpeliner Str. 82\, Rostock\, Rostock\, 18055\, Deutschland
CATEGORIES:Allgemein
ATTACH;FMTTYPE=image/jpeg:https://alzheimer-mv.de/wp-content/uploads/2023/07/2023_WAT_Facebook_1.200_x_630_px.jpg
GEO:54.0885754;12.1367008
X-APPLE-STRUCTURED-LOCATION;VALUE=URI;X-ADDRESS=Zentralbibliothek Kröpeliner Str. 82 Rostock Rostock 18055 Deutschland;X-APPLE-RADIUS=500;X-TITLE=Kröpeliner Str. 82:geo:12.1367008,54.0885754
END:VEVENT
BEGIN:VEVENT
DTSTART;TZID=Europe/Berlin:20230924T100000
DTEND;TZID=Europe/Berlin:20230924T180000
DTSTAMP:20260425T025402
CREATED:20230915T143821Z
LAST-MODIFIED:20230915T143821Z
UID:10003512-1695549600-1695578400@alzheimer-mv.de
SUMMARY:Woche der Demenz in Rostock/ Stadtbibliothek
DESCRIPTION:Wanderausstellung DEMENSCH\nAlltagssituationen von Menschen mit Demenz in Cartoons von Peter Gaymann \nDas Projekt „DEMENSCH“\, rief Peter Gaymann gemeinsam mit Prof. Dr. Thomas Klie 2013 ins Leben. Ziel dieser Initiative ist es\, mithilfe von Humor Demenz aus der gesellschaftlichen Tabuzone zu holen\, im Alltag Barrieren zu überwinden und Bilder gegen die Krankheit als Schreckgespenst einer modernen\, leistungsorientierten Gesellschaft zu setzen. \nDie Ausstellung findet anlässlich des Welt-Alzheimertag am 21. September und die Woche der Demenz vom 18.-24.09.2023 statt. In diesem Jahr lautet das Motto „Demenz – die Welt steht Kopf“. \nUnser Schaufenster präsentiert ab 23.08.0223 eine Auswahl an Literatur zum Thema Demenz\, die ab dem 27.09.2023 zur Ausleihe zur Verfügung steht.
URL:https://alzheimer-mv.de/event/woche-der-demenz-in-rostock-stadtbibliothek/2023-09-24/
LOCATION:Zentralbibliothek\, Kröpeliner Str. 82\, Rostock\, Rostock\, 18055\, Deutschland
CATEGORIES:Allgemein
ATTACH;FMTTYPE=image/jpeg:https://alzheimer-mv.de/wp-content/uploads/2023/07/2023_WAT_Facebook_1.200_x_630_px.jpg
GEO:54.0885754;12.1367008
X-APPLE-STRUCTURED-LOCATION;VALUE=URI;X-ADDRESS=Zentralbibliothek Kröpeliner Str. 82 Rostock Rostock 18055 Deutschland;X-APPLE-RADIUS=500;X-TITLE=Kröpeliner Str. 82:geo:12.1367008,54.0885754
END:VEVENT
BEGIN:VEVENT
DTSTART;TZID=Europe/Berlin:20230925T100000
DTEND;TZID=Europe/Berlin:20230925T180000
DTSTAMP:20260425T025402
CREATED:20230915T143821Z
LAST-MODIFIED:20230915T143821Z
UID:10003513-1695636000-1695664800@alzheimer-mv.de
SUMMARY:Woche der Demenz in Rostock/ Stadtbibliothek
DESCRIPTION:Wanderausstellung DEMENSCH\nAlltagssituationen von Menschen mit Demenz in Cartoons von Peter Gaymann \nDas Projekt „DEMENSCH“\, rief Peter Gaymann gemeinsam mit Prof. Dr. Thomas Klie 2013 ins Leben. Ziel dieser Initiative ist es\, mithilfe von Humor Demenz aus der gesellschaftlichen Tabuzone zu holen\, im Alltag Barrieren zu überwinden und Bilder gegen die Krankheit als Schreckgespenst einer modernen\, leistungsorientierten Gesellschaft zu setzen. \nDie Ausstellung findet anlässlich des Welt-Alzheimertag am 21. September und die Woche der Demenz vom 18.-24.09.2023 statt. In diesem Jahr lautet das Motto „Demenz – die Welt steht Kopf“. \nUnser Schaufenster präsentiert ab 23.08.0223 eine Auswahl an Literatur zum Thema Demenz\, die ab dem 27.09.2023 zur Ausleihe zur Verfügung steht.
URL:https://alzheimer-mv.de/event/woche-der-demenz-in-rostock-stadtbibliothek/2023-09-25/
LOCATION:Zentralbibliothek\, Kröpeliner Str. 82\, Rostock\, Rostock\, 18055\, Deutschland
CATEGORIES:Allgemein
ATTACH;FMTTYPE=image/jpeg:https://alzheimer-mv.de/wp-content/uploads/2023/07/2023_WAT_Facebook_1.200_x_630_px.jpg
GEO:54.0885754;12.1367008
X-APPLE-STRUCTURED-LOCATION;VALUE=URI;X-ADDRESS=Zentralbibliothek Kröpeliner Str. 82 Rostock Rostock 18055 Deutschland;X-APPLE-RADIUS=500;X-TITLE=Kröpeliner Str. 82:geo:12.1367008,54.0885754
END:VEVENT
BEGIN:VEVENT
DTSTART;TZID=Europe/Berlin:20230926T100000
DTEND;TZID=Europe/Berlin:20230926T180000
DTSTAMP:20260425T025402
CREATED:20230915T143821Z
LAST-MODIFIED:20230915T143821Z
UID:10003514-1695722400-1695751200@alzheimer-mv.de
SUMMARY:Woche der Demenz in Rostock/ Stadtbibliothek
DESCRIPTION:Wanderausstellung DEMENSCH\nAlltagssituationen von Menschen mit Demenz in Cartoons von Peter Gaymann \nDas Projekt „DEMENSCH“\, rief Peter Gaymann gemeinsam mit Prof. Dr. Thomas Klie 2013 ins Leben. Ziel dieser Initiative ist es\, mithilfe von Humor Demenz aus der gesellschaftlichen Tabuzone zu holen\, im Alltag Barrieren zu überwinden und Bilder gegen die Krankheit als Schreckgespenst einer modernen\, leistungsorientierten Gesellschaft zu setzen. \nDie Ausstellung findet anlässlich des Welt-Alzheimertag am 21. September und die Woche der Demenz vom 18.-24.09.2023 statt. In diesem Jahr lautet das Motto „Demenz – die Welt steht Kopf“. \nUnser Schaufenster präsentiert ab 23.08.0223 eine Auswahl an Literatur zum Thema Demenz\, die ab dem 27.09.2023 zur Ausleihe zur Verfügung steht.
URL:https://alzheimer-mv.de/event/woche-der-demenz-in-rostock-stadtbibliothek/2023-09-26/
LOCATION:Zentralbibliothek\, Kröpeliner Str. 82\, Rostock\, Rostock\, 18055\, Deutschland
CATEGORIES:Allgemein
ATTACH;FMTTYPE=image/jpeg:https://alzheimer-mv.de/wp-content/uploads/2023/07/2023_WAT_Facebook_1.200_x_630_px.jpg
GEO:54.0885754;12.1367008
X-APPLE-STRUCTURED-LOCATION;VALUE=URI;X-ADDRESS=Zentralbibliothek Kröpeliner Str. 82 Rostock Rostock 18055 Deutschland;X-APPLE-RADIUS=500;X-TITLE=Kröpeliner Str. 82:geo:12.1367008,54.0885754
END:VEVENT
BEGIN:VEVENT
DTSTART;TZID=Europe/Berlin:20230927T100000
DTEND;TZID=Europe/Berlin:20230927T180000
DTSTAMP:20260425T025402
CREATED:20230915T143821Z
LAST-MODIFIED:20230915T143821Z
UID:10003515-1695808800-1695837600@alzheimer-mv.de
SUMMARY:Woche der Demenz in Rostock/ Stadtbibliothek
DESCRIPTION:Wanderausstellung DEMENSCH\nAlltagssituationen von Menschen mit Demenz in Cartoons von Peter Gaymann \nDas Projekt „DEMENSCH“\, rief Peter Gaymann gemeinsam mit Prof. Dr. Thomas Klie 2013 ins Leben. Ziel dieser Initiative ist es\, mithilfe von Humor Demenz aus der gesellschaftlichen Tabuzone zu holen\, im Alltag Barrieren zu überwinden und Bilder gegen die Krankheit als Schreckgespenst einer modernen\, leistungsorientierten Gesellschaft zu setzen. \nDie Ausstellung findet anlässlich des Welt-Alzheimertag am 21. September und die Woche der Demenz vom 18.-24.09.2023 statt. In diesem Jahr lautet das Motto „Demenz – die Welt steht Kopf“. \nUnser Schaufenster präsentiert ab 23.08.0223 eine Auswahl an Literatur zum Thema Demenz\, die ab dem 27.09.2023 zur Ausleihe zur Verfügung steht.
URL:https://alzheimer-mv.de/event/woche-der-demenz-in-rostock-stadtbibliothek/2023-09-27/
LOCATION:Zentralbibliothek\, Kröpeliner Str. 82\, Rostock\, Rostock\, 18055\, Deutschland
CATEGORIES:Allgemein
ATTACH;FMTTYPE=image/jpeg:https://alzheimer-mv.de/wp-content/uploads/2023/07/2023_WAT_Facebook_1.200_x_630_px.jpg
GEO:54.0885754;12.1367008
X-APPLE-STRUCTURED-LOCATION;VALUE=URI;X-ADDRESS=Zentralbibliothek Kröpeliner Str. 82 Rostock Rostock 18055 Deutschland;X-APPLE-RADIUS=500;X-TITLE=Kröpeliner Str. 82:geo:12.1367008,54.0885754
END:VEVENT
BEGIN:VEVENT
DTSTART;TZID=Europe/Berlin:20230928T100000
DTEND;TZID=Europe/Berlin:20230928T180000
DTSTAMP:20260425T025402
CREATED:20230915T143821Z
LAST-MODIFIED:20230915T143821Z
UID:10003516-1695895200-1695924000@alzheimer-mv.de
SUMMARY:Woche der Demenz in Rostock/ Stadtbibliothek
DESCRIPTION:Wanderausstellung DEMENSCH\nAlltagssituationen von Menschen mit Demenz in Cartoons von Peter Gaymann \nDas Projekt „DEMENSCH“\, rief Peter Gaymann gemeinsam mit Prof. Dr. Thomas Klie 2013 ins Leben. Ziel dieser Initiative ist es\, mithilfe von Humor Demenz aus der gesellschaftlichen Tabuzone zu holen\, im Alltag Barrieren zu überwinden und Bilder gegen die Krankheit als Schreckgespenst einer modernen\, leistungsorientierten Gesellschaft zu setzen. \nDie Ausstellung findet anlässlich des Welt-Alzheimertag am 21. September und die Woche der Demenz vom 18.-24.09.2023 statt. In diesem Jahr lautet das Motto „Demenz – die Welt steht Kopf“. \nUnser Schaufenster präsentiert ab 23.08.0223 eine Auswahl an Literatur zum Thema Demenz\, die ab dem 27.09.2023 zur Ausleihe zur Verfügung steht.
URL:https://alzheimer-mv.de/event/woche-der-demenz-in-rostock-stadtbibliothek/2023-09-28/
LOCATION:Zentralbibliothek\, Kröpeliner Str. 82\, Rostock\, Rostock\, 18055\, Deutschland
CATEGORIES:Allgemein
ATTACH;FMTTYPE=image/jpeg:https://alzheimer-mv.de/wp-content/uploads/2023/07/2023_WAT_Facebook_1.200_x_630_px.jpg
GEO:54.0885754;12.1367008
X-APPLE-STRUCTURED-LOCATION;VALUE=URI;X-ADDRESS=Zentralbibliothek Kröpeliner Str. 82 Rostock Rostock 18055 Deutschland;X-APPLE-RADIUS=500;X-TITLE=Kröpeliner Str. 82:geo:12.1367008,54.0885754
END:VEVENT
BEGIN:VEVENT
DTSTART;TZID=Europe/Berlin:20230929T100000
DTEND;TZID=Europe/Berlin:20230929T180000
DTSTAMP:20260425T025402
CREATED:20230915T143821Z
LAST-MODIFIED:20230915T143821Z
UID:10003517-1695981600-1696010400@alzheimer-mv.de
SUMMARY:Woche der Demenz in Rostock/ Stadtbibliothek
DESCRIPTION:Wanderausstellung DEMENSCH\nAlltagssituationen von Menschen mit Demenz in Cartoons von Peter Gaymann \nDas Projekt „DEMENSCH“\, rief Peter Gaymann gemeinsam mit Prof. Dr. Thomas Klie 2013 ins Leben. Ziel dieser Initiative ist es\, mithilfe von Humor Demenz aus der gesellschaftlichen Tabuzone zu holen\, im Alltag Barrieren zu überwinden und Bilder gegen die Krankheit als Schreckgespenst einer modernen\, leistungsorientierten Gesellschaft zu setzen. \nDie Ausstellung findet anlässlich des Welt-Alzheimertag am 21. September und die Woche der Demenz vom 18.-24.09.2023 statt. In diesem Jahr lautet das Motto „Demenz – die Welt steht Kopf“. \nUnser Schaufenster präsentiert ab 23.08.0223 eine Auswahl an Literatur zum Thema Demenz\, die ab dem 27.09.2023 zur Ausleihe zur Verfügung steht.
URL:https://alzheimer-mv.de/event/woche-der-demenz-in-rostock-stadtbibliothek/2023-09-29/
LOCATION:Zentralbibliothek\, Kröpeliner Str. 82\, Rostock\, Rostock\, 18055\, Deutschland
CATEGORIES:Allgemein
ATTACH;FMTTYPE=image/jpeg:https://alzheimer-mv.de/wp-content/uploads/2023/07/2023_WAT_Facebook_1.200_x_630_px.jpg
GEO:54.0885754;12.1367008
X-APPLE-STRUCTURED-LOCATION;VALUE=URI;X-ADDRESS=Zentralbibliothek Kröpeliner Str. 82 Rostock Rostock 18055 Deutschland;X-APPLE-RADIUS=500;X-TITLE=Kröpeliner Str. 82:geo:12.1367008,54.0885754
END:VEVENT
BEGIN:VEVENT
DTSTART;TZID=Europe/Berlin:20230930T100000
DTEND;TZID=Europe/Berlin:20230930T180000
DTSTAMP:20260425T025402
CREATED:20230915T143821Z
LAST-MODIFIED:20230915T143821Z
UID:10003518-1696068000-1696096800@alzheimer-mv.de
SUMMARY:Woche der Demenz in Rostock/ Stadtbibliothek
DESCRIPTION:Wanderausstellung DEMENSCH\nAlltagssituationen von Menschen mit Demenz in Cartoons von Peter Gaymann \nDas Projekt „DEMENSCH“\, rief Peter Gaymann gemeinsam mit Prof. Dr. Thomas Klie 2013 ins Leben. Ziel dieser Initiative ist es\, mithilfe von Humor Demenz aus der gesellschaftlichen Tabuzone zu holen\, im Alltag Barrieren zu überwinden und Bilder gegen die Krankheit als Schreckgespenst einer modernen\, leistungsorientierten Gesellschaft zu setzen. \nDie Ausstellung findet anlässlich des Welt-Alzheimertag am 21. September und die Woche der Demenz vom 18.-24.09.2023 statt. In diesem Jahr lautet das Motto „Demenz – die Welt steht Kopf“. \nUnser Schaufenster präsentiert ab 23.08.0223 eine Auswahl an Literatur zum Thema Demenz\, die ab dem 27.09.2023 zur Ausleihe zur Verfügung steht.
URL:https://alzheimer-mv.de/event/woche-der-demenz-in-rostock-stadtbibliothek/2023-09-30/
LOCATION:Zentralbibliothek\, Kröpeliner Str. 82\, Rostock\, Rostock\, 18055\, Deutschland
CATEGORIES:Allgemein
ATTACH;FMTTYPE=image/jpeg:https://alzheimer-mv.de/wp-content/uploads/2023/07/2023_WAT_Facebook_1.200_x_630_px.jpg
GEO:54.0885754;12.1367008
X-APPLE-STRUCTURED-LOCATION;VALUE=URI;X-ADDRESS=Zentralbibliothek Kröpeliner Str. 82 Rostock Rostock 18055 Deutschland;X-APPLE-RADIUS=500;X-TITLE=Kröpeliner Str. 82:geo:12.1367008,54.0885754
END:VEVENT
END:VCALENDAR