
BEGIN:VCALENDAR
VERSION:2.0
PRODID:-//Deutsche Alzheimer Gesellschaft - ECPv6.15.20//NONSGML v1.0//EN
CALSCALE:GREGORIAN
METHOD:PUBLISH
X-WR-CALNAME:Deutsche Alzheimer Gesellschaft
X-ORIGINAL-URL:https://alzheimer-mv.de
X-WR-CALDESC:Veranstaltungen für Deutsche Alzheimer Gesellschaft
REFRESH-INTERVAL;VALUE=DURATION:PT1H
X-Robots-Tag:noindex
X-PUBLISHED-TTL:PT1H
BEGIN:VTIMEZONE
TZID:Europe/Berlin
BEGIN:DAYLIGHT
TZOFFSETFROM:+0100
TZOFFSETTO:+0200
TZNAME:CEST
DTSTART:20220327T010000
END:DAYLIGHT
BEGIN:STANDARD
TZOFFSETFROM:+0200
TZOFFSETTO:+0100
TZNAME:CET
DTSTART:20221030T010000
END:STANDARD
BEGIN:DAYLIGHT
TZOFFSETFROM:+0100
TZOFFSETTO:+0200
TZNAME:CEST
DTSTART:20230326T010000
END:DAYLIGHT
BEGIN:STANDARD
TZOFFSETFROM:+0200
TZOFFSETTO:+0100
TZNAME:CET
DTSTART:20231029T010000
END:STANDARD
BEGIN:DAYLIGHT
TZOFFSETFROM:+0100
TZOFFSETTO:+0200
TZNAME:CEST
DTSTART:20240331T010000
END:DAYLIGHT
BEGIN:STANDARD
TZOFFSETFROM:+0200
TZOFFSETTO:+0100
TZNAME:CET
DTSTART:20241027T010000
END:STANDARD
END:VTIMEZONE
BEGIN:VEVENT
DTSTART;TZID=Europe/Berlin:20231201T160000
DTEND;TZID=Europe/Berlin:20231201T180000
DTSTAMP:20260421T073132
CREATED:20230810T135230Z
LAST-MODIFIED:20230810T135908Z
UID:10003394-1701446400-1701453600@alzheimer-mv.de
SUMMARY:Angehörigenschulung „Leben mit Demenz“ (Nr. 48/23) in Rostock – Lütten Klein
DESCRIPTION:Am Freitag\, den 13.10.2023\, beginnt um 16:00 Uhr bei den Alltags-Engeln in Lütten-Klein\, Ahlbecker Str. 4\, eine Schulung für Angehörige von Menschen mit dementiellen Veränderungen. In der Schulungsveranstaltung wird Wissenswertes über die Krankheit und ihren Verlauf sowie Therapiemöglichkeiten vermittelt\, Aspekte zu Kommunikation und Umgang mit dem oder der Erkrankten\, aber auch Leistungen der Pflegekassen\, rechtliche Fragen und Entlastungsmöglichkeiten für die Angehörigen werden besprochen. \nSchulungsleiterin dieser Schulungsreihe ist Frau Kerstin Paprzik. Sie ist examinierte Kinderkrankenschwester sowie gerontopsychiatrische Fachkraft und verfügt über das Weiterbildungszertifikat „Palliative Care“. Sie kann auf über 15 Jahre Berufserfahrung mit Menschen mit Demenz zurückblicken und steht Ihnen mit einem breiten Wissens- und Erfahrungsschatz zur Seite. \nDie Schulung umfasst 8 Einheiten\, die jeweils freitags stattfinden und ca. 2 Stunden dauern. Die Teilnahme ist kostenlos.\nZur Planung bitten wir um vorherige Anmeldung unter 0381 / 208 754 01 oder per E-Mail unter angehoerigenschulung@alzheimer-mv.de. \nDie Schulungsreihe für Angehörige von Menschen mit Demenz wird organisiert von der Deutschen Alzheimer Gesellschaft Landesverband M-V und dem Deutschen Zentrums für Neurodegenerative Erkrankungen e.V. Standort Rostock/Greifswald\, unterstützt durch die BARMER. \nAlle Informationen über die Themen der Schulung finden Sie hier im Flyer AGS 48/23.
URL:https://alzheimer-mv.de/event/angehoerigenschulung-leben-mit-demenz-nr-48-23-in-rostock-luetten-klein/2023-12-01/
LOCATION:Tagestreff Rostocker Alltagsengel 1.OG\, Ahlbecker Str. 4\, Rostock\, 18107
CATEGORIES:Angehörigenschulung
ATTACH;FMTTYPE=image/png:https://alzheimer-mv.de/download/24123/?tmstv=1776749492&v=24124
GEO:54.142719;12.048571
X-APPLE-STRUCTURED-LOCATION;VALUE=URI;X-ADDRESS=Tagestreff Rostocker Alltagsengel 1.OG Ahlbecker Str. 4 Rostock 18107;X-APPLE-RADIUS=500;X-TITLE=Ahlbecker Str. 4:geo:12.048571,54.142719
END:VEVENT
BEGIN:VEVENT
DTSTART;TZID=Europe/Berlin:20231205T100000
DTEND;TZID=Europe/Berlin:20231205T120000
DTSTAMP:20260421T073132
CREATED:20230612T082520Z
LAST-MODIFIED:20230612T084037Z
UID:10003324-1701770400-1701777600@alzheimer-mv.de
SUMMARY:Treffen für Zu- und Angehörige von Menschen mit Demenz in Ludwigslust
DESCRIPTION:Der Verein Volkssolidarität Südwestmecklenburg bietet ein regelmässigen Termin für Zu- und Angehörigen von Menschen mit Demenz in Ludwigslust an.\nDas Treffen findet immer im CampHus\, Bürgermeister-Brandenburg- Str. 20 in 19288 Ludwigslust statt. \nUm eine vorherige Anmeldung unter maria.puhlmann@vs-swm.de oder telefonisch unter 03874 66 99 034 wird gebeten.
URL:https://alzheimer-mv.de/event/treffen-fuer-zu-und-angehoerige-von-menschen-mit-demenz-in-ludwigslust/2023-12-05/
LOCATION:Volkssolidarität CampHus\, Bürgermeister-Brandenburg-Straße 20\, Ludwigslust\, 19288
CATEGORIES:Angehörigengruppe
ORGANIZER;CN="DAlzG LV M-V / Maria Puhlmann":MAILTO:Maria.Puhlmann@vs-swm.de
GEO:53.330515;11.494279
X-APPLE-STRUCTURED-LOCATION;VALUE=URI;X-ADDRESS=Volkssolidarität CampHus Bürgermeister-Brandenburg-Straße 20 Ludwigslust 19288;X-APPLE-RADIUS=500;X-TITLE=Bürgermeister-Brandenburg-Straße 20:geo:11.494279,53.330515
END:VEVENT
BEGIN:VEVENT
DTSTART;TZID=Europe/Berlin:20231207T163000
DTEND;TZID=Europe/Berlin:20231207T203000
DTSTAMP:20260421T073132
CREATED:20231011T122625Z
LAST-MODIFIED:20231011T122803Z
UID:10003771-1701966600-1701981000@alzheimer-mv.de
SUMMARY:Neue Angehörigenschulung "Leben mit Demenz" (51/23) in Neubrandenburg
DESCRIPTION:Am Donnerstag\, den 30.11.2023\, beginnt um 16:30 Uhr in der Altenhilfezentrum Haus auf dem Lindenberg\, Kirschenallee 55 in Neubrandenburg\, die diesjährig letzte Schulungsreihe für Angehörige von Menschen mit dementiellen Veränderungen. In der Schulungsveranstaltung wird Wissenswertes über die Krankheit und ihren Verlauf sowie Therapiemöglichkeiten vermittelt\, Aspekte zu Kommunikation und Umgang mit dem oder der Erkrankten\, aber auch Leistungen der Pflegekassen\, rechtliche Fragen und Entlastungsmöglichkeiten für die Angehörigen werden besprochen. \nSchulungsleiter ist Herr Frank Schäfer. Er ist Dozent\, Demenz-Partner und hat erfolgreich die Qualifizierung zum GeriCoach abgeschlossen. Er steht Ihnen mit einem breiten Wissens- und Erfahrungsschatz zur Seite. \nDie Schulungsreihe umfasst 8 Module\, die an 4 Terminen vorgestellt werden. Die Teilnahme ist kostenlos.\nZur Planung bitten wir um vorherige Anmeldung unter Telefon 0381 208 754 01 oder per E-Mail unter angehoerigenschulung@alzheimer-mv.de.\nDie Schulungsreihe für Angehörige von Menschen mit Demenz wird organisiert von der Deutschen Alzheimer Gesellschaft Landesverband M-V und dem Deutschen Zentrum für Neurodegenerative Erkrankungen e.V. Standort Rostock/Greifswald\, unterstützt durch die Kaufmännische Krankenkrankenkasse KKH. \nAlle Informationen über die Themen der Schulung finden Sie hier im Flyer AGS 51/23.
URL:https://alzheimer-mv.de/event/neue-angehoerigenschulung-leben-mit-demenz-51-23-in-neubrandenburg/2023-12-07/
LOCATION:Altenhilfezentrum Haus auf dem Lindenberg\, Kirschenallee 55\, Neubrandenburg\, 17033
CATEGORIES:Angehörigenschulung
ATTACH;FMTTYPE=image/png:https://alzheimer-mv.de/download/24123/?tmstv=1776749492&v=24124
GEO:53.5296183;13.2600029
X-APPLE-STRUCTURED-LOCATION;VALUE=URI;X-ADDRESS=Altenhilfezentrum Haus auf dem Lindenberg Kirschenallee 55 Neubrandenburg 17033;X-APPLE-RADIUS=500;X-TITLE=Kirschenallee 55:geo:13.2600029,53.5296183
END:VEVENT
BEGIN:VEVENT
DTSTART;TZID=Europe/Berlin:20231214T163000
DTEND;TZID=Europe/Berlin:20231214T203000
DTSTAMP:20260421T073132
CREATED:20231011T122625Z
LAST-MODIFIED:20231011T122803Z
UID:10003772-1702571400-1702585800@alzheimer-mv.de
SUMMARY:Neue Angehörigenschulung "Leben mit Demenz" (51/23) in Neubrandenburg
DESCRIPTION:Am Donnerstag\, den 30.11.2023\, beginnt um 16:30 Uhr in der Altenhilfezentrum Haus auf dem Lindenberg\, Kirschenallee 55 in Neubrandenburg\, die diesjährig letzte Schulungsreihe für Angehörige von Menschen mit dementiellen Veränderungen. In der Schulungsveranstaltung wird Wissenswertes über die Krankheit und ihren Verlauf sowie Therapiemöglichkeiten vermittelt\, Aspekte zu Kommunikation und Umgang mit dem oder der Erkrankten\, aber auch Leistungen der Pflegekassen\, rechtliche Fragen und Entlastungsmöglichkeiten für die Angehörigen werden besprochen. \nSchulungsleiter ist Herr Frank Schäfer. Er ist Dozent\, Demenz-Partner und hat erfolgreich die Qualifizierung zum GeriCoach abgeschlossen. Er steht Ihnen mit einem breiten Wissens- und Erfahrungsschatz zur Seite. \nDie Schulungsreihe umfasst 8 Module\, die an 4 Terminen vorgestellt werden. Die Teilnahme ist kostenlos.\nZur Planung bitten wir um vorherige Anmeldung unter Telefon 0381 208 754 01 oder per E-Mail unter angehoerigenschulung@alzheimer-mv.de.\nDie Schulungsreihe für Angehörige von Menschen mit Demenz wird organisiert von der Deutschen Alzheimer Gesellschaft Landesverband M-V und dem Deutschen Zentrum für Neurodegenerative Erkrankungen e.V. Standort Rostock/Greifswald\, unterstützt durch die Kaufmännische Krankenkrankenkasse KKH. \nAlle Informationen über die Themen der Schulung finden Sie hier im Flyer AGS 51/23.
URL:https://alzheimer-mv.de/event/neue-angehoerigenschulung-leben-mit-demenz-51-23-in-neubrandenburg/2023-12-14/
LOCATION:Altenhilfezentrum Haus auf dem Lindenberg\, Kirschenallee 55\, Neubrandenburg\, 17033
CATEGORIES:Angehörigenschulung
ATTACH;FMTTYPE=image/png:https://alzheimer-mv.de/download/24123/?tmstv=1776749492&v=24124
GEO:53.5296183;13.2600029
X-APPLE-STRUCTURED-LOCATION;VALUE=URI;X-ADDRESS=Altenhilfezentrum Haus auf dem Lindenberg Kirschenallee 55 Neubrandenburg 17033;X-APPLE-RADIUS=500;X-TITLE=Kirschenallee 55:geo:13.2600029,53.5296183
END:VEVENT
BEGIN:VEVENT
DTSTART;TZID=Europe/Berlin:20231221T163000
DTEND;TZID=Europe/Berlin:20231221T203000
DTSTAMP:20260421T073132
CREATED:20231011T122625Z
LAST-MODIFIED:20231011T122803Z
UID:10003773-1703176200-1703190600@alzheimer-mv.de
SUMMARY:Neue Angehörigenschulung "Leben mit Demenz" (51/23) in Neubrandenburg
DESCRIPTION:Am Donnerstag\, den 30.11.2023\, beginnt um 16:30 Uhr in der Altenhilfezentrum Haus auf dem Lindenberg\, Kirschenallee 55 in Neubrandenburg\, die diesjährig letzte Schulungsreihe für Angehörige von Menschen mit dementiellen Veränderungen. In der Schulungsveranstaltung wird Wissenswertes über die Krankheit und ihren Verlauf sowie Therapiemöglichkeiten vermittelt\, Aspekte zu Kommunikation und Umgang mit dem oder der Erkrankten\, aber auch Leistungen der Pflegekassen\, rechtliche Fragen und Entlastungsmöglichkeiten für die Angehörigen werden besprochen. \nSchulungsleiter ist Herr Frank Schäfer. Er ist Dozent\, Demenz-Partner und hat erfolgreich die Qualifizierung zum GeriCoach abgeschlossen. Er steht Ihnen mit einem breiten Wissens- und Erfahrungsschatz zur Seite. \nDie Schulungsreihe umfasst 8 Module\, die an 4 Terminen vorgestellt werden. Die Teilnahme ist kostenlos.\nZur Planung bitten wir um vorherige Anmeldung unter Telefon 0381 208 754 01 oder per E-Mail unter angehoerigenschulung@alzheimer-mv.de.\nDie Schulungsreihe für Angehörige von Menschen mit Demenz wird organisiert von der Deutschen Alzheimer Gesellschaft Landesverband M-V und dem Deutschen Zentrum für Neurodegenerative Erkrankungen e.V. Standort Rostock/Greifswald\, unterstützt durch die Kaufmännische Krankenkrankenkasse KKH. \nAlle Informationen über die Themen der Schulung finden Sie hier im Flyer AGS 51/23.
URL:https://alzheimer-mv.de/event/neue-angehoerigenschulung-leben-mit-demenz-51-23-in-neubrandenburg/2023-12-21/
LOCATION:Altenhilfezentrum Haus auf dem Lindenberg\, Kirschenallee 55\, Neubrandenburg\, 17033
CATEGORIES:Angehörigenschulung
ATTACH;FMTTYPE=image/png:https://alzheimer-mv.de/download/24123/?tmstv=1776749492&v=24124
GEO:53.5296183;13.2600029
X-APPLE-STRUCTURED-LOCATION;VALUE=URI;X-ADDRESS=Altenhilfezentrum Haus auf dem Lindenberg Kirschenallee 55 Neubrandenburg 17033;X-APPLE-RADIUS=500;X-TITLE=Kirschenallee 55:geo:13.2600029,53.5296183
END:VEVENT
END:VCALENDAR