
BEGIN:VCALENDAR
VERSION:2.0
PRODID:-//Deutsche Alzheimer Gesellschaft - ECPv6.15.20//NONSGML v1.0//EN
CALSCALE:GREGORIAN
METHOD:PUBLISH
X-ORIGINAL-URL:https://alzheimer-mv.de
X-WR-CALDESC:Veranstaltungen für Deutsche Alzheimer Gesellschaft
REFRESH-INTERVAL;VALUE=DURATION:PT1H
X-Robots-Tag:noindex
X-PUBLISHED-TTL:PT1H
BEGIN:VTIMEZONE
TZID:Europe/Berlin
BEGIN:DAYLIGHT
TZOFFSETFROM:+0100
TZOFFSETTO:+0200
TZNAME:CEST
DTSTART:20220327T010000
END:DAYLIGHT
BEGIN:STANDARD
TZOFFSETFROM:+0200
TZOFFSETTO:+0100
TZNAME:CET
DTSTART:20221030T010000
END:STANDARD
BEGIN:DAYLIGHT
TZOFFSETFROM:+0100
TZOFFSETTO:+0200
TZNAME:CEST
DTSTART:20230326T010000
END:DAYLIGHT
BEGIN:STANDARD
TZOFFSETFROM:+0200
TZOFFSETTO:+0100
TZNAME:CET
DTSTART:20231029T010000
END:STANDARD
BEGIN:DAYLIGHT
TZOFFSETFROM:+0100
TZOFFSETTO:+0200
TZNAME:CEST
DTSTART:20240331T010000
END:DAYLIGHT
BEGIN:STANDARD
TZOFFSETFROM:+0200
TZOFFSETTO:+0100
TZNAME:CET
DTSTART:20241027T010000
END:STANDARD
BEGIN:DAYLIGHT
TZOFFSETFROM:+0100
TZOFFSETTO:+0200
TZNAME:CEST
DTSTART:20250330T010000
END:DAYLIGHT
BEGIN:STANDARD
TZOFFSETFROM:+0200
TZOFFSETTO:+0100
TZNAME:CET
DTSTART:20251026T010000
END:STANDARD
END:VTIMEZONE
BEGIN:VEVENT
DTSTART;TZID=Europe/Berlin:20230415T093000
DTEND;TZID=Europe/Berlin:20230415T140000
DTSTAMP:20260422T031554
CREATED:20230322T150747Z
LAST-MODIFIED:20230417T064318Z
UID:10003209-1681551000-1681567200@alzheimer-mv.de
SUMMARY:Neue Angehörigenschulung "Leben mit Demenz" (23/23) in der Evangelischen Pflegeeinrichtung "Kurt Winkelmann" in Neustrelitz
DESCRIPTION:Am Samstag\, den 15.04.2023\, beginnt um 9.30 Uhr in der Evangelischen Pflegeeinrichtung „Kurt Winkelmann“ in Neustrelitz\, Tiergartenstraße 38\, 17235 Neustrelitz\, eine Schulung für Angehörige von Menschen mit dementiellen Veränderungen. In der Schulungsveranstaltung wird wissenswertes über die Krankheit und ihren Verlauf sowie Therapiemöglichkeiten vermittelt\, Aspekte zu Kommunikation und Umgang mit dem oder der Erkrankten\, aber auch Leistungen der Pflegekassen\, rechtliche Fragen und Entlastungsmöglichkeiten für die Angehörigen werden besprochen. \nSchulungsleiterin dieser Schulungsreihe ist Frau Juliane Burbaum. Sie ist Musikpädagogin\, hat die Qualifizierung als GeriCoach erfolgreich absolviert und verfügt über das Weiterbildungszertifikat „Demenz-Partner“. \nDie Schulung umfasst 4 Einheiten\, die jeweils samstags vormittags und sonntags nachmittags stattfinden und jeweils 4 Stunden dauern.\nDie Teilnahme ist kostenlos.\nZur Planung bitten wir um vorherige Anmeldung unter 0381 / 208 754 01 oder per E-Mail unter angehoerigenschulung@alzheimer-mv.de. \nDie Schulungsreihe für Angehörige von Menschen mit Demenz wird organisiert von der Deutschen Alzheimer Gesellschaft Landesverband M-V und dem Deutschen Zentrums für Neurodegenerative Erkrankungen e.V. Standort Rostock/Greifswald\, unterstützt durch die Kaufmännische Krankenkasse (KKH). \nAlle Informationen über die Themen der Schulung finden Sie hier im Flyer AGS 23/23.
URL:https://alzheimer-mv.de/event/neue-angehoerigenschulung-leben-mit-demenz-23-23-in-der-evangelischen-pflegeeinrichtung-kurt-winkelmann-in-neustrelitz/2023-04-15/
LOCATION:Evangelische Pflegeeinrichtung „Kurt Winkelmann“ Neustrelitz\, Tiergartenstraße 38\, Neustrelitz\, 17235
CATEGORIES:Angehörigenschulung
ATTACH;FMTTYPE=image/png:https://alzheimer-mv.de/download/24123/?tmstv=1776820554&v=24124
GEO:53.3584977;13.0680978
X-APPLE-STRUCTURED-LOCATION;VALUE=URI;X-ADDRESS=Evangelische Pflegeeinrichtung „Kurt Winkelmann“ Neustrelitz Tiergartenstraße 38 Neustrelitz 17235;X-APPLE-RADIUS=500;X-TITLE=Tiergartenstraße 38:geo:13.0680978,53.3584977
END:VEVENT
BEGIN:VEVENT
DTSTART;TZID=Europe/Berlin:20230416T150000
DTEND;TZID=Europe/Berlin:20230416T193000
DTSTAMP:20260422T031554
CREATED:20230322T150747Z
LAST-MODIFIED:20230417T064318Z
UID:10003210-1681657200-1681673400@alzheimer-mv.de
SUMMARY:Neue Angehörigenschulung "Leben mit Demenz" (23/23) in der Evangelischen Pflegeeinrichtung "Kurt Winkelmann" in Neustrelitz
DESCRIPTION:Am Samstag\, den 15.04.2023\, beginnt um 9.30 Uhr in der Evangelischen Pflegeeinrichtung „Kurt Winkelmann“ in Neustrelitz\, Tiergartenstraße 38\, 17235 Neustrelitz\, eine Schulung für Angehörige von Menschen mit dementiellen Veränderungen. In der Schulungsveranstaltung wird wissenswertes über die Krankheit und ihren Verlauf sowie Therapiemöglichkeiten vermittelt\, Aspekte zu Kommunikation und Umgang mit dem oder der Erkrankten\, aber auch Leistungen der Pflegekassen\, rechtliche Fragen und Entlastungsmöglichkeiten für die Angehörigen werden besprochen. \nSchulungsleiterin dieser Schulungsreihe ist Frau Juliane Burbaum. Sie ist Musikpädagogin\, hat die Qualifizierung als GeriCoach erfolgreich absolviert und verfügt über das Weiterbildungszertifikat „Demenz-Partner“. \nDie Schulung umfasst 4 Einheiten\, die jeweils samstags vormittags und sonntags nachmittags stattfinden und jeweils 4 Stunden dauern.\nDie Teilnahme ist kostenlos.\nZur Planung bitten wir um vorherige Anmeldung unter 0381 / 208 754 01 oder per E-Mail unter angehoerigenschulung@alzheimer-mv.de. \nDie Schulungsreihe für Angehörige von Menschen mit Demenz wird organisiert von der Deutschen Alzheimer Gesellschaft Landesverband M-V und dem Deutschen Zentrums für Neurodegenerative Erkrankungen e.V. Standort Rostock/Greifswald\, unterstützt durch die Kaufmännische Krankenkasse (KKH). \nAlle Informationen über die Themen der Schulung finden Sie hier im Flyer AGS 23/23.
URL:https://alzheimer-mv.de/event/neue-angehoerigenschulung-leben-mit-demenz-23-23-in-der-evangelischen-pflegeeinrichtung-kurt-winkelmann-in-neustrelitz/2023-04-16/
LOCATION:Evangelische Pflegeeinrichtung „Kurt Winkelmann“ Neustrelitz\, Tiergartenstraße 38\, Neustrelitz\, 17235
CATEGORIES:Angehörigenschulung
ATTACH;FMTTYPE=image/png:https://alzheimer-mv.de/download/24123/?tmstv=1776820554&v=24124
GEO:53.3584977;13.0680978
X-APPLE-STRUCTURED-LOCATION;VALUE=URI;X-ADDRESS=Evangelische Pflegeeinrichtung „Kurt Winkelmann“ Neustrelitz Tiergartenstraße 38 Neustrelitz 17235;X-APPLE-RADIUS=500;X-TITLE=Tiergartenstraße 38:geo:13.0680978,53.3584977
END:VEVENT
BEGIN:VEVENT
DTSTART;TZID=Europe/Berlin:20230429T093000
DTEND;TZID=Europe/Berlin:20230429T140000
DTSTAMP:20260422T031554
CREATED:20230322T150747Z
LAST-MODIFIED:20230417T064318Z
UID:10003211-1682760600-1682776800@alzheimer-mv.de
SUMMARY:Neue Angehörigenschulung "Leben mit Demenz" (23/23) in der Evangelischen Pflegeeinrichtung "Kurt Winkelmann" in Neustrelitz
DESCRIPTION:Am Samstag\, den 15.04.2023\, beginnt um 9.30 Uhr in der Evangelischen Pflegeeinrichtung „Kurt Winkelmann“ in Neustrelitz\, Tiergartenstraße 38\, 17235 Neustrelitz\, eine Schulung für Angehörige von Menschen mit dementiellen Veränderungen. In der Schulungsveranstaltung wird wissenswertes über die Krankheit und ihren Verlauf sowie Therapiemöglichkeiten vermittelt\, Aspekte zu Kommunikation und Umgang mit dem oder der Erkrankten\, aber auch Leistungen der Pflegekassen\, rechtliche Fragen und Entlastungsmöglichkeiten für die Angehörigen werden besprochen. \nSchulungsleiterin dieser Schulungsreihe ist Frau Juliane Burbaum. Sie ist Musikpädagogin\, hat die Qualifizierung als GeriCoach erfolgreich absolviert und verfügt über das Weiterbildungszertifikat „Demenz-Partner“. \nDie Schulung umfasst 4 Einheiten\, die jeweils samstags vormittags und sonntags nachmittags stattfinden und jeweils 4 Stunden dauern.\nDie Teilnahme ist kostenlos.\nZur Planung bitten wir um vorherige Anmeldung unter 0381 / 208 754 01 oder per E-Mail unter angehoerigenschulung@alzheimer-mv.de. \nDie Schulungsreihe für Angehörige von Menschen mit Demenz wird organisiert von der Deutschen Alzheimer Gesellschaft Landesverband M-V und dem Deutschen Zentrums für Neurodegenerative Erkrankungen e.V. Standort Rostock/Greifswald\, unterstützt durch die Kaufmännische Krankenkasse (KKH). \nAlle Informationen über die Themen der Schulung finden Sie hier im Flyer AGS 23/23.
URL:https://alzheimer-mv.de/event/neue-angehoerigenschulung-leben-mit-demenz-23-23-in-der-evangelischen-pflegeeinrichtung-kurt-winkelmann-in-neustrelitz/2023-04-29/
LOCATION:Evangelische Pflegeeinrichtung „Kurt Winkelmann“ Neustrelitz\, Tiergartenstraße 38\, Neustrelitz\, 17235
CATEGORIES:Angehörigenschulung
ATTACH;FMTTYPE=image/png:https://alzheimer-mv.de/download/24123/?tmstv=1776820554&v=24124
GEO:53.3584977;13.0680978
X-APPLE-STRUCTURED-LOCATION;VALUE=URI;X-ADDRESS=Evangelische Pflegeeinrichtung „Kurt Winkelmann“ Neustrelitz Tiergartenstraße 38 Neustrelitz 17235;X-APPLE-RADIUS=500;X-TITLE=Tiergartenstraße 38:geo:13.0680978,53.3584977
END:VEVENT
BEGIN:VEVENT
DTSTART;TZID=Europe/Berlin:20230430T150000
DTEND;TZID=Europe/Berlin:20230430T193000
DTSTAMP:20260422T031554
CREATED:20230322T150747Z
LAST-MODIFIED:20230417T064318Z
UID:10003212-1682866800-1682883000@alzheimer-mv.de
SUMMARY:Neue Angehörigenschulung "Leben mit Demenz" (23/23) in der Evangelischen Pflegeeinrichtung "Kurt Winkelmann" in Neustrelitz
DESCRIPTION:Am Samstag\, den 15.04.2023\, beginnt um 9.30 Uhr in der Evangelischen Pflegeeinrichtung „Kurt Winkelmann“ in Neustrelitz\, Tiergartenstraße 38\, 17235 Neustrelitz\, eine Schulung für Angehörige von Menschen mit dementiellen Veränderungen. In der Schulungsveranstaltung wird wissenswertes über die Krankheit und ihren Verlauf sowie Therapiemöglichkeiten vermittelt\, Aspekte zu Kommunikation und Umgang mit dem oder der Erkrankten\, aber auch Leistungen der Pflegekassen\, rechtliche Fragen und Entlastungsmöglichkeiten für die Angehörigen werden besprochen. \nSchulungsleiterin dieser Schulungsreihe ist Frau Juliane Burbaum. Sie ist Musikpädagogin\, hat die Qualifizierung als GeriCoach erfolgreich absolviert und verfügt über das Weiterbildungszertifikat „Demenz-Partner“. \nDie Schulung umfasst 4 Einheiten\, die jeweils samstags vormittags und sonntags nachmittags stattfinden und jeweils 4 Stunden dauern.\nDie Teilnahme ist kostenlos.\nZur Planung bitten wir um vorherige Anmeldung unter 0381 / 208 754 01 oder per E-Mail unter angehoerigenschulung@alzheimer-mv.de. \nDie Schulungsreihe für Angehörige von Menschen mit Demenz wird organisiert von der Deutschen Alzheimer Gesellschaft Landesverband M-V und dem Deutschen Zentrums für Neurodegenerative Erkrankungen e.V. Standort Rostock/Greifswald\, unterstützt durch die Kaufmännische Krankenkasse (KKH). \nAlle Informationen über die Themen der Schulung finden Sie hier im Flyer AGS 23/23.
URL:https://alzheimer-mv.de/event/neue-angehoerigenschulung-leben-mit-demenz-23-23-in-der-evangelischen-pflegeeinrichtung-kurt-winkelmann-in-neustrelitz/2023-04-30/
LOCATION:Evangelische Pflegeeinrichtung „Kurt Winkelmann“ Neustrelitz\, Tiergartenstraße 38\, Neustrelitz\, 17235
CATEGORIES:Angehörigenschulung
ATTACH;FMTTYPE=image/png:https://alzheimer-mv.de/download/24123/?tmstv=1776820554&v=24124
GEO:53.3584977;13.0680978
X-APPLE-STRUCTURED-LOCATION;VALUE=URI;X-ADDRESS=Evangelische Pflegeeinrichtung „Kurt Winkelmann“ Neustrelitz Tiergartenstraße 38 Neustrelitz 17235;X-APPLE-RADIUS=500;X-TITLE=Tiergartenstraße 38:geo:13.0680978,53.3584977
END:VEVENT
BEGIN:VEVENT
DTSTART;TZID=Europe/Berlin:20230504T143000
DTEND;TZID=Europe/Berlin:20230504T163000
DTSTAMP:20260422T031554
CREATED:20230412T131927Z
LAST-MODIFIED:20230621T092334Z
UID:10002851-1683210600-1683217800@alzheimer-mv.de
SUMMARY:Neue Selbsthilfegruppe "Leben mit Demenz" in Neustrelitz
DESCRIPTION:WAS BIETET DIE SELBSTHILFEGRUPPE?\nSeit Jahren engagieren wir uns für das Thema Demenz und helfen Betroffenen und Angehörigen bei der Bewältigung der mit der Erkrankung einhergehenden Herausforderung im Lebensalltag. Dazu gehören Beratung\, Gespräche\, die bedarfsgerechte Versorgung von Betroffenen und die Unterstützung der Angehörigen von Menschen mit einer Demenz. \nDie SELBSTHILFEGRUPPE DEMENZ NEUSTRELITZ ist ein Treffpunkt für Angehörige\, die einen Menschen mit Demenz versorgen und sich darüber austauschen möchten. In der Gruppe erhalten Sie Informationen zur Krankheit\, lernen Menschen kennen\, die Ihnen zuhören und können Lösungen für die alltäglichen Herausforderungen in Ruhe und gemeinsam besprechen. \nWANN TRIFFT SICH DIE SELBSTHILFEGRUPPE?\nDie termine der Selbsthilfegruppe werden immer während des Treffens der Selbsthilfegruppe neu festgelegt.\nAls Orientierung: die Treffen findet meistens jeden 3. oder 4. Dienstag im Monat im Mehrgenerationenhaus der Diakonie\, in der Strelitzer Str. 29-30 in 17235 Neustrelitz\, um 12 – 14 Uhr statt.\nNutzen Sie das Angebot der Selbsthilfegruppen als Möglichkeit\, über die täglichen Erlebnisse zu sprechen\, Erfahrungen zu teilen und sich gegenseitig in diesen sehr schweren Situationen zu helfen. \nEine Anmeldung unter Tel.: 0381 20875401  oder per E-Mail: angehoerigenschulung@alzheimer-mv.de ist wünschenswert. \nMehr Informationen auch in unserem Flyer der Selbsthilfegruppe „Leben mit Demenz“ Neustrelitz. \n 
URL:https://alzheimer-mv.de/event/neue-selbsthilfegruppe-leben-mit-demenz-in-neustrelitz/2023-05-04/
LOCATION:Familienzentrum Neustrelitz\, Useriner Straße 3\, Neustrelitz\, 17235
CATEGORIES:Angehörigengruppe
ATTACH;FMTTYPE=image/jpeg:https://alzheimer-mv.de/wp-content/uploads/2019/09/Titelbild-SHG-DAlzG-M-V-scaled.jpg
ORGANIZER;CN="Selbsthilfekontaktstelle Neustrelitz":MAILTO:selbsthilfe-neustrelitz@t-online.de
GEO:53.3608191;13.051833
X-APPLE-STRUCTURED-LOCATION;VALUE=URI;X-ADDRESS=Familienzentrum Neustrelitz Useriner Straße 3 Neustrelitz 17235;X-APPLE-RADIUS=500;X-TITLE=Useriner Straße 3:geo:13.051833,53.3608191
END:VEVENT
BEGIN:VEVENT
DTSTART;TZID=Europe/Berlin:20230601T143000
DTEND;TZID=Europe/Berlin:20230601T163000
DTSTAMP:20260422T031554
CREATED:20230412T131927Z
LAST-MODIFIED:20230621T092334Z
UID:10002852-1685629800-1685637000@alzheimer-mv.de
SUMMARY:Neue Selbsthilfegruppe "Leben mit Demenz" in Neustrelitz
DESCRIPTION:WAS BIETET DIE SELBSTHILFEGRUPPE?\nSeit Jahren engagieren wir uns für das Thema Demenz und helfen Betroffenen und Angehörigen bei der Bewältigung der mit der Erkrankung einhergehenden Herausforderung im Lebensalltag. Dazu gehören Beratung\, Gespräche\, die bedarfsgerechte Versorgung von Betroffenen und die Unterstützung der Angehörigen von Menschen mit einer Demenz. \nDie SELBSTHILFEGRUPPE DEMENZ NEUSTRELITZ ist ein Treffpunkt für Angehörige\, die einen Menschen mit Demenz versorgen und sich darüber austauschen möchten. In der Gruppe erhalten Sie Informationen zur Krankheit\, lernen Menschen kennen\, die Ihnen zuhören und können Lösungen für die alltäglichen Herausforderungen in Ruhe und gemeinsam besprechen. \nWANN TRIFFT SICH DIE SELBSTHILFEGRUPPE?\nDie termine der Selbsthilfegruppe werden immer während des Treffens der Selbsthilfegruppe neu festgelegt.\nAls Orientierung: die Treffen findet meistens jeden 3. oder 4. Dienstag im Monat im Mehrgenerationenhaus der Diakonie\, in der Strelitzer Str. 29-30 in 17235 Neustrelitz\, um 12 – 14 Uhr statt.\nNutzen Sie das Angebot der Selbsthilfegruppen als Möglichkeit\, über die täglichen Erlebnisse zu sprechen\, Erfahrungen zu teilen und sich gegenseitig in diesen sehr schweren Situationen zu helfen. \nEine Anmeldung unter Tel.: 0381 20875401  oder per E-Mail: angehoerigenschulung@alzheimer-mv.de ist wünschenswert. \nMehr Informationen auch in unserem Flyer der Selbsthilfegruppe „Leben mit Demenz“ Neustrelitz. \n 
URL:https://alzheimer-mv.de/event/neue-selbsthilfegruppe-leben-mit-demenz-in-neustrelitz/2023-06-01/
LOCATION:Familienzentrum Neustrelitz\, Useriner Straße 3\, Neustrelitz\, 17235
CATEGORIES:Angehörigengruppe
ATTACH;FMTTYPE=image/jpeg:https://alzheimer-mv.de/wp-content/uploads/2019/09/Titelbild-SHG-DAlzG-M-V-scaled.jpg
ORGANIZER;CN="Selbsthilfekontaktstelle Neustrelitz":MAILTO:selbsthilfe-neustrelitz@t-online.de
GEO:53.3608191;13.051833
X-APPLE-STRUCTURED-LOCATION;VALUE=URI;X-ADDRESS=Familienzentrum Neustrelitz Useriner Straße 3 Neustrelitz 17235;X-APPLE-RADIUS=500;X-TITLE=Useriner Straße 3:geo:13.051833,53.3608191
END:VEVENT
BEGIN:VEVENT
DTSTART;TZID=Europe/Berlin:20230725T120000
DTEND;TZID=Europe/Berlin:20230725T140000
DTSTAMP:20260422T031554
CREATED:20230412T131927Z
LAST-MODIFIED:20230621T092334Z
UID:10002853-1690286400-1690293600@alzheimer-mv.de
SUMMARY:Neue Selbsthilfegruppe "Leben mit Demenz" in Neustrelitz
DESCRIPTION:WAS BIETET DIE SELBSTHILFEGRUPPE?\nSeit Jahren engagieren wir uns für das Thema Demenz und helfen Betroffenen und Angehörigen bei der Bewältigung der mit der Erkrankung einhergehenden Herausforderung im Lebensalltag. Dazu gehören Beratung\, Gespräche\, die bedarfsgerechte Versorgung von Betroffenen und die Unterstützung der Angehörigen von Menschen mit einer Demenz. \nDie SELBSTHILFEGRUPPE DEMENZ NEUSTRELITZ ist ein Treffpunkt für Angehörige\, die einen Menschen mit Demenz versorgen und sich darüber austauschen möchten. In der Gruppe erhalten Sie Informationen zur Krankheit\, lernen Menschen kennen\, die Ihnen zuhören und können Lösungen für die alltäglichen Herausforderungen in Ruhe und gemeinsam besprechen. \nWANN TRIFFT SICH DIE SELBSTHILFEGRUPPE?\nDie termine der Selbsthilfegruppe werden immer während des Treffens der Selbsthilfegruppe neu festgelegt.\nAls Orientierung: die Treffen findet meistens jeden 3. oder 4. Dienstag im Monat im Mehrgenerationenhaus der Diakonie\, in der Strelitzer Str. 29-30 in 17235 Neustrelitz\, um 12 – 14 Uhr statt.\nNutzen Sie das Angebot der Selbsthilfegruppen als Möglichkeit\, über die täglichen Erlebnisse zu sprechen\, Erfahrungen zu teilen und sich gegenseitig in diesen sehr schweren Situationen zu helfen. \nEine Anmeldung unter Tel.: 0381 20875401  oder per E-Mail: angehoerigenschulung@alzheimer-mv.de ist wünschenswert. \nMehr Informationen auch in unserem Flyer der Selbsthilfegruppe „Leben mit Demenz“ Neustrelitz. \n 
URL:https://alzheimer-mv.de/event/neue-selbsthilfegruppe-leben-mit-demenz-in-neustrelitz/2023-07-25/
LOCATION:Familienzentrum Neustrelitz\, Useriner Straße 3\, Neustrelitz\, 17235
CATEGORIES:Angehörigengruppe
ATTACH;FMTTYPE=image/jpeg:https://alzheimer-mv.de/wp-content/uploads/2019/09/Titelbild-SHG-DAlzG-M-V-scaled.jpg
ORGANIZER;CN="Selbsthilfekontaktstelle Neustrelitz":MAILTO:selbsthilfe-neustrelitz@t-online.de
GEO:53.3608191;13.051833
X-APPLE-STRUCTURED-LOCATION;VALUE=URI;X-ADDRESS=Familienzentrum Neustrelitz Useriner Straße 3 Neustrelitz 17235;X-APPLE-RADIUS=500;X-TITLE=Useriner Straße 3:geo:13.051833,53.3608191
END:VEVENT
BEGIN:VEVENT
DTSTART;TZID=Europe/Berlin:20230929T093000
DTEND;TZID=Europe/Berlin:20230929T140000
DTSTAMP:20260422T031554
CREATED:20230602T103949Z
LAST-MODIFIED:20230920T114546Z
UID:10003308-1695979800-1695996000@alzheimer-mv.de
SUMMARY:Neue Angehörigenschulung „Leben mit Demenz“ (32/23) in Neustrelitz
DESCRIPTION:Am Freitag\, den 29.09.2023\, beginnt um 9:30 Uhr in der Evangelischen Pflegeeinrichtung „Kurt Winkelmann“\, Tiergartenstraße 38\, 17235 Neustrelitz\, eine Schulung für Angehörige von Menschen mit dementiellen Veränderungen. In der Schulungsveranstaltung wird wissenswertes über die Krankheit und ihren Verlauf sowie Therapiemöglichkeiten vermittelt\, Aspekte zu Kommunikation und Umgang mit dem oder der Erkrankten\, aber auch Leistungen der Pflegekassen\, rechtliche Fragen und Entlastungsmöglichkeiten für die Angehörigen werden besprochen. \nSchulungsleiterin dieser Schulungsreihe ist Frau Juliane Burbaum. Sie ist Musikpädagogin\, hat die Qualifizierung als GeriCoach erfolgreich absolviert und verfügt über das Weiterbildungszertifikat „Demenz-Partner“. \nDie Schulung umfasst 4 Einheiten\, die jeweils Freitag vormittags und Samstag nachmittags stattfinden und jeweils 4 Stunden dauern.\nDie Teilnahme ist kostenlos.\nZur Planung bitten wir um vorherige Anmeldung unter 0381 / 208 754 01 oder per E-Mail unter angehoerigenschulung@alzheimer-mv.de. \nDie Schulungsreihe für Angehörige von Menschen mit Demenz wird organisiert von der Deutschen Alzheimer Gesellschaft Landesverband M-V und dem Deutschen Zentrums für Neurodegenerative Erkrankungen e.V. Standort Rostock/Greifswald\, unterstützt durch die Kaufmännische Krankenkasse (KKH). \nAlle Informationen über die Themen der Schulung finden Sie hier im Flyer AGS 32/23.
URL:https://alzheimer-mv.de/event/neue-angehoerigenschulung-leben-mit-demenz-32-23-in-neustrelitz/2023-09-29/
LOCATION:Evangelische Pflegeeinrichtung „Kurt Winkelmann“ Neustrelitz\, Tiergartenstraße 38\, Neustrelitz\, 17235
CATEGORIES:Angehörigenschulung
ATTACH;FMTTYPE=image/png:https://alzheimer-mv.de/download/24123/?tmstv=1776820554&v=24124
GEO:53.3584977;13.0680978
X-APPLE-STRUCTURED-LOCATION;VALUE=URI;X-ADDRESS=Evangelische Pflegeeinrichtung „Kurt Winkelmann“ Neustrelitz Tiergartenstraße 38 Neustrelitz 17235;X-APPLE-RADIUS=500;X-TITLE=Tiergartenstraße 38:geo:13.0680978,53.3584977
END:VEVENT
BEGIN:VEVENT
DTSTART;TZID=Europe/Berlin:20230930T150000
DTEND;TZID=Europe/Berlin:20230930T193000
DTSTAMP:20260422T031554
CREATED:20230602T103949Z
LAST-MODIFIED:20230920T114546Z
UID:10003309-1696086000-1696102200@alzheimer-mv.de
SUMMARY:Neue Angehörigenschulung „Leben mit Demenz“ (32/23) in Neustrelitz
DESCRIPTION:Am Freitag\, den 29.09.2023\, beginnt um 9:30 Uhr in der Evangelischen Pflegeeinrichtung „Kurt Winkelmann“\, Tiergartenstraße 38\, 17235 Neustrelitz\, eine Schulung für Angehörige von Menschen mit dementiellen Veränderungen. In der Schulungsveranstaltung wird wissenswertes über die Krankheit und ihren Verlauf sowie Therapiemöglichkeiten vermittelt\, Aspekte zu Kommunikation und Umgang mit dem oder der Erkrankten\, aber auch Leistungen der Pflegekassen\, rechtliche Fragen und Entlastungsmöglichkeiten für die Angehörigen werden besprochen. \nSchulungsleiterin dieser Schulungsreihe ist Frau Juliane Burbaum. Sie ist Musikpädagogin\, hat die Qualifizierung als GeriCoach erfolgreich absolviert und verfügt über das Weiterbildungszertifikat „Demenz-Partner“. \nDie Schulung umfasst 4 Einheiten\, die jeweils Freitag vormittags und Samstag nachmittags stattfinden und jeweils 4 Stunden dauern.\nDie Teilnahme ist kostenlos.\nZur Planung bitten wir um vorherige Anmeldung unter 0381 / 208 754 01 oder per E-Mail unter angehoerigenschulung@alzheimer-mv.de. \nDie Schulungsreihe für Angehörige von Menschen mit Demenz wird organisiert von der Deutschen Alzheimer Gesellschaft Landesverband M-V und dem Deutschen Zentrums für Neurodegenerative Erkrankungen e.V. Standort Rostock/Greifswald\, unterstützt durch die Kaufmännische Krankenkasse (KKH). \nAlle Informationen über die Themen der Schulung finden Sie hier im Flyer AGS 32/23.
URL:https://alzheimer-mv.de/event/neue-angehoerigenschulung-leben-mit-demenz-32-23-in-neustrelitz/2023-09-30/
LOCATION:Evangelische Pflegeeinrichtung „Kurt Winkelmann“ Neustrelitz\, Tiergartenstraße 38\, Neustrelitz\, 17235
CATEGORIES:Angehörigenschulung
ATTACH;FMTTYPE=image/png:https://alzheimer-mv.de/download/24123/?tmstv=1776820554&v=24124
GEO:53.3584977;13.0680978
X-APPLE-STRUCTURED-LOCATION;VALUE=URI;X-ADDRESS=Evangelische Pflegeeinrichtung „Kurt Winkelmann“ Neustrelitz Tiergartenstraße 38 Neustrelitz 17235;X-APPLE-RADIUS=500;X-TITLE=Tiergartenstraße 38:geo:13.0680978,53.3584977
END:VEVENT
BEGIN:VEVENT
DTSTART;TZID=Europe/Berlin:20231013T093000
DTEND;TZID=Europe/Berlin:20231013T140000
DTSTAMP:20260422T031554
CREATED:20230602T103949Z
LAST-MODIFIED:20230920T114546Z
UID:10003310-1697189400-1697205600@alzheimer-mv.de
SUMMARY:Neue Angehörigenschulung „Leben mit Demenz“ (32/23) in Neustrelitz
DESCRIPTION:Am Freitag\, den 29.09.2023\, beginnt um 9:30 Uhr in der Evangelischen Pflegeeinrichtung „Kurt Winkelmann“\, Tiergartenstraße 38\, 17235 Neustrelitz\, eine Schulung für Angehörige von Menschen mit dementiellen Veränderungen. In der Schulungsveranstaltung wird wissenswertes über die Krankheit und ihren Verlauf sowie Therapiemöglichkeiten vermittelt\, Aspekte zu Kommunikation und Umgang mit dem oder der Erkrankten\, aber auch Leistungen der Pflegekassen\, rechtliche Fragen und Entlastungsmöglichkeiten für die Angehörigen werden besprochen. \nSchulungsleiterin dieser Schulungsreihe ist Frau Juliane Burbaum. Sie ist Musikpädagogin\, hat die Qualifizierung als GeriCoach erfolgreich absolviert und verfügt über das Weiterbildungszertifikat „Demenz-Partner“. \nDie Schulung umfasst 4 Einheiten\, die jeweils Freitag vormittags und Samstag nachmittags stattfinden und jeweils 4 Stunden dauern.\nDie Teilnahme ist kostenlos.\nZur Planung bitten wir um vorherige Anmeldung unter 0381 / 208 754 01 oder per E-Mail unter angehoerigenschulung@alzheimer-mv.de. \nDie Schulungsreihe für Angehörige von Menschen mit Demenz wird organisiert von der Deutschen Alzheimer Gesellschaft Landesverband M-V und dem Deutschen Zentrums für Neurodegenerative Erkrankungen e.V. Standort Rostock/Greifswald\, unterstützt durch die Kaufmännische Krankenkasse (KKH). \nAlle Informationen über die Themen der Schulung finden Sie hier im Flyer AGS 32/23.
URL:https://alzheimer-mv.de/event/neue-angehoerigenschulung-leben-mit-demenz-32-23-in-neustrelitz/2023-10-13/
LOCATION:Evangelische Pflegeeinrichtung „Kurt Winkelmann“ Neustrelitz\, Tiergartenstraße 38\, Neustrelitz\, 17235
CATEGORIES:Angehörigenschulung
ATTACH;FMTTYPE=image/png:https://alzheimer-mv.de/download/24123/?tmstv=1776820554&v=24124
GEO:53.3584977;13.0680978
X-APPLE-STRUCTURED-LOCATION;VALUE=URI;X-ADDRESS=Evangelische Pflegeeinrichtung „Kurt Winkelmann“ Neustrelitz Tiergartenstraße 38 Neustrelitz 17235;X-APPLE-RADIUS=500;X-TITLE=Tiergartenstraße 38:geo:13.0680978,53.3584977
END:VEVENT
BEGIN:VEVENT
DTSTART;TZID=Europe/Berlin:20231014T150000
DTEND;TZID=Europe/Berlin:20231014T193000
DTSTAMP:20260422T031554
CREATED:20230602T103949Z
LAST-MODIFIED:20230920T114546Z
UID:10003311-1697295600-1697311800@alzheimer-mv.de
SUMMARY:Neue Angehörigenschulung „Leben mit Demenz“ (32/23) in Neustrelitz
DESCRIPTION:Am Freitag\, den 29.09.2023\, beginnt um 9:30 Uhr in der Evangelischen Pflegeeinrichtung „Kurt Winkelmann“\, Tiergartenstraße 38\, 17235 Neustrelitz\, eine Schulung für Angehörige von Menschen mit dementiellen Veränderungen. In der Schulungsveranstaltung wird wissenswertes über die Krankheit und ihren Verlauf sowie Therapiemöglichkeiten vermittelt\, Aspekte zu Kommunikation und Umgang mit dem oder der Erkrankten\, aber auch Leistungen der Pflegekassen\, rechtliche Fragen und Entlastungsmöglichkeiten für die Angehörigen werden besprochen. \nSchulungsleiterin dieser Schulungsreihe ist Frau Juliane Burbaum. Sie ist Musikpädagogin\, hat die Qualifizierung als GeriCoach erfolgreich absolviert und verfügt über das Weiterbildungszertifikat „Demenz-Partner“. \nDie Schulung umfasst 4 Einheiten\, die jeweils Freitag vormittags und Samstag nachmittags stattfinden und jeweils 4 Stunden dauern.\nDie Teilnahme ist kostenlos.\nZur Planung bitten wir um vorherige Anmeldung unter 0381 / 208 754 01 oder per E-Mail unter angehoerigenschulung@alzheimer-mv.de. \nDie Schulungsreihe für Angehörige von Menschen mit Demenz wird organisiert von der Deutschen Alzheimer Gesellschaft Landesverband M-V und dem Deutschen Zentrums für Neurodegenerative Erkrankungen e.V. Standort Rostock/Greifswald\, unterstützt durch die Kaufmännische Krankenkasse (KKH). \nAlle Informationen über die Themen der Schulung finden Sie hier im Flyer AGS 32/23.
URL:https://alzheimer-mv.de/event/neue-angehoerigenschulung-leben-mit-demenz-32-23-in-neustrelitz/2023-10-14/
LOCATION:Evangelische Pflegeeinrichtung „Kurt Winkelmann“ Neustrelitz\, Tiergartenstraße 38\, Neustrelitz\, 17235
CATEGORIES:Angehörigenschulung
ATTACH;FMTTYPE=image/png:https://alzheimer-mv.de/download/24123/?tmstv=1776820554&v=24124
GEO:53.3584977;13.0680978
X-APPLE-STRUCTURED-LOCATION;VALUE=URI;X-ADDRESS=Evangelische Pflegeeinrichtung „Kurt Winkelmann“ Neustrelitz Tiergartenstraße 38 Neustrelitz 17235;X-APPLE-RADIUS=500;X-TITLE=Tiergartenstraße 38:geo:13.0680978,53.3584977
END:VEVENT
BEGIN:VEVENT
DTSTART;TZID=Europe/Berlin:20240116T130000
DTEND;TZID=Europe/Berlin:20240116T150000
DTSTAMP:20260422T031554
CREATED:20240129T091911Z
LAST-MODIFIED:20240129T091911Z
UID:10004148-1705410000-1705417200@alzheimer-mv.de
SUMMARY:Selbsthilfegruppe "Leben mit Demenz" im Mehrgenerationenhaus Neustrelitz
DESCRIPTION:Seit Jahren engagiert sich die Selbsthilfegruppe für das Thema Demenz und hilft Betroffenen und Angehörigen bei der Bewältigung der mit der Erkrankung einhergehenden Herausforderung im Lebensalltag. Dazu gehören Beratung\, Gespräche\, die bedarfsgerechte Versorgung von Betroffenen und die Unterstützung der Angehörigen von Menschen mit einer Demenz. \nUnsere Treffen finden jeden 3. Dienstag im Monat um 13 Uhr im Mehrgenerationenhaus Neustrelitz\, Strelitzer Straße 30\, 17235 Neustrelitz statt.\nNutzen Sie das Angebot der Selbsthilfegruppen als Möglichkeit\, über die täglichen Erlebnisse zusprechen\, Erfahrungen zu teilen und sich gegenseitig in diesen sehr schweren Situationen zu helfen. \nMehr Informationen finden Sie auch im Demenz-Kompass unter Selbsthilfegruppe Neustrelitz. \nSchauen Sie gerne auch in unseren Online-Veranstaltungskalender unter www.alzheimer-mv.de/events/\, Stichwort Neustrelitz.
URL:https://alzheimer-mv.de/event/selbsthilfegruppe-leben-mit-demenz-im-mehrgenerationenhaus-neustrelitz/
LOCATION:Mehrgenerationenhaus Neustrelitz\, Strelitzer Straße 30\, Neustrelitz\, 17235
CATEGORIES:Angehörigengruppe
ATTACH;FMTTYPE=image/jpeg:https://alzheimer-mv.de/wp-content/uploads/2024/01/MGH_Neustrelitz_Logo-scaled.jpg
ORGANIZER;CN="DAlzG LVM-V / Astrid Matz":MAILTO:mehrgenerationenhaus@diakonie-mse.de
GEO:53.3586378;13.0691525
X-APPLE-STRUCTURED-LOCATION;VALUE=URI;X-ADDRESS=Mehrgenerationenhaus Neustrelitz Strelitzer Straße 30 Neustrelitz 17235;X-APPLE-RADIUS=500;X-TITLE=Strelitzer Straße 30:geo:13.0691525,53.3586378
END:VEVENT
END:VCALENDAR