
BEGIN:VCALENDAR
VERSION:2.0
PRODID:-//Deutsche Alzheimer Gesellschaft - ECPv6.15.20//NONSGML v1.0//EN
CALSCALE:GREGORIAN
METHOD:PUBLISH
X-WR-CALNAME:Deutsche Alzheimer Gesellschaft
X-ORIGINAL-URL:https://alzheimer-mv.de
X-WR-CALDESC:Veranstaltungen für Deutsche Alzheimer Gesellschaft
REFRESH-INTERVAL;VALUE=DURATION:PT1H
X-Robots-Tag:noindex
X-PUBLISHED-TTL:PT1H
BEGIN:VTIMEZONE
TZID:Europe/Berlin
BEGIN:DAYLIGHT
TZOFFSETFROM:+0100
TZOFFSETTO:+0200
TZNAME:CEST
DTSTART:20220327T010000
END:DAYLIGHT
BEGIN:STANDARD
TZOFFSETFROM:+0200
TZOFFSETTO:+0100
TZNAME:CET
DTSTART:20221030T010000
END:STANDARD
BEGIN:DAYLIGHT
TZOFFSETFROM:+0100
TZOFFSETTO:+0200
TZNAME:CEST
DTSTART:20230326T010000
END:DAYLIGHT
BEGIN:STANDARD
TZOFFSETFROM:+0200
TZOFFSETTO:+0100
TZNAME:CET
DTSTART:20231029T010000
END:STANDARD
BEGIN:DAYLIGHT
TZOFFSETFROM:+0100
TZOFFSETTO:+0200
TZNAME:CEST
DTSTART:20240331T010000
END:DAYLIGHT
BEGIN:STANDARD
TZOFFSETFROM:+0200
TZOFFSETTO:+0100
TZNAME:CET
DTSTART:20241027T010000
END:STANDARD
END:VTIMEZONE
BEGIN:VEVENT
DTSTART;TZID=Europe/Berlin:20231004T140000
DTEND;TZID=Europe/Berlin:20231004T160000
DTSTAMP:20260419T183538
CREATED:20231115T081800Z
LAST-MODIFIED:20231115T081934Z
UID:10003779-1696428000-1696435200@alzheimer-mv.de
SUMMARY:Angehörigenschulung „Leben mit Demenz“ (53/23) in Greifswald
DESCRIPTION:Am Mittwoch\, den 6. September 2023\, beginnt um 14:00 Uhr im Ev. Schulzentrum Martinschule\, (Abschlussstufenzentrum)\, Heinrich-Hertz-Straße 19 in 17491 Greifswald\, eine Schulung für Angehörige von Menschen mit dementiellen Veränderungen. In der Schulungsveranstaltung wird Wissenswertes über die Krankheit und ihren Verlauf sowie Therapiemöglichkeiten vermittelt\, Aspekte zu Kommunikation und Umgang mit dem oder der Erkrankten\, aber auch Leistungen der Pflegekassen\, rechtliche Fragen und Entlastungsmöglichkeiten für die Angehörigen werden besprochen. \nSchulungsleiter dieser Schulungsreihe ist Herr Dirk Mischkale. Er ist Geschäftsführer der Evangelischen Altenhilfeeinrichtung der Johanna-Odebrecht-Stiftung und führt zusammen mit anderen Pflegefachkräften durch die Schulungsreihe und steht Ihnen mit einem breiten Wissens- und Erfahrungsschatz zur Seite. \nAnmeldung und weitere Informationen erhalten Sie beim Schulungsleiter Dirk Mischkale\, unter Telefon 03834 543 502 und unter mischkale@odebrecht-stiftung.de. \nEine Schulungsreihe für Angehörige von Menschen mit Demenz der Deutschen Alzheimer Gesellschaft Landesverband M-V und des Deutschen Zentrum für Neurogenerative Erkrankungen e.V. Standort Rostock/Greifswald\, unterstützt durch die BARMER Ersatzkasse.\nDie Schulung wird durchgeführt von der Deutschen Alzheimer Gesellschaft Landesverband M-V in Kooperation mit der Johanna-Odebrecht-Stiftung. \nAlle Informationen über die Themen der Schulung finden Sie hier im Flyer AGS 53/22.
URL:https://alzheimer-mv.de/event/angehoerigenschulung-leben-mit-demenz-37-23-in-greifswald-2/2023-10-04/
LOCATION:Ev. Schulzentrum Martinschule\, Heinrich-Hertz-Straße 19\, Greifswald\, 17419
CATEGORIES:Angehörigenschulung
ATTACH;FMTTYPE=image/png:https://alzheimer-mv.de/download/24123/?tmstv=1776616538&v=24124
ORGANIZER;CN="DAlzG LV M-V / Schulungsleiter Dirk Mischkale":MAILTO:mischkale@odebrecht-stiftung.de
GEO:54.0772838;13.4034936
X-APPLE-STRUCTURED-LOCATION;VALUE=URI;X-ADDRESS=Ev. Schulzentrum Martinschule Heinrich-Hertz-Straße 19 Greifswald 17419;X-APPLE-RADIUS=500;X-TITLE=Heinrich-Hertz-Straße 19:geo:13.4034936,54.0772838
END:VEVENT
BEGIN:VEVENT
DTSTART;TZID=Europe/Berlin:20231004T163000
DTEND;TZID=Europe/Berlin:20231004T183000
DTSTAMP:20260419T183538
CREATED:20230925T095642Z
LAST-MODIFIED:20231115T082024Z
UID:10003559-1696437000-1696444200@alzheimer-mv.de
SUMMARY:Angehörigenschulung „Leben mit Demenz“ (37/23) in Greifswald
DESCRIPTION:Am Mittwoch\, den 6. September 2023\, beginnt um 16:30 Uhr im Ev. Schulzentrum Martinschule\, (Abschlussstufenzentrum)\, Heinrich-Hertz-Straße 19 in 17491 Greifswald\, eine Schulung für Angehörige von Menschen mit dementiellen Veränderungen. In der Schulungsveranstaltung wird Wissenswertes über die Krankheit und ihren Verlauf sowie Therapiemöglichkeiten vermittelt\, Aspekte zu Kommunikation und Umgang mit dem oder der Erkrankten\, aber auch Leistungen der Pflegekassen\, rechtliche Fragen und Entlastungsmöglichkeiten für die Angehörigen werden besprochen. \nSchulungsleiter dieser Schulungsreihe ist Herr Dirk Mischkale. Er ist Geschäftsführer der Evangelischen Altenhilfeeinrichtung der Johanna-Odebrecht-Stiftung und führt zusammen mit anderen Pflegefachkräften durch die Schulungsreihe und steht Ihnen mit einem breiten Wissens- und Erfahrungsschatz zur Seite. \nAnmeldung und weitere Informationen erhalten Sie beim Schulungsleiter Dirk Mischkale\, unter Telefon 03834 543 502 und unter mischkale@odebrecht-stiftung.de. \nEine Schulungsreihe für Angehörige von Menschen mit Demenz der Deutschen Alzheimer Gesellschaft Landesverband M-V und des Deutschen Zentrum für Neurogenerative Erkrankungen e.V. Standort Rostock/Greifswald\, unterstützt durch die BARMER Ersatzkasse.\nDie Schulung wird durchgeführt von der Deutschen Alzheimer Gesellschaft Landesverband M-V in Kooperation mit der Johanna-Odebrecht-Stiftung. \nAlle Informationen über die Themen der Schulung finden Sie hier im Flyer AGS 37/22. \n  \n 
URL:https://alzheimer-mv.de/event/angehoerigenschulung-leben-mit-demenz-37-23-in-greifswald/2023-10-04/
LOCATION:Ev. Schulzentrum Martinschule\, Heinrich-Hertz-Straße 19\, Greifswald\, 17419
CATEGORIES:Angehörigenschulung
ATTACH;FMTTYPE=image/png:https://alzheimer-mv.de/download/24123/?tmstv=1776616538&v=24124
ORGANIZER;CN="DAlzG LV M-V / Schulungsleiter Dirk Mischkale":MAILTO:mischkale@odebrecht-stiftung.de
GEO:54.0772838;13.4034936
X-APPLE-STRUCTURED-LOCATION;VALUE=URI;X-ADDRESS=Ev. Schulzentrum Martinschule Heinrich-Hertz-Straße 19 Greifswald 17419;X-APPLE-RADIUS=500;X-TITLE=Heinrich-Hertz-Straße 19:geo:13.4034936,54.0772838
END:VEVENT
BEGIN:VEVENT
DTSTART;TZID=Europe/Berlin:20231011T140000
DTEND;TZID=Europe/Berlin:20231011T160000
DTSTAMP:20260419T183538
CREATED:20231115T081800Z
LAST-MODIFIED:20231115T081934Z
UID:10003780-1697032800-1697040000@alzheimer-mv.de
SUMMARY:Angehörigenschulung „Leben mit Demenz“ (53/23) in Greifswald
DESCRIPTION:Am Mittwoch\, den 6. September 2023\, beginnt um 14:00 Uhr im Ev. Schulzentrum Martinschule\, (Abschlussstufenzentrum)\, Heinrich-Hertz-Straße 19 in 17491 Greifswald\, eine Schulung für Angehörige von Menschen mit dementiellen Veränderungen. In der Schulungsveranstaltung wird Wissenswertes über die Krankheit und ihren Verlauf sowie Therapiemöglichkeiten vermittelt\, Aspekte zu Kommunikation und Umgang mit dem oder der Erkrankten\, aber auch Leistungen der Pflegekassen\, rechtliche Fragen und Entlastungsmöglichkeiten für die Angehörigen werden besprochen. \nSchulungsleiter dieser Schulungsreihe ist Herr Dirk Mischkale. Er ist Geschäftsführer der Evangelischen Altenhilfeeinrichtung der Johanna-Odebrecht-Stiftung und führt zusammen mit anderen Pflegefachkräften durch die Schulungsreihe und steht Ihnen mit einem breiten Wissens- und Erfahrungsschatz zur Seite. \nAnmeldung und weitere Informationen erhalten Sie beim Schulungsleiter Dirk Mischkale\, unter Telefon 03834 543 502 und unter mischkale@odebrecht-stiftung.de. \nEine Schulungsreihe für Angehörige von Menschen mit Demenz der Deutschen Alzheimer Gesellschaft Landesverband M-V und des Deutschen Zentrum für Neurogenerative Erkrankungen e.V. Standort Rostock/Greifswald\, unterstützt durch die BARMER Ersatzkasse.\nDie Schulung wird durchgeführt von der Deutschen Alzheimer Gesellschaft Landesverband M-V in Kooperation mit der Johanna-Odebrecht-Stiftung. \nAlle Informationen über die Themen der Schulung finden Sie hier im Flyer AGS 53/22.
URL:https://alzheimer-mv.de/event/angehoerigenschulung-leben-mit-demenz-37-23-in-greifswald-2/2023-10-11/
LOCATION:Ev. Schulzentrum Martinschule\, Heinrich-Hertz-Straße 19\, Greifswald\, 17419
CATEGORIES:Angehörigenschulung
ATTACH;FMTTYPE=image/png:https://alzheimer-mv.de/download/24123/?tmstv=1776616538&v=24124
ORGANIZER;CN="DAlzG LV M-V / Schulungsleiter Dirk Mischkale":MAILTO:mischkale@odebrecht-stiftung.de
GEO:54.0772838;13.4034936
X-APPLE-STRUCTURED-LOCATION;VALUE=URI;X-ADDRESS=Ev. Schulzentrum Martinschule Heinrich-Hertz-Straße 19 Greifswald 17419;X-APPLE-RADIUS=500;X-TITLE=Heinrich-Hertz-Straße 19:geo:13.4034936,54.0772838
END:VEVENT
BEGIN:VEVENT
DTSTART;TZID=Europe/Berlin:20231011T163000
DTEND;TZID=Europe/Berlin:20231011T183000
DTSTAMP:20260419T183538
CREATED:20230925T095642Z
LAST-MODIFIED:20231115T082024Z
UID:10003560-1697041800-1697049000@alzheimer-mv.de
SUMMARY:Angehörigenschulung „Leben mit Demenz“ (37/23) in Greifswald
DESCRIPTION:Am Mittwoch\, den 6. September 2023\, beginnt um 16:30 Uhr im Ev. Schulzentrum Martinschule\, (Abschlussstufenzentrum)\, Heinrich-Hertz-Straße 19 in 17491 Greifswald\, eine Schulung für Angehörige von Menschen mit dementiellen Veränderungen. In der Schulungsveranstaltung wird Wissenswertes über die Krankheit und ihren Verlauf sowie Therapiemöglichkeiten vermittelt\, Aspekte zu Kommunikation und Umgang mit dem oder der Erkrankten\, aber auch Leistungen der Pflegekassen\, rechtliche Fragen und Entlastungsmöglichkeiten für die Angehörigen werden besprochen. \nSchulungsleiter dieser Schulungsreihe ist Herr Dirk Mischkale. Er ist Geschäftsführer der Evangelischen Altenhilfeeinrichtung der Johanna-Odebrecht-Stiftung und führt zusammen mit anderen Pflegefachkräften durch die Schulungsreihe und steht Ihnen mit einem breiten Wissens- und Erfahrungsschatz zur Seite. \nAnmeldung und weitere Informationen erhalten Sie beim Schulungsleiter Dirk Mischkale\, unter Telefon 03834 543 502 und unter mischkale@odebrecht-stiftung.de. \nEine Schulungsreihe für Angehörige von Menschen mit Demenz der Deutschen Alzheimer Gesellschaft Landesverband M-V und des Deutschen Zentrum für Neurogenerative Erkrankungen e.V. Standort Rostock/Greifswald\, unterstützt durch die BARMER Ersatzkasse.\nDie Schulung wird durchgeführt von der Deutschen Alzheimer Gesellschaft Landesverband M-V in Kooperation mit der Johanna-Odebrecht-Stiftung. \nAlle Informationen über die Themen der Schulung finden Sie hier im Flyer AGS 37/22. \n  \n 
URL:https://alzheimer-mv.de/event/angehoerigenschulung-leben-mit-demenz-37-23-in-greifswald/2023-10-11/
LOCATION:Ev. Schulzentrum Martinschule\, Heinrich-Hertz-Straße 19\, Greifswald\, 17419
CATEGORIES:Angehörigenschulung
ATTACH;FMTTYPE=image/png:https://alzheimer-mv.de/download/24123/?tmstv=1776616538&v=24124
ORGANIZER;CN="DAlzG LV M-V / Schulungsleiter Dirk Mischkale":MAILTO:mischkale@odebrecht-stiftung.de
GEO:54.0772838;13.4034936
X-APPLE-STRUCTURED-LOCATION;VALUE=URI;X-ADDRESS=Ev. Schulzentrum Martinschule Heinrich-Hertz-Straße 19 Greifswald 17419;X-APPLE-RADIUS=500;X-TITLE=Heinrich-Hertz-Straße 19:geo:13.4034936,54.0772838
END:VEVENT
BEGIN:VEVENT
DTSTART;TZID=Europe/Berlin:20231018T140000
DTEND;TZID=Europe/Berlin:20231018T160000
DTSTAMP:20260419T183538
CREATED:20231115T081800Z
LAST-MODIFIED:20231115T081934Z
UID:10003781-1697637600-1697644800@alzheimer-mv.de
SUMMARY:Angehörigenschulung „Leben mit Demenz“ (53/23) in Greifswald
DESCRIPTION:Am Mittwoch\, den 6. September 2023\, beginnt um 14:00 Uhr im Ev. Schulzentrum Martinschule\, (Abschlussstufenzentrum)\, Heinrich-Hertz-Straße 19 in 17491 Greifswald\, eine Schulung für Angehörige von Menschen mit dementiellen Veränderungen. In der Schulungsveranstaltung wird Wissenswertes über die Krankheit und ihren Verlauf sowie Therapiemöglichkeiten vermittelt\, Aspekte zu Kommunikation und Umgang mit dem oder der Erkrankten\, aber auch Leistungen der Pflegekassen\, rechtliche Fragen und Entlastungsmöglichkeiten für die Angehörigen werden besprochen. \nSchulungsleiter dieser Schulungsreihe ist Herr Dirk Mischkale. Er ist Geschäftsführer der Evangelischen Altenhilfeeinrichtung der Johanna-Odebrecht-Stiftung und führt zusammen mit anderen Pflegefachkräften durch die Schulungsreihe und steht Ihnen mit einem breiten Wissens- und Erfahrungsschatz zur Seite. \nAnmeldung und weitere Informationen erhalten Sie beim Schulungsleiter Dirk Mischkale\, unter Telefon 03834 543 502 und unter mischkale@odebrecht-stiftung.de. \nEine Schulungsreihe für Angehörige von Menschen mit Demenz der Deutschen Alzheimer Gesellschaft Landesverband M-V und des Deutschen Zentrum für Neurogenerative Erkrankungen e.V. Standort Rostock/Greifswald\, unterstützt durch die BARMER Ersatzkasse.\nDie Schulung wird durchgeführt von der Deutschen Alzheimer Gesellschaft Landesverband M-V in Kooperation mit der Johanna-Odebrecht-Stiftung. \nAlle Informationen über die Themen der Schulung finden Sie hier im Flyer AGS 53/22.
URL:https://alzheimer-mv.de/event/angehoerigenschulung-leben-mit-demenz-37-23-in-greifswald-2/2023-10-18/
LOCATION:Ev. Schulzentrum Martinschule\, Heinrich-Hertz-Straße 19\, Greifswald\, 17419
CATEGORIES:Angehörigenschulung
ATTACH;FMTTYPE=image/png:https://alzheimer-mv.de/download/24123/?tmstv=1776616538&v=24124
ORGANIZER;CN="DAlzG LV M-V / Schulungsleiter Dirk Mischkale":MAILTO:mischkale@odebrecht-stiftung.de
GEO:54.0772838;13.4034936
X-APPLE-STRUCTURED-LOCATION;VALUE=URI;X-ADDRESS=Ev. Schulzentrum Martinschule Heinrich-Hertz-Straße 19 Greifswald 17419;X-APPLE-RADIUS=500;X-TITLE=Heinrich-Hertz-Straße 19:geo:13.4034936,54.0772838
END:VEVENT
BEGIN:VEVENT
DTSTART;TZID=Europe/Berlin:20231018T163000
DTEND;TZID=Europe/Berlin:20231018T183000
DTSTAMP:20260419T183538
CREATED:20230925T095642Z
LAST-MODIFIED:20231115T082024Z
UID:10003561-1697646600-1697653800@alzheimer-mv.de
SUMMARY:Angehörigenschulung „Leben mit Demenz“ (37/23) in Greifswald
DESCRIPTION:Am Mittwoch\, den 6. September 2023\, beginnt um 16:30 Uhr im Ev. Schulzentrum Martinschule\, (Abschlussstufenzentrum)\, Heinrich-Hertz-Straße 19 in 17491 Greifswald\, eine Schulung für Angehörige von Menschen mit dementiellen Veränderungen. In der Schulungsveranstaltung wird Wissenswertes über die Krankheit und ihren Verlauf sowie Therapiemöglichkeiten vermittelt\, Aspekte zu Kommunikation und Umgang mit dem oder der Erkrankten\, aber auch Leistungen der Pflegekassen\, rechtliche Fragen und Entlastungsmöglichkeiten für die Angehörigen werden besprochen. \nSchulungsleiter dieser Schulungsreihe ist Herr Dirk Mischkale. Er ist Geschäftsführer der Evangelischen Altenhilfeeinrichtung der Johanna-Odebrecht-Stiftung und führt zusammen mit anderen Pflegefachkräften durch die Schulungsreihe und steht Ihnen mit einem breiten Wissens- und Erfahrungsschatz zur Seite. \nAnmeldung und weitere Informationen erhalten Sie beim Schulungsleiter Dirk Mischkale\, unter Telefon 03834 543 502 und unter mischkale@odebrecht-stiftung.de. \nEine Schulungsreihe für Angehörige von Menschen mit Demenz der Deutschen Alzheimer Gesellschaft Landesverband M-V und des Deutschen Zentrum für Neurogenerative Erkrankungen e.V. Standort Rostock/Greifswald\, unterstützt durch die BARMER Ersatzkasse.\nDie Schulung wird durchgeführt von der Deutschen Alzheimer Gesellschaft Landesverband M-V in Kooperation mit der Johanna-Odebrecht-Stiftung. \nAlle Informationen über die Themen der Schulung finden Sie hier im Flyer AGS 37/22. \n  \n 
URL:https://alzheimer-mv.de/event/angehoerigenschulung-leben-mit-demenz-37-23-in-greifswald/2023-10-18/
LOCATION:Ev. Schulzentrum Martinschule\, Heinrich-Hertz-Straße 19\, Greifswald\, 17419
CATEGORIES:Angehörigenschulung
ATTACH;FMTTYPE=image/png:https://alzheimer-mv.de/download/24123/?tmstv=1776616538&v=24124
ORGANIZER;CN="DAlzG LV M-V / Schulungsleiter Dirk Mischkale":MAILTO:mischkale@odebrecht-stiftung.de
GEO:54.0772838;13.4034936
X-APPLE-STRUCTURED-LOCATION;VALUE=URI;X-ADDRESS=Ev. Schulzentrum Martinschule Heinrich-Hertz-Straße 19 Greifswald 17419;X-APPLE-RADIUS=500;X-TITLE=Heinrich-Hertz-Straße 19:geo:13.4034936,54.0772838
END:VEVENT
BEGIN:VEVENT
DTSTART;TZID=Europe/Berlin:20231025T140000
DTEND;TZID=Europe/Berlin:20231025T160000
DTSTAMP:20260419T183538
CREATED:20231115T081800Z
LAST-MODIFIED:20231115T081934Z
UID:10003782-1698242400-1698249600@alzheimer-mv.de
SUMMARY:Angehörigenschulung „Leben mit Demenz“ (53/23) in Greifswald
DESCRIPTION:Am Mittwoch\, den 6. September 2023\, beginnt um 14:00 Uhr im Ev. Schulzentrum Martinschule\, (Abschlussstufenzentrum)\, Heinrich-Hertz-Straße 19 in 17491 Greifswald\, eine Schulung für Angehörige von Menschen mit dementiellen Veränderungen. In der Schulungsveranstaltung wird Wissenswertes über die Krankheit und ihren Verlauf sowie Therapiemöglichkeiten vermittelt\, Aspekte zu Kommunikation und Umgang mit dem oder der Erkrankten\, aber auch Leistungen der Pflegekassen\, rechtliche Fragen und Entlastungsmöglichkeiten für die Angehörigen werden besprochen. \nSchulungsleiter dieser Schulungsreihe ist Herr Dirk Mischkale. Er ist Geschäftsführer der Evangelischen Altenhilfeeinrichtung der Johanna-Odebrecht-Stiftung und führt zusammen mit anderen Pflegefachkräften durch die Schulungsreihe und steht Ihnen mit einem breiten Wissens- und Erfahrungsschatz zur Seite. \nAnmeldung und weitere Informationen erhalten Sie beim Schulungsleiter Dirk Mischkale\, unter Telefon 03834 543 502 und unter mischkale@odebrecht-stiftung.de. \nEine Schulungsreihe für Angehörige von Menschen mit Demenz der Deutschen Alzheimer Gesellschaft Landesverband M-V und des Deutschen Zentrum für Neurogenerative Erkrankungen e.V. Standort Rostock/Greifswald\, unterstützt durch die BARMER Ersatzkasse.\nDie Schulung wird durchgeführt von der Deutschen Alzheimer Gesellschaft Landesverband M-V in Kooperation mit der Johanna-Odebrecht-Stiftung. \nAlle Informationen über die Themen der Schulung finden Sie hier im Flyer AGS 53/22.
URL:https://alzheimer-mv.de/event/angehoerigenschulung-leben-mit-demenz-37-23-in-greifswald-2/2023-10-25/
LOCATION:Ev. Schulzentrum Martinschule\, Heinrich-Hertz-Straße 19\, Greifswald\, 17419
CATEGORIES:Angehörigenschulung
ATTACH;FMTTYPE=image/png:https://alzheimer-mv.de/download/24123/?tmstv=1776616538&v=24124
ORGANIZER;CN="DAlzG LV M-V / Schulungsleiter Dirk Mischkale":MAILTO:mischkale@odebrecht-stiftung.de
GEO:54.0772838;13.4034936
X-APPLE-STRUCTURED-LOCATION;VALUE=URI;X-ADDRESS=Ev. Schulzentrum Martinschule Heinrich-Hertz-Straße 19 Greifswald 17419;X-APPLE-RADIUS=500;X-TITLE=Heinrich-Hertz-Straße 19:geo:13.4034936,54.0772838
END:VEVENT
BEGIN:VEVENT
DTSTART;TZID=Europe/Berlin:20231025T163000
DTEND;TZID=Europe/Berlin:20231025T183000
DTSTAMP:20260419T183538
CREATED:20230925T095642Z
LAST-MODIFIED:20231115T082024Z
UID:10003562-1698251400-1698258600@alzheimer-mv.de
SUMMARY:Angehörigenschulung „Leben mit Demenz“ (37/23) in Greifswald
DESCRIPTION:Am Mittwoch\, den 6. September 2023\, beginnt um 16:30 Uhr im Ev. Schulzentrum Martinschule\, (Abschlussstufenzentrum)\, Heinrich-Hertz-Straße 19 in 17491 Greifswald\, eine Schulung für Angehörige von Menschen mit dementiellen Veränderungen. In der Schulungsveranstaltung wird Wissenswertes über die Krankheit und ihren Verlauf sowie Therapiemöglichkeiten vermittelt\, Aspekte zu Kommunikation und Umgang mit dem oder der Erkrankten\, aber auch Leistungen der Pflegekassen\, rechtliche Fragen und Entlastungsmöglichkeiten für die Angehörigen werden besprochen. \nSchulungsleiter dieser Schulungsreihe ist Herr Dirk Mischkale. Er ist Geschäftsführer der Evangelischen Altenhilfeeinrichtung der Johanna-Odebrecht-Stiftung und führt zusammen mit anderen Pflegefachkräften durch die Schulungsreihe und steht Ihnen mit einem breiten Wissens- und Erfahrungsschatz zur Seite. \nAnmeldung und weitere Informationen erhalten Sie beim Schulungsleiter Dirk Mischkale\, unter Telefon 03834 543 502 und unter mischkale@odebrecht-stiftung.de. \nEine Schulungsreihe für Angehörige von Menschen mit Demenz der Deutschen Alzheimer Gesellschaft Landesverband M-V und des Deutschen Zentrum für Neurogenerative Erkrankungen e.V. Standort Rostock/Greifswald\, unterstützt durch die BARMER Ersatzkasse.\nDie Schulung wird durchgeführt von der Deutschen Alzheimer Gesellschaft Landesverband M-V in Kooperation mit der Johanna-Odebrecht-Stiftung. \nAlle Informationen über die Themen der Schulung finden Sie hier im Flyer AGS 37/22. \n  \n 
URL:https://alzheimer-mv.de/event/angehoerigenschulung-leben-mit-demenz-37-23-in-greifswald/2023-10-25/
LOCATION:Ev. Schulzentrum Martinschule\, Heinrich-Hertz-Straße 19\, Greifswald\, 17419
CATEGORIES:Angehörigenschulung
ATTACH;FMTTYPE=image/png:https://alzheimer-mv.de/download/24123/?tmstv=1776616538&v=24124
ORGANIZER;CN="DAlzG LV M-V / Schulungsleiter Dirk Mischkale":MAILTO:mischkale@odebrecht-stiftung.de
GEO:54.0772838;13.4034936
X-APPLE-STRUCTURED-LOCATION;VALUE=URI;X-ADDRESS=Ev. Schulzentrum Martinschule Heinrich-Hertz-Straße 19 Greifswald 17419;X-APPLE-RADIUS=500;X-TITLE=Heinrich-Hertz-Straße 19:geo:13.4034936,54.0772838
END:VEVENT
END:VCALENDAR