
BEGIN:VCALENDAR
VERSION:2.0
PRODID:-//Deutsche Alzheimer Gesellschaft - ECPv6.15.20//NONSGML v1.0//EN
CALSCALE:GREGORIAN
METHOD:PUBLISH
X-WR-CALNAME:Deutsche Alzheimer Gesellschaft
X-ORIGINAL-URL:https://alzheimer-mv.de
X-WR-CALDESC:Veranstaltungen für Deutsche Alzheimer Gesellschaft
REFRESH-INTERVAL;VALUE=DURATION:PT1H
X-Robots-Tag:noindex
X-PUBLISHED-TTL:PT1H
BEGIN:VTIMEZONE
TZID:Europe/Berlin
BEGIN:DAYLIGHT
TZOFFSETFROM:+0100
TZOFFSETTO:+0200
TZNAME:CEST
DTSTART:20220327T010000
END:DAYLIGHT
BEGIN:STANDARD
TZOFFSETFROM:+0200
TZOFFSETTO:+0100
TZNAME:CET
DTSTART:20221030T010000
END:STANDARD
BEGIN:DAYLIGHT
TZOFFSETFROM:+0100
TZOFFSETTO:+0200
TZNAME:CEST
DTSTART:20230326T010000
END:DAYLIGHT
BEGIN:STANDARD
TZOFFSETFROM:+0200
TZOFFSETTO:+0100
TZNAME:CET
DTSTART:20231029T010000
END:STANDARD
BEGIN:DAYLIGHT
TZOFFSETFROM:+0100
TZOFFSETTO:+0200
TZNAME:CEST
DTSTART:20240331T010000
END:DAYLIGHT
BEGIN:STANDARD
TZOFFSETFROM:+0200
TZOFFSETTO:+0100
TZNAME:CET
DTSTART:20241027T010000
END:STANDARD
END:VTIMEZONE
BEGIN:VEVENT
DTSTART;TZID=Europe/Berlin:20230906T140000
DTEND;TZID=Europe/Berlin:20230906T160000
DTSTAMP:20260420T013225
CREATED:20231115T081800Z
LAST-MODIFIED:20231115T081934Z
UID:10003775-1694008800-1694016000@alzheimer-mv.de
SUMMARY:Angehörigenschulung „Leben mit Demenz“ (53/23) in Greifswald
DESCRIPTION:Am Mittwoch\, den 6. September 2023\, beginnt um 14:00 Uhr im Ev. Schulzentrum Martinschule\, (Abschlussstufenzentrum)\, Heinrich-Hertz-Straße 19 in 17491 Greifswald\, eine Schulung für Angehörige von Menschen mit dementiellen Veränderungen. In der Schulungsveranstaltung wird Wissenswertes über die Krankheit und ihren Verlauf sowie Therapiemöglichkeiten vermittelt\, Aspekte zu Kommunikation und Umgang mit dem oder der Erkrankten\, aber auch Leistungen der Pflegekassen\, rechtliche Fragen und Entlastungsmöglichkeiten für die Angehörigen werden besprochen. \nSchulungsleiter dieser Schulungsreihe ist Herr Dirk Mischkale. Er ist Geschäftsführer der Evangelischen Altenhilfeeinrichtung der Johanna-Odebrecht-Stiftung und führt zusammen mit anderen Pflegefachkräften durch die Schulungsreihe und steht Ihnen mit einem breiten Wissens- und Erfahrungsschatz zur Seite. \nAnmeldung und weitere Informationen erhalten Sie beim Schulungsleiter Dirk Mischkale\, unter Telefon 03834 543 502 und unter mischkale@odebrecht-stiftung.de. \nEine Schulungsreihe für Angehörige von Menschen mit Demenz der Deutschen Alzheimer Gesellschaft Landesverband M-V und des Deutschen Zentrum für Neurogenerative Erkrankungen e.V. Standort Rostock/Greifswald\, unterstützt durch die BARMER Ersatzkasse.\nDie Schulung wird durchgeführt von der Deutschen Alzheimer Gesellschaft Landesverband M-V in Kooperation mit der Johanna-Odebrecht-Stiftung. \nAlle Informationen über die Themen der Schulung finden Sie hier im Flyer AGS 53/22.
URL:https://alzheimer-mv.de/event/angehoerigenschulung-leben-mit-demenz-37-23-in-greifswald-2/2023-09-06/
LOCATION:Ev. Schulzentrum Martinschule\, Heinrich-Hertz-Straße 19\, Greifswald\, 17419
CATEGORIES:Angehörigenschulung
ATTACH;FMTTYPE=image/png:https://alzheimer-mv.de/download/24123/?tmstv=1776641545&v=24124
ORGANIZER;CN="DAlzG LV M-V / Schulungsleiter Dirk Mischkale":MAILTO:mischkale@odebrecht-stiftung.de
GEO:54.0772838;13.4034936
X-APPLE-STRUCTURED-LOCATION;VALUE=URI;X-ADDRESS=Ev. Schulzentrum Martinschule Heinrich-Hertz-Straße 19 Greifswald 17419;X-APPLE-RADIUS=500;X-TITLE=Heinrich-Hertz-Straße 19:geo:13.4034936,54.0772838
END:VEVENT
BEGIN:VEVENT
DTSTART;TZID=Europe/Berlin:20230906T163000
DTEND;TZID=Europe/Berlin:20230906T183000
DTSTAMP:20260420T013225
CREATED:20230925T095642Z
LAST-MODIFIED:20231115T082024Z
UID:10003555-1694017800-1694025000@alzheimer-mv.de
SUMMARY:Angehörigenschulung „Leben mit Demenz“ (37/23) in Greifswald
DESCRIPTION:Am Mittwoch\, den 6. September 2023\, beginnt um 16:30 Uhr im Ev. Schulzentrum Martinschule\, (Abschlussstufenzentrum)\, Heinrich-Hertz-Straße 19 in 17491 Greifswald\, eine Schulung für Angehörige von Menschen mit dementiellen Veränderungen. In der Schulungsveranstaltung wird Wissenswertes über die Krankheit und ihren Verlauf sowie Therapiemöglichkeiten vermittelt\, Aspekte zu Kommunikation und Umgang mit dem oder der Erkrankten\, aber auch Leistungen der Pflegekassen\, rechtliche Fragen und Entlastungsmöglichkeiten für die Angehörigen werden besprochen. \nSchulungsleiter dieser Schulungsreihe ist Herr Dirk Mischkale. Er ist Geschäftsführer der Evangelischen Altenhilfeeinrichtung der Johanna-Odebrecht-Stiftung und führt zusammen mit anderen Pflegefachkräften durch die Schulungsreihe und steht Ihnen mit einem breiten Wissens- und Erfahrungsschatz zur Seite. \nAnmeldung und weitere Informationen erhalten Sie beim Schulungsleiter Dirk Mischkale\, unter Telefon 03834 543 502 und unter mischkale@odebrecht-stiftung.de. \nEine Schulungsreihe für Angehörige von Menschen mit Demenz der Deutschen Alzheimer Gesellschaft Landesverband M-V und des Deutschen Zentrum für Neurogenerative Erkrankungen e.V. Standort Rostock/Greifswald\, unterstützt durch die BARMER Ersatzkasse.\nDie Schulung wird durchgeführt von der Deutschen Alzheimer Gesellschaft Landesverband M-V in Kooperation mit der Johanna-Odebrecht-Stiftung. \nAlle Informationen über die Themen der Schulung finden Sie hier im Flyer AGS 37/22. \n  \n 
URL:https://alzheimer-mv.de/event/angehoerigenschulung-leben-mit-demenz-37-23-in-greifswald/2023-09-06/
LOCATION:Ev. Schulzentrum Martinschule\, Heinrich-Hertz-Straße 19\, Greifswald\, 17419
CATEGORIES:Angehörigenschulung
ATTACH;FMTTYPE=image/png:https://alzheimer-mv.de/download/24123/?tmstv=1776641545&v=24124
ORGANIZER;CN="DAlzG LV M-V / Schulungsleiter Dirk Mischkale":MAILTO:mischkale@odebrecht-stiftung.de
GEO:54.0772838;13.4034936
X-APPLE-STRUCTURED-LOCATION;VALUE=URI;X-ADDRESS=Ev. Schulzentrum Martinschule Heinrich-Hertz-Straße 19 Greifswald 17419;X-APPLE-RADIUS=500;X-TITLE=Heinrich-Hertz-Straße 19:geo:13.4034936,54.0772838
END:VEVENT
BEGIN:VEVENT
DTSTART;TZID=Europe/Berlin:20230913T140000
DTEND;TZID=Europe/Berlin:20230913T160000
DTSTAMP:20260420T013225
CREATED:20231115T081800Z
LAST-MODIFIED:20231115T081934Z
UID:10003776-1694613600-1694620800@alzheimer-mv.de
SUMMARY:Angehörigenschulung „Leben mit Demenz“ (53/23) in Greifswald
DESCRIPTION:Am Mittwoch\, den 6. September 2023\, beginnt um 14:00 Uhr im Ev. Schulzentrum Martinschule\, (Abschlussstufenzentrum)\, Heinrich-Hertz-Straße 19 in 17491 Greifswald\, eine Schulung für Angehörige von Menschen mit dementiellen Veränderungen. In der Schulungsveranstaltung wird Wissenswertes über die Krankheit und ihren Verlauf sowie Therapiemöglichkeiten vermittelt\, Aspekte zu Kommunikation und Umgang mit dem oder der Erkrankten\, aber auch Leistungen der Pflegekassen\, rechtliche Fragen und Entlastungsmöglichkeiten für die Angehörigen werden besprochen. \nSchulungsleiter dieser Schulungsreihe ist Herr Dirk Mischkale. Er ist Geschäftsführer der Evangelischen Altenhilfeeinrichtung der Johanna-Odebrecht-Stiftung und führt zusammen mit anderen Pflegefachkräften durch die Schulungsreihe und steht Ihnen mit einem breiten Wissens- und Erfahrungsschatz zur Seite. \nAnmeldung und weitere Informationen erhalten Sie beim Schulungsleiter Dirk Mischkale\, unter Telefon 03834 543 502 und unter mischkale@odebrecht-stiftung.de. \nEine Schulungsreihe für Angehörige von Menschen mit Demenz der Deutschen Alzheimer Gesellschaft Landesverband M-V und des Deutschen Zentrum für Neurogenerative Erkrankungen e.V. Standort Rostock/Greifswald\, unterstützt durch die BARMER Ersatzkasse.\nDie Schulung wird durchgeführt von der Deutschen Alzheimer Gesellschaft Landesverband M-V in Kooperation mit der Johanna-Odebrecht-Stiftung. \nAlle Informationen über die Themen der Schulung finden Sie hier im Flyer AGS 53/22.
URL:https://alzheimer-mv.de/event/angehoerigenschulung-leben-mit-demenz-37-23-in-greifswald-2/2023-09-13/
LOCATION:Ev. Schulzentrum Martinschule\, Heinrich-Hertz-Straße 19\, Greifswald\, 17419
CATEGORIES:Angehörigenschulung
ATTACH;FMTTYPE=image/png:https://alzheimer-mv.de/download/24123/?tmstv=1776641545&v=24124
ORGANIZER;CN="DAlzG LV M-V / Schulungsleiter Dirk Mischkale":MAILTO:mischkale@odebrecht-stiftung.de
GEO:54.0772838;13.4034936
X-APPLE-STRUCTURED-LOCATION;VALUE=URI;X-ADDRESS=Ev. Schulzentrum Martinschule Heinrich-Hertz-Straße 19 Greifswald 17419;X-APPLE-RADIUS=500;X-TITLE=Heinrich-Hertz-Straße 19:geo:13.4034936,54.0772838
END:VEVENT
BEGIN:VEVENT
DTSTART;TZID=Europe/Berlin:20230913T163000
DTEND;TZID=Europe/Berlin:20230913T183000
DTSTAMP:20260420T013225
CREATED:20230925T095642Z
LAST-MODIFIED:20231115T082024Z
UID:10003556-1694622600-1694629800@alzheimer-mv.de
SUMMARY:Angehörigenschulung „Leben mit Demenz“ (37/23) in Greifswald
DESCRIPTION:Am Mittwoch\, den 6. September 2023\, beginnt um 16:30 Uhr im Ev. Schulzentrum Martinschule\, (Abschlussstufenzentrum)\, Heinrich-Hertz-Straße 19 in 17491 Greifswald\, eine Schulung für Angehörige von Menschen mit dementiellen Veränderungen. In der Schulungsveranstaltung wird Wissenswertes über die Krankheit und ihren Verlauf sowie Therapiemöglichkeiten vermittelt\, Aspekte zu Kommunikation und Umgang mit dem oder der Erkrankten\, aber auch Leistungen der Pflegekassen\, rechtliche Fragen und Entlastungsmöglichkeiten für die Angehörigen werden besprochen. \nSchulungsleiter dieser Schulungsreihe ist Herr Dirk Mischkale. Er ist Geschäftsführer der Evangelischen Altenhilfeeinrichtung der Johanna-Odebrecht-Stiftung und führt zusammen mit anderen Pflegefachkräften durch die Schulungsreihe und steht Ihnen mit einem breiten Wissens- und Erfahrungsschatz zur Seite. \nAnmeldung und weitere Informationen erhalten Sie beim Schulungsleiter Dirk Mischkale\, unter Telefon 03834 543 502 und unter mischkale@odebrecht-stiftung.de. \nEine Schulungsreihe für Angehörige von Menschen mit Demenz der Deutschen Alzheimer Gesellschaft Landesverband M-V und des Deutschen Zentrum für Neurogenerative Erkrankungen e.V. Standort Rostock/Greifswald\, unterstützt durch die BARMER Ersatzkasse.\nDie Schulung wird durchgeführt von der Deutschen Alzheimer Gesellschaft Landesverband M-V in Kooperation mit der Johanna-Odebrecht-Stiftung. \nAlle Informationen über die Themen der Schulung finden Sie hier im Flyer AGS 37/22. \n  \n 
URL:https://alzheimer-mv.de/event/angehoerigenschulung-leben-mit-demenz-37-23-in-greifswald/2023-09-13/
LOCATION:Ev. Schulzentrum Martinschule\, Heinrich-Hertz-Straße 19\, Greifswald\, 17419
CATEGORIES:Angehörigenschulung
ATTACH;FMTTYPE=image/png:https://alzheimer-mv.de/download/24123/?tmstv=1776641545&v=24124
ORGANIZER;CN="DAlzG LV M-V / Schulungsleiter Dirk Mischkale":MAILTO:mischkale@odebrecht-stiftung.de
GEO:54.0772838;13.4034936
X-APPLE-STRUCTURED-LOCATION;VALUE=URI;X-ADDRESS=Ev. Schulzentrum Martinschule Heinrich-Hertz-Straße 19 Greifswald 17419;X-APPLE-RADIUS=500;X-TITLE=Heinrich-Hertz-Straße 19:geo:13.4034936,54.0772838
END:VEVENT
BEGIN:VEVENT
DTSTART;TZID=Europe/Berlin:20230918T100000
DTEND;TZID=Europe/Berlin:20230918T180000
DTSTAMP:20260420T013225
CREATED:20230912T091233Z
LAST-MODIFIED:20230912T122633Z
UID:10003486-1695031200-1695060000@alzheimer-mv.de
SUMMARY:Eröffnung der Woche der Demenz in Greifswald
DESCRIPTION:Stadtbibliothek\, Knopfstr. 18-20\n10:00 – 13:00 Uhr Beratung durch den Pflegestützpunkt Greifswald\n15:00 Uhr Ausstellungseröffnung „Wenn Demenz zum Alltag wird – Medienangebot der Stadtbibliothek“\nWanderausstellung DEMENSCH\, Cartoons von Peter Gaymann\n16:00 Uhr Filmvorführung „Mittagsstunde“ (auf platt) \neinLaden (Bürgerhafen)\, Bachstr. 24\n13:00 – 14: Uhr Demenzsprechstunde/ Beratung
URL:https://alzheimer-mv.de/event/eroeffnung-der-woche-der-demenz-in-greifswald/
LOCATION:Greifswald\, Greifswald\, Deutschland
CATEGORIES:Allgemein
ATTACH;FMTTYPE=image/jpeg:https://alzheimer-mv.de/wp-content/uploads/2023/07/2023_WAT_Facebook_1.200_x_630_px.jpg
GEO:54.0865463;13.3923414
END:VEVENT
BEGIN:VEVENT
DTSTART;TZID=Europe/Berlin:20230920T130000
DTEND;TZID=Europe/Berlin:20230920T210000
DTSTAMP:20260420T013225
CREATED:20230912T092021Z
LAST-MODIFIED:20230912T122101Z
UID:10003487-1695214800-1695243600@alzheimer-mv.de
SUMMARY:Zur Woche der Demenz in Greifswald
DESCRIPTION:Mehrgenerationenhaus Aktion Sonnenschein\, Makarenkostr. 8 \n13:00 – 13:45 Uhr Gehirnjogging\n13:00 – 17:00 Uhr Beratungsangebot Pflegestützpunkt Greifswald zum Thema Demenz \nKoeppenhaus Greifswald\, Bahnhofstr. 4-5 \n19:30 Uhr  Filmvorführung „Blauer Himmel – Weiße Wolken“\nDie Filmemacherin Astrid Menzel und ihr Bruder unternehmen eine Reise mit ihrer demenzerkrankten Großmutter.\nEintritt 5 EUR
URL:https://alzheimer-mv.de/event/zum-welt-alzheimertag-in-greifswald/
LOCATION:Greifswald\, Greifswald\, Deutschland
CATEGORIES:Allgemein
ATTACH;FMTTYPE=image/jpeg:https://alzheimer-mv.de/wp-content/uploads/2023/07/2023_WAT_Facebook_1.200_x_630_px.jpg
GEO:54.0865463;13.3923414
END:VEVENT
BEGIN:VEVENT
DTSTART;TZID=Europe/Berlin:20230920T140000
DTEND;TZID=Europe/Berlin:20230920T160000
DTSTAMP:20260420T013225
CREATED:20231115T081800Z
LAST-MODIFIED:20231115T081934Z
UID:10003777-1695218400-1695225600@alzheimer-mv.de
SUMMARY:Angehörigenschulung „Leben mit Demenz“ (53/23) in Greifswald
DESCRIPTION:Am Mittwoch\, den 6. September 2023\, beginnt um 14:00 Uhr im Ev. Schulzentrum Martinschule\, (Abschlussstufenzentrum)\, Heinrich-Hertz-Straße 19 in 17491 Greifswald\, eine Schulung für Angehörige von Menschen mit dementiellen Veränderungen. In der Schulungsveranstaltung wird Wissenswertes über die Krankheit und ihren Verlauf sowie Therapiemöglichkeiten vermittelt\, Aspekte zu Kommunikation und Umgang mit dem oder der Erkrankten\, aber auch Leistungen der Pflegekassen\, rechtliche Fragen und Entlastungsmöglichkeiten für die Angehörigen werden besprochen. \nSchulungsleiter dieser Schulungsreihe ist Herr Dirk Mischkale. Er ist Geschäftsführer der Evangelischen Altenhilfeeinrichtung der Johanna-Odebrecht-Stiftung und führt zusammen mit anderen Pflegefachkräften durch die Schulungsreihe und steht Ihnen mit einem breiten Wissens- und Erfahrungsschatz zur Seite. \nAnmeldung und weitere Informationen erhalten Sie beim Schulungsleiter Dirk Mischkale\, unter Telefon 03834 543 502 und unter mischkale@odebrecht-stiftung.de. \nEine Schulungsreihe für Angehörige von Menschen mit Demenz der Deutschen Alzheimer Gesellschaft Landesverband M-V und des Deutschen Zentrum für Neurogenerative Erkrankungen e.V. Standort Rostock/Greifswald\, unterstützt durch die BARMER Ersatzkasse.\nDie Schulung wird durchgeführt von der Deutschen Alzheimer Gesellschaft Landesverband M-V in Kooperation mit der Johanna-Odebrecht-Stiftung. \nAlle Informationen über die Themen der Schulung finden Sie hier im Flyer AGS 53/22.
URL:https://alzheimer-mv.de/event/angehoerigenschulung-leben-mit-demenz-37-23-in-greifswald-2/2023-09-20/
LOCATION:Ev. Schulzentrum Martinschule\, Heinrich-Hertz-Straße 19\, Greifswald\, 17419
CATEGORIES:Angehörigenschulung
ATTACH;FMTTYPE=image/png:https://alzheimer-mv.de/download/24123/?tmstv=1776641545&v=24124
ORGANIZER;CN="DAlzG LV M-V / Schulungsleiter Dirk Mischkale":MAILTO:mischkale@odebrecht-stiftung.de
GEO:54.0772838;13.4034936
X-APPLE-STRUCTURED-LOCATION;VALUE=URI;X-ADDRESS=Ev. Schulzentrum Martinschule Heinrich-Hertz-Straße 19 Greifswald 17419;X-APPLE-RADIUS=500;X-TITLE=Heinrich-Hertz-Straße 19:geo:13.4034936,54.0772838
END:VEVENT
BEGIN:VEVENT
DTSTART;TZID=Europe/Berlin:20230920T163000
DTEND;TZID=Europe/Berlin:20230920T183000
DTSTAMP:20260420T013225
CREATED:20230925T095642Z
LAST-MODIFIED:20231115T082024Z
UID:10003557-1695227400-1695234600@alzheimer-mv.de
SUMMARY:Angehörigenschulung „Leben mit Demenz“ (37/23) in Greifswald
DESCRIPTION:Am Mittwoch\, den 6. September 2023\, beginnt um 16:30 Uhr im Ev. Schulzentrum Martinschule\, (Abschlussstufenzentrum)\, Heinrich-Hertz-Straße 19 in 17491 Greifswald\, eine Schulung für Angehörige von Menschen mit dementiellen Veränderungen. In der Schulungsveranstaltung wird Wissenswertes über die Krankheit und ihren Verlauf sowie Therapiemöglichkeiten vermittelt\, Aspekte zu Kommunikation und Umgang mit dem oder der Erkrankten\, aber auch Leistungen der Pflegekassen\, rechtliche Fragen und Entlastungsmöglichkeiten für die Angehörigen werden besprochen. \nSchulungsleiter dieser Schulungsreihe ist Herr Dirk Mischkale. Er ist Geschäftsführer der Evangelischen Altenhilfeeinrichtung der Johanna-Odebrecht-Stiftung und führt zusammen mit anderen Pflegefachkräften durch die Schulungsreihe und steht Ihnen mit einem breiten Wissens- und Erfahrungsschatz zur Seite. \nAnmeldung und weitere Informationen erhalten Sie beim Schulungsleiter Dirk Mischkale\, unter Telefon 03834 543 502 und unter mischkale@odebrecht-stiftung.de. \nEine Schulungsreihe für Angehörige von Menschen mit Demenz der Deutschen Alzheimer Gesellschaft Landesverband M-V und des Deutschen Zentrum für Neurogenerative Erkrankungen e.V. Standort Rostock/Greifswald\, unterstützt durch die BARMER Ersatzkasse.\nDie Schulung wird durchgeführt von der Deutschen Alzheimer Gesellschaft Landesverband M-V in Kooperation mit der Johanna-Odebrecht-Stiftung. \nAlle Informationen über die Themen der Schulung finden Sie hier im Flyer AGS 37/22. \n  \n 
URL:https://alzheimer-mv.de/event/angehoerigenschulung-leben-mit-demenz-37-23-in-greifswald/2023-09-20/
LOCATION:Ev. Schulzentrum Martinschule\, Heinrich-Hertz-Straße 19\, Greifswald\, 17419
CATEGORIES:Angehörigenschulung
ATTACH;FMTTYPE=image/png:https://alzheimer-mv.de/download/24123/?tmstv=1776641545&v=24124
ORGANIZER;CN="DAlzG LV M-V / Schulungsleiter Dirk Mischkale":MAILTO:mischkale@odebrecht-stiftung.de
GEO:54.0772838;13.4034936
X-APPLE-STRUCTURED-LOCATION;VALUE=URI;X-ADDRESS=Ev. Schulzentrum Martinschule Heinrich-Hertz-Straße 19 Greifswald 17419;X-APPLE-RADIUS=500;X-TITLE=Heinrich-Hertz-Straße 19:geo:13.4034936,54.0772838
END:VEVENT
BEGIN:VEVENT
DTSTART;TZID=Europe/Berlin:20230921T100000
DTEND;TZID=Europe/Berlin:20230921T190000
DTSTAMP:20260420T013225
CREATED:20230912T093438Z
LAST-MODIFIED:20230912T122423Z
UID:10003488-1695290400-1695322800@alzheimer-mv.de
SUMMARY:Welt-Alzheimertag in Greifswald
DESCRIPTION:Stadtbibliothek Greifswald\, Knopfstr. 18-20\nFoyer/ Veranstaltungsraum\n10:00 – 18:00 Uhr Informationsveranstaltung zum Thema Demenz\nDabei sind: Selbsthilfegruppe der mariengemeinde\, Deutsches Zentrum für neurodegenerative Erkrankungen\, Netzwerk Demenz und Kultur\n10:00 – 11:00 Uhr Vorstellung Medienkoffer „Kindern Demenz erklären“\n14:00 Uhr Vortrag und Workshop „Besser gemeinsam: so wichtig ist das soziale Umfeld für geistige Fitness“ DZNE\n16:00 Uhr Spiele-Treff für Menschen mit und ohne Demenz \nBegegnungsstätte Pommerscher Diakonieverein Greifswald\, Bleichstr. 50\n10:00 – 11:00 Uhr Schnupperstunde „Memory-Time“ \nSt. Spiritus Greifswald\, Lange Str. 49/51\n17:00 Uhr Mitsingangebot für Menschen mit und ohne Demenz \n 
URL:https://alzheimer-mv.de/event/welt-alzheimertag-in-greifswald/
LOCATION:Greifswald\, Greifswald\, Deutschland
CATEGORIES:Allgemein
ATTACH;FMTTYPE=image/jpeg:https://alzheimer-mv.de/wp-content/uploads/2023/07/2023_WAT_Facebook_1.200_x_630_px.jpg
GEO:54.0865463;13.3923414
END:VEVENT
BEGIN:VEVENT
DTSTART;TZID=Europe/Berlin:20230927T140000
DTEND;TZID=Europe/Berlin:20230927T160000
DTSTAMP:20260420T013225
CREATED:20231115T081800Z
LAST-MODIFIED:20231115T081934Z
UID:10003778-1695823200-1695830400@alzheimer-mv.de
SUMMARY:Angehörigenschulung „Leben mit Demenz“ (53/23) in Greifswald
DESCRIPTION:Am Mittwoch\, den 6. September 2023\, beginnt um 14:00 Uhr im Ev. Schulzentrum Martinschule\, (Abschlussstufenzentrum)\, Heinrich-Hertz-Straße 19 in 17491 Greifswald\, eine Schulung für Angehörige von Menschen mit dementiellen Veränderungen. In der Schulungsveranstaltung wird Wissenswertes über die Krankheit und ihren Verlauf sowie Therapiemöglichkeiten vermittelt\, Aspekte zu Kommunikation und Umgang mit dem oder der Erkrankten\, aber auch Leistungen der Pflegekassen\, rechtliche Fragen und Entlastungsmöglichkeiten für die Angehörigen werden besprochen. \nSchulungsleiter dieser Schulungsreihe ist Herr Dirk Mischkale. Er ist Geschäftsführer der Evangelischen Altenhilfeeinrichtung der Johanna-Odebrecht-Stiftung und führt zusammen mit anderen Pflegefachkräften durch die Schulungsreihe und steht Ihnen mit einem breiten Wissens- und Erfahrungsschatz zur Seite. \nAnmeldung und weitere Informationen erhalten Sie beim Schulungsleiter Dirk Mischkale\, unter Telefon 03834 543 502 und unter mischkale@odebrecht-stiftung.de. \nEine Schulungsreihe für Angehörige von Menschen mit Demenz der Deutschen Alzheimer Gesellschaft Landesverband M-V und des Deutschen Zentrum für Neurogenerative Erkrankungen e.V. Standort Rostock/Greifswald\, unterstützt durch die BARMER Ersatzkasse.\nDie Schulung wird durchgeführt von der Deutschen Alzheimer Gesellschaft Landesverband M-V in Kooperation mit der Johanna-Odebrecht-Stiftung. \nAlle Informationen über die Themen der Schulung finden Sie hier im Flyer AGS 53/22.
URL:https://alzheimer-mv.de/event/angehoerigenschulung-leben-mit-demenz-37-23-in-greifswald-2/2023-09-27/
LOCATION:Ev. Schulzentrum Martinschule\, Heinrich-Hertz-Straße 19\, Greifswald\, 17419
CATEGORIES:Angehörigenschulung
ATTACH;FMTTYPE=image/png:https://alzheimer-mv.de/download/24123/?tmstv=1776641545&v=24124
ORGANIZER;CN="DAlzG LV M-V / Schulungsleiter Dirk Mischkale":MAILTO:mischkale@odebrecht-stiftung.de
GEO:54.0772838;13.4034936
X-APPLE-STRUCTURED-LOCATION;VALUE=URI;X-ADDRESS=Ev. Schulzentrum Martinschule Heinrich-Hertz-Straße 19 Greifswald 17419;X-APPLE-RADIUS=500;X-TITLE=Heinrich-Hertz-Straße 19:geo:13.4034936,54.0772838
END:VEVENT
BEGIN:VEVENT
DTSTART;TZID=Europe/Berlin:20230927T163000
DTEND;TZID=Europe/Berlin:20230927T183000
DTSTAMP:20260420T013225
CREATED:20230925T095642Z
LAST-MODIFIED:20231115T082024Z
UID:10003558-1695832200-1695839400@alzheimer-mv.de
SUMMARY:Angehörigenschulung „Leben mit Demenz“ (37/23) in Greifswald
DESCRIPTION:Am Mittwoch\, den 6. September 2023\, beginnt um 16:30 Uhr im Ev. Schulzentrum Martinschule\, (Abschlussstufenzentrum)\, Heinrich-Hertz-Straße 19 in 17491 Greifswald\, eine Schulung für Angehörige von Menschen mit dementiellen Veränderungen. In der Schulungsveranstaltung wird Wissenswertes über die Krankheit und ihren Verlauf sowie Therapiemöglichkeiten vermittelt\, Aspekte zu Kommunikation und Umgang mit dem oder der Erkrankten\, aber auch Leistungen der Pflegekassen\, rechtliche Fragen und Entlastungsmöglichkeiten für die Angehörigen werden besprochen. \nSchulungsleiter dieser Schulungsreihe ist Herr Dirk Mischkale. Er ist Geschäftsführer der Evangelischen Altenhilfeeinrichtung der Johanna-Odebrecht-Stiftung und führt zusammen mit anderen Pflegefachkräften durch die Schulungsreihe und steht Ihnen mit einem breiten Wissens- und Erfahrungsschatz zur Seite. \nAnmeldung und weitere Informationen erhalten Sie beim Schulungsleiter Dirk Mischkale\, unter Telefon 03834 543 502 und unter mischkale@odebrecht-stiftung.de. \nEine Schulungsreihe für Angehörige von Menschen mit Demenz der Deutschen Alzheimer Gesellschaft Landesverband M-V und des Deutschen Zentrum für Neurogenerative Erkrankungen e.V. Standort Rostock/Greifswald\, unterstützt durch die BARMER Ersatzkasse.\nDie Schulung wird durchgeführt von der Deutschen Alzheimer Gesellschaft Landesverband M-V in Kooperation mit der Johanna-Odebrecht-Stiftung. \nAlle Informationen über die Themen der Schulung finden Sie hier im Flyer AGS 37/22. \n  \n 
URL:https://alzheimer-mv.de/event/angehoerigenschulung-leben-mit-demenz-37-23-in-greifswald/2023-09-27/
LOCATION:Ev. Schulzentrum Martinschule\, Heinrich-Hertz-Straße 19\, Greifswald\, 17419
CATEGORIES:Angehörigenschulung
ATTACH;FMTTYPE=image/png:https://alzheimer-mv.de/download/24123/?tmstv=1776641545&v=24124
ORGANIZER;CN="DAlzG LV M-V / Schulungsleiter Dirk Mischkale":MAILTO:mischkale@odebrecht-stiftung.de
GEO:54.0772838;13.4034936
X-APPLE-STRUCTURED-LOCATION;VALUE=URI;X-ADDRESS=Ev. Schulzentrum Martinschule Heinrich-Hertz-Straße 19 Greifswald 17419;X-APPLE-RADIUS=500;X-TITLE=Heinrich-Hertz-Straße 19:geo:13.4034936,54.0772838
END:VEVENT
BEGIN:VEVENT
DTSTART;TZID=Europe/Berlin:20230928T140000
DTEND;TZID=Europe/Berlin:20230928T150000
DTSTAMP:20260420T013225
CREATED:20230912T093835Z
LAST-MODIFIED:20230912T093845Z
UID:10003489-1695909600-1695913200@alzheimer-mv.de
SUMMARY:Welt-Alzheimertag in Greifswald
DESCRIPTION:Mehrgenerationenhaus Aktion Sonnenschein Greifswald\, Makarenkostr. 8\n14:00 Uhr Buchvorstellung mit Herrn Walter\n„Unter Tränen gelacht: Mein Vater\, die Demenz und ich“
URL:https://alzheimer-mv.de/event/welt-alzheimertag-in-greifswald-2/
LOCATION:Greifswald\, Greifswald\, Deutschland
CATEGORIES:Allgemein
ATTACH;FMTTYPE=image/jpeg:https://alzheimer-mv.de/wp-content/uploads/2023/07/2023_WAT_Facebook_1.200_x_630_px.jpg
GEO:54.0865463;13.3923414
END:VEVENT
END:VCALENDAR