
BEGIN:VCALENDAR
VERSION:2.0
PRODID:-//Deutsche Alzheimer Gesellschaft - ECPv6.15.20//NONSGML v1.0//EN
CALSCALE:GREGORIAN
METHOD:PUBLISH
X-WR-CALNAME:Deutsche Alzheimer Gesellschaft
X-ORIGINAL-URL:https://alzheimer-mv.de
X-WR-CALDESC:Veranstaltungen für Deutsche Alzheimer Gesellschaft
REFRESH-INTERVAL;VALUE=DURATION:PT1H
X-Robots-Tag:noindex
X-PUBLISHED-TTL:PT1H
BEGIN:VTIMEZONE
TZID:Europe/Berlin
BEGIN:DAYLIGHT
TZOFFSETFROM:+0100
TZOFFSETTO:+0200
TZNAME:CEST
DTSTART:20220327T010000
END:DAYLIGHT
BEGIN:STANDARD
TZOFFSETFROM:+0200
TZOFFSETTO:+0100
TZNAME:CET
DTSTART:20221030T010000
END:STANDARD
BEGIN:DAYLIGHT
TZOFFSETFROM:+0100
TZOFFSETTO:+0200
TZNAME:CEST
DTSTART:20230326T010000
END:DAYLIGHT
BEGIN:STANDARD
TZOFFSETFROM:+0200
TZOFFSETTO:+0100
TZNAME:CET
DTSTART:20231029T010000
END:STANDARD
BEGIN:DAYLIGHT
TZOFFSETFROM:+0100
TZOFFSETTO:+0200
TZNAME:CEST
DTSTART:20240331T010000
END:DAYLIGHT
BEGIN:STANDARD
TZOFFSETFROM:+0200
TZOFFSETTO:+0100
TZNAME:CET
DTSTART:20241027T010000
END:STANDARD
END:VTIMEZONE
BEGIN:VEVENT
DTSTART;TZID=Europe/Berlin:20230421T090000
DTEND;TZID=Europe/Berlin:20230421T150000
DTSTAMP:20260420T223744
CREATED:20221021T112203Z
LAST-MODIFIED:20221021T112203Z
UID:10003030-1682067600-1682089200@alzheimer-mv.de
SUMMARY:GeriCoach Qualifizierung Abschlusskolloquium (03/22)
DESCRIPTION:
URL:https://alzheimer-mv.de/event/gericoach-qualifizierung-abschlusskolloquium-03-22/
LOCATION:Europäische Fachhochschule (EU|FH)\, Werftstr. 5\, Rostock\, 18057\, Deutschland
CATEGORIES:Allgemein
ATTACH;FMTTYPE=image/jpeg:https://alzheimer-mv.de/wp-content/uploads/2022/01/210928_GeriCoach_Schulungsraum_mit_Button-1-e1642150691337.jpg
GEO:54.0936774;12.1057738
X-APPLE-STRUCTURED-LOCATION;VALUE=URI;X-ADDRESS=Europäische Fachhochschule (EU|FH) Werftstr. 5 Rostock 18057 Deutschland;X-APPLE-RADIUS=500;X-TITLE=Werftstr. 5:geo:12.1057738,54.0936774
END:VEVENT
END:VCALENDAR