
BEGIN:VCALENDAR
VERSION:2.0
PRODID:-//Deutsche Alzheimer Gesellschaft - ECPv6.15.20//NONSGML v1.0//EN
CALSCALE:GREGORIAN
METHOD:PUBLISH
X-ORIGINAL-URL:https://alzheimer-mv.de
X-WR-CALDESC:Veranstaltungen für Deutsche Alzheimer Gesellschaft
REFRESH-INTERVAL;VALUE=DURATION:PT1H
X-Robots-Tag:noindex
X-PUBLISHED-TTL:PT1H
BEGIN:VTIMEZONE
TZID:Europe/Berlin
BEGIN:DAYLIGHT
TZOFFSETFROM:+0100
TZOFFSETTO:+0200
TZNAME:CEST
DTSTART:20290325T010000
END:DAYLIGHT
BEGIN:STANDARD
TZOFFSETFROM:+0200
TZOFFSETTO:+0100
TZNAME:CET
DTSTART:20291028T010000
END:STANDARD
BEGIN:DAYLIGHT
TZOFFSETFROM:+0100
TZOFFSETTO:+0200
TZNAME:CEST
DTSTART:20300331T010000
END:DAYLIGHT
BEGIN:STANDARD
TZOFFSETFROM:+0200
TZOFFSETTO:+0100
TZNAME:CET
DTSTART:20301027T010000
END:STANDARD
BEGIN:DAYLIGHT
TZOFFSETFROM:+0100
TZOFFSETTO:+0200
TZNAME:CEST
DTSTART:20310330T010000
END:DAYLIGHT
BEGIN:STANDARD
TZOFFSETFROM:+0200
TZOFFSETTO:+0100
TZNAME:CET
DTSTART:20311026T010000
END:STANDARD
END:VTIMEZONE
BEGIN:VEVENT
DTSTART;TZID=Europe/Berlin:20300130T143000
DTEND;TZID=Europe/Berlin:20300130T163000
DTSTAMP:20260421T021658
CREATED:20250423T075246Z
LAST-MODIFIED:20250521T140448Z
UID:10006556-1896013800-1896021000@alzheimer-mv.de
SUMMARY:Die Kraft der Gemeinschaft in Parchim
DESCRIPTION:Willkommen zu Begegnung und Geselligkeit für SeniorInnen mit und ohne Demenz und ihre Angehörigen! \nOb Spieletreff\, Vorträge\, Kaffeeklatsch oder Singen\, Kreativangebote\, Bewegung die Spaß macht\, Gedächtnistraining oder geselliges Miteinander und neue Freundschaften – der offene Treff für SeniorInnen mit und ohne Demenz und ihren Angehörigen bietet für jeden etwas\, Spaß und vor allem die Kraft der Gemeinschaft. \nFür den ersten Besuch wird um Anmeldung gebeten bei Carolin Fritzsche\, Leiterin der DRK Sozialstation und der DRK Tagespflege unter 03871 – 441045 oder Sozialstation.parchim@drk-parchim.de
URL:https://alzheimer-mv.de/event/die-kraft-der-gemeinschaft/2030-01-30/
CATEGORIES:Allgemein,Beschäftigungsnachmittag,Beschäftigungsnachmittag
ORGANIZER;CN="DRK Sozialstation Parchim":MAILTO:Sozialstation.parchim@drk-parchim.de
END:VEVENT
BEGIN:VEVENT
DTSTART;TZID=Europe/Berlin:20300206T143000
DTEND;TZID=Europe/Berlin:20300206T163000
DTSTAMP:20260421T021658
CREATED:20250423T075246Z
LAST-MODIFIED:20250521T140448Z
UID:10006557-1896618600-1896625800@alzheimer-mv.de
SUMMARY:Die Kraft der Gemeinschaft in Parchim
DESCRIPTION:Willkommen zu Begegnung und Geselligkeit für SeniorInnen mit und ohne Demenz und ihre Angehörigen! \nOb Spieletreff\, Vorträge\, Kaffeeklatsch oder Singen\, Kreativangebote\, Bewegung die Spaß macht\, Gedächtnistraining oder geselliges Miteinander und neue Freundschaften – der offene Treff für SeniorInnen mit und ohne Demenz und ihren Angehörigen bietet für jeden etwas\, Spaß und vor allem die Kraft der Gemeinschaft. \nFür den ersten Besuch wird um Anmeldung gebeten bei Carolin Fritzsche\, Leiterin der DRK Sozialstation und der DRK Tagespflege unter 03871 – 441045 oder Sozialstation.parchim@drk-parchim.de
URL:https://alzheimer-mv.de/event/die-kraft-der-gemeinschaft/2030-02-06/
CATEGORIES:Allgemein,Beschäftigungsnachmittag,Beschäftigungsnachmittag
ORGANIZER;CN="DRK Sozialstation Parchim":MAILTO:Sozialstation.parchim@drk-parchim.de
END:VEVENT
BEGIN:VEVENT
DTSTART;TZID=Europe/Berlin:20300213T143000
DTEND;TZID=Europe/Berlin:20300213T163000
DTSTAMP:20260421T021658
CREATED:20250423T075246Z
LAST-MODIFIED:20250521T140448Z
UID:10006558-1897223400-1897230600@alzheimer-mv.de
SUMMARY:Die Kraft der Gemeinschaft in Parchim
DESCRIPTION:Willkommen zu Begegnung und Geselligkeit für SeniorInnen mit und ohne Demenz und ihre Angehörigen! \nOb Spieletreff\, Vorträge\, Kaffeeklatsch oder Singen\, Kreativangebote\, Bewegung die Spaß macht\, Gedächtnistraining oder geselliges Miteinander und neue Freundschaften – der offene Treff für SeniorInnen mit und ohne Demenz und ihren Angehörigen bietet für jeden etwas\, Spaß und vor allem die Kraft der Gemeinschaft. \nFür den ersten Besuch wird um Anmeldung gebeten bei Carolin Fritzsche\, Leiterin der DRK Sozialstation und der DRK Tagespflege unter 03871 – 441045 oder Sozialstation.parchim@drk-parchim.de
URL:https://alzheimer-mv.de/event/die-kraft-der-gemeinschaft/2030-02-13/
CATEGORIES:Allgemein,Beschäftigungsnachmittag,Beschäftigungsnachmittag
ORGANIZER;CN="DRK Sozialstation Parchim":MAILTO:Sozialstation.parchim@drk-parchim.de
END:VEVENT
BEGIN:VEVENT
DTSTART;TZID=Europe/Berlin:20300220T143000
DTEND;TZID=Europe/Berlin:20300220T163000
DTSTAMP:20260421T021658
CREATED:20250423T075246Z
LAST-MODIFIED:20250521T140448Z
UID:10006559-1897828200-1897835400@alzheimer-mv.de
SUMMARY:Die Kraft der Gemeinschaft in Parchim
DESCRIPTION:Willkommen zu Begegnung und Geselligkeit für SeniorInnen mit und ohne Demenz und ihre Angehörigen! \nOb Spieletreff\, Vorträge\, Kaffeeklatsch oder Singen\, Kreativangebote\, Bewegung die Spaß macht\, Gedächtnistraining oder geselliges Miteinander und neue Freundschaften – der offene Treff für SeniorInnen mit und ohne Demenz und ihren Angehörigen bietet für jeden etwas\, Spaß und vor allem die Kraft der Gemeinschaft. \nFür den ersten Besuch wird um Anmeldung gebeten bei Carolin Fritzsche\, Leiterin der DRK Sozialstation und der DRK Tagespflege unter 03871 – 441045 oder Sozialstation.parchim@drk-parchim.de
URL:https://alzheimer-mv.de/event/die-kraft-der-gemeinschaft/2030-02-20/
CATEGORIES:Allgemein,Beschäftigungsnachmittag,Beschäftigungsnachmittag
ORGANIZER;CN="DRK Sozialstation Parchim":MAILTO:Sozialstation.parchim@drk-parchim.de
END:VEVENT
BEGIN:VEVENT
DTSTART;TZID=Europe/Berlin:20300227T143000
DTEND;TZID=Europe/Berlin:20300227T163000
DTSTAMP:20260421T021658
CREATED:20250423T075246Z
LAST-MODIFIED:20250521T140448Z
UID:10006560-1898433000-1898440200@alzheimer-mv.de
SUMMARY:Die Kraft der Gemeinschaft in Parchim
DESCRIPTION:Willkommen zu Begegnung und Geselligkeit für SeniorInnen mit und ohne Demenz und ihre Angehörigen! \nOb Spieletreff\, Vorträge\, Kaffeeklatsch oder Singen\, Kreativangebote\, Bewegung die Spaß macht\, Gedächtnistraining oder geselliges Miteinander und neue Freundschaften – der offene Treff für SeniorInnen mit und ohne Demenz und ihren Angehörigen bietet für jeden etwas\, Spaß und vor allem die Kraft der Gemeinschaft. \nFür den ersten Besuch wird um Anmeldung gebeten bei Carolin Fritzsche\, Leiterin der DRK Sozialstation und der DRK Tagespflege unter 03871 – 441045 oder Sozialstation.parchim@drk-parchim.de
URL:https://alzheimer-mv.de/event/die-kraft-der-gemeinschaft/2030-02-27/
CATEGORIES:Allgemein,Beschäftigungsnachmittag,Beschäftigungsnachmittag
ORGANIZER;CN="DRK Sozialstation Parchim":MAILTO:Sozialstation.parchim@drk-parchim.de
END:VEVENT
BEGIN:VEVENT
DTSTART;TZID=Europe/Berlin:20300306T143000
DTEND;TZID=Europe/Berlin:20300306T163000
DTSTAMP:20260421T021658
CREATED:20250423T075246Z
LAST-MODIFIED:20250521T140448Z
UID:10006561-1899037800-1899045000@alzheimer-mv.de
SUMMARY:Die Kraft der Gemeinschaft in Parchim
DESCRIPTION:Willkommen zu Begegnung und Geselligkeit für SeniorInnen mit und ohne Demenz und ihre Angehörigen! \nOb Spieletreff\, Vorträge\, Kaffeeklatsch oder Singen\, Kreativangebote\, Bewegung die Spaß macht\, Gedächtnistraining oder geselliges Miteinander und neue Freundschaften – der offene Treff für SeniorInnen mit und ohne Demenz und ihren Angehörigen bietet für jeden etwas\, Spaß und vor allem die Kraft der Gemeinschaft. \nFür den ersten Besuch wird um Anmeldung gebeten bei Carolin Fritzsche\, Leiterin der DRK Sozialstation und der DRK Tagespflege unter 03871 – 441045 oder Sozialstation.parchim@drk-parchim.de
URL:https://alzheimer-mv.de/event/die-kraft-der-gemeinschaft/2030-03-06/
CATEGORIES:Allgemein,Beschäftigungsnachmittag,Beschäftigungsnachmittag
ORGANIZER;CN="DRK Sozialstation Parchim":MAILTO:Sozialstation.parchim@drk-parchim.de
END:VEVENT
BEGIN:VEVENT
DTSTART;TZID=Europe/Berlin:20300313T143000
DTEND;TZID=Europe/Berlin:20300313T163000
DTSTAMP:20260421T021658
CREATED:20250423T075246Z
LAST-MODIFIED:20250521T140448Z
UID:10006562-1899642600-1899649800@alzheimer-mv.de
SUMMARY:Die Kraft der Gemeinschaft in Parchim
DESCRIPTION:Willkommen zu Begegnung und Geselligkeit für SeniorInnen mit und ohne Demenz und ihre Angehörigen! \nOb Spieletreff\, Vorträge\, Kaffeeklatsch oder Singen\, Kreativangebote\, Bewegung die Spaß macht\, Gedächtnistraining oder geselliges Miteinander und neue Freundschaften – der offene Treff für SeniorInnen mit und ohne Demenz und ihren Angehörigen bietet für jeden etwas\, Spaß und vor allem die Kraft der Gemeinschaft. \nFür den ersten Besuch wird um Anmeldung gebeten bei Carolin Fritzsche\, Leiterin der DRK Sozialstation und der DRK Tagespflege unter 03871 – 441045 oder Sozialstation.parchim@drk-parchim.de
URL:https://alzheimer-mv.de/event/die-kraft-der-gemeinschaft/2030-03-13/
CATEGORIES:Allgemein,Beschäftigungsnachmittag,Beschäftigungsnachmittag
ORGANIZER;CN="DRK Sozialstation Parchim":MAILTO:Sozialstation.parchim@drk-parchim.de
END:VEVENT
BEGIN:VEVENT
DTSTART;TZID=Europe/Berlin:20300320T143000
DTEND;TZID=Europe/Berlin:20300320T163000
DTSTAMP:20260421T021658
CREATED:20250423T075246Z
LAST-MODIFIED:20250521T140448Z
UID:10006563-1900247400-1900254600@alzheimer-mv.de
SUMMARY:Die Kraft der Gemeinschaft in Parchim
DESCRIPTION:Willkommen zu Begegnung und Geselligkeit für SeniorInnen mit und ohne Demenz und ihre Angehörigen! \nOb Spieletreff\, Vorträge\, Kaffeeklatsch oder Singen\, Kreativangebote\, Bewegung die Spaß macht\, Gedächtnistraining oder geselliges Miteinander und neue Freundschaften – der offene Treff für SeniorInnen mit und ohne Demenz und ihren Angehörigen bietet für jeden etwas\, Spaß und vor allem die Kraft der Gemeinschaft. \nFür den ersten Besuch wird um Anmeldung gebeten bei Carolin Fritzsche\, Leiterin der DRK Sozialstation und der DRK Tagespflege unter 03871 – 441045 oder Sozialstation.parchim@drk-parchim.de
URL:https://alzheimer-mv.de/event/die-kraft-der-gemeinschaft/2030-03-20/
CATEGORIES:Allgemein,Beschäftigungsnachmittag,Beschäftigungsnachmittag
ORGANIZER;CN="DRK Sozialstation Parchim":MAILTO:Sozialstation.parchim@drk-parchim.de
END:VEVENT
BEGIN:VEVENT
DTSTART;TZID=Europe/Berlin:20300327T143000
DTEND;TZID=Europe/Berlin:20300327T163000
DTSTAMP:20260421T021658
CREATED:20250423T075246Z
LAST-MODIFIED:20250521T140448Z
UID:10006564-1900852200-1900859400@alzheimer-mv.de
SUMMARY:Die Kraft der Gemeinschaft in Parchim
DESCRIPTION:Willkommen zu Begegnung und Geselligkeit für SeniorInnen mit und ohne Demenz und ihre Angehörigen! \nOb Spieletreff\, Vorträge\, Kaffeeklatsch oder Singen\, Kreativangebote\, Bewegung die Spaß macht\, Gedächtnistraining oder geselliges Miteinander und neue Freundschaften – der offene Treff für SeniorInnen mit und ohne Demenz und ihren Angehörigen bietet für jeden etwas\, Spaß und vor allem die Kraft der Gemeinschaft. \nFür den ersten Besuch wird um Anmeldung gebeten bei Carolin Fritzsche\, Leiterin der DRK Sozialstation und der DRK Tagespflege unter 03871 – 441045 oder Sozialstation.parchim@drk-parchim.de
URL:https://alzheimer-mv.de/event/die-kraft-der-gemeinschaft/2030-03-27/
CATEGORIES:Allgemein,Beschäftigungsnachmittag,Beschäftigungsnachmittag
ORGANIZER;CN="DRK Sozialstation Parchim":MAILTO:Sozialstation.parchim@drk-parchim.de
END:VEVENT
BEGIN:VEVENT
DTSTART;TZID=Europe/Berlin:20300403T143000
DTEND;TZID=Europe/Berlin:20300403T163000
DTSTAMP:20260421T021658
CREATED:20250423T075246Z
LAST-MODIFIED:20250521T140448Z
UID:10006565-1901457000-1901464200@alzheimer-mv.de
SUMMARY:Die Kraft der Gemeinschaft in Parchim
DESCRIPTION:Willkommen zu Begegnung und Geselligkeit für SeniorInnen mit und ohne Demenz und ihre Angehörigen! \nOb Spieletreff\, Vorträge\, Kaffeeklatsch oder Singen\, Kreativangebote\, Bewegung die Spaß macht\, Gedächtnistraining oder geselliges Miteinander und neue Freundschaften – der offene Treff für SeniorInnen mit und ohne Demenz und ihren Angehörigen bietet für jeden etwas\, Spaß und vor allem die Kraft der Gemeinschaft. \nFür den ersten Besuch wird um Anmeldung gebeten bei Carolin Fritzsche\, Leiterin der DRK Sozialstation und der DRK Tagespflege unter 03871 – 441045 oder Sozialstation.parchim@drk-parchim.de
URL:https://alzheimer-mv.de/event/die-kraft-der-gemeinschaft/2030-04-03/
CATEGORIES:Allgemein,Beschäftigungsnachmittag,Beschäftigungsnachmittag
ORGANIZER;CN="DRK Sozialstation Parchim":MAILTO:Sozialstation.parchim@drk-parchim.de
END:VEVENT
BEGIN:VEVENT
DTSTART;TZID=Europe/Berlin:20300410T143000
DTEND;TZID=Europe/Berlin:20300410T163000
DTSTAMP:20260421T021658
CREATED:20250423T075246Z
LAST-MODIFIED:20250521T140448Z
UID:10006566-1902061800-1902069000@alzheimer-mv.de
SUMMARY:Die Kraft der Gemeinschaft in Parchim
DESCRIPTION:Willkommen zu Begegnung und Geselligkeit für SeniorInnen mit und ohne Demenz und ihre Angehörigen! \nOb Spieletreff\, Vorträge\, Kaffeeklatsch oder Singen\, Kreativangebote\, Bewegung die Spaß macht\, Gedächtnistraining oder geselliges Miteinander und neue Freundschaften – der offene Treff für SeniorInnen mit und ohne Demenz und ihren Angehörigen bietet für jeden etwas\, Spaß und vor allem die Kraft der Gemeinschaft. \nFür den ersten Besuch wird um Anmeldung gebeten bei Carolin Fritzsche\, Leiterin der DRK Sozialstation und der DRK Tagespflege unter 03871 – 441045 oder Sozialstation.parchim@drk-parchim.de
URL:https://alzheimer-mv.de/event/die-kraft-der-gemeinschaft/2030-04-10/
CATEGORIES:Allgemein,Beschäftigungsnachmittag,Beschäftigungsnachmittag
ORGANIZER;CN="DRK Sozialstation Parchim":MAILTO:Sozialstation.parchim@drk-parchim.de
END:VEVENT
BEGIN:VEVENT
DTSTART;TZID=Europe/Berlin:20300417T143000
DTEND;TZID=Europe/Berlin:20300417T163000
DTSTAMP:20260421T021658
CREATED:20250423T075246Z
LAST-MODIFIED:20250521T140448Z
UID:10006567-1902666600-1902673800@alzheimer-mv.de
SUMMARY:Die Kraft der Gemeinschaft in Parchim
DESCRIPTION:Willkommen zu Begegnung und Geselligkeit für SeniorInnen mit und ohne Demenz und ihre Angehörigen! \nOb Spieletreff\, Vorträge\, Kaffeeklatsch oder Singen\, Kreativangebote\, Bewegung die Spaß macht\, Gedächtnistraining oder geselliges Miteinander und neue Freundschaften – der offene Treff für SeniorInnen mit und ohne Demenz und ihren Angehörigen bietet für jeden etwas\, Spaß und vor allem die Kraft der Gemeinschaft. \nFür den ersten Besuch wird um Anmeldung gebeten bei Carolin Fritzsche\, Leiterin der DRK Sozialstation und der DRK Tagespflege unter 03871 – 441045 oder Sozialstation.parchim@drk-parchim.de
URL:https://alzheimer-mv.de/event/die-kraft-der-gemeinschaft/2030-04-17/
CATEGORIES:Allgemein,Beschäftigungsnachmittag,Beschäftigungsnachmittag
ORGANIZER;CN="DRK Sozialstation Parchim":MAILTO:Sozialstation.parchim@drk-parchim.de
END:VEVENT
BEGIN:VEVENT
DTSTART;TZID=Europe/Berlin:20300424T143000
DTEND;TZID=Europe/Berlin:20300424T163000
DTSTAMP:20260421T021658
CREATED:20250423T075246Z
LAST-MODIFIED:20250521T140448Z
UID:10006739-1903271400-1903278600@alzheimer-mv.de
SUMMARY:Die Kraft der Gemeinschaft in Parchim
DESCRIPTION:Willkommen zu Begegnung und Geselligkeit für SeniorInnen mit und ohne Demenz und ihre Angehörigen! \nOb Spieletreff\, Vorträge\, Kaffeeklatsch oder Singen\, Kreativangebote\, Bewegung die Spaß macht\, Gedächtnistraining oder geselliges Miteinander und neue Freundschaften – der offene Treff für SeniorInnen mit und ohne Demenz und ihren Angehörigen bietet für jeden etwas\, Spaß und vor allem die Kraft der Gemeinschaft. \nFür den ersten Besuch wird um Anmeldung gebeten bei Carolin Fritzsche\, Leiterin der DRK Sozialstation und der DRK Tagespflege unter 03871 – 441045 oder Sozialstation.parchim@drk-parchim.de
URL:https://alzheimer-mv.de/event/die-kraft-der-gemeinschaft/2030-04-24/
CATEGORIES:Allgemein,Beschäftigungsnachmittag,Beschäftigungsnachmittag
ORGANIZER;CN="DRK Sozialstation Parchim":MAILTO:Sozialstation.parchim@drk-parchim.de
END:VEVENT
BEGIN:VEVENT
DTSTART;TZID=Europe/Berlin:20300501T143000
DTEND;TZID=Europe/Berlin:20300501T163000
DTSTAMP:20260421T021658
CREATED:20250423T075246Z
LAST-MODIFIED:20250521T140448Z
UID:10006740-1903876200-1903883400@alzheimer-mv.de
SUMMARY:Die Kraft der Gemeinschaft in Parchim
DESCRIPTION:Willkommen zu Begegnung und Geselligkeit für SeniorInnen mit und ohne Demenz und ihre Angehörigen! \nOb Spieletreff\, Vorträge\, Kaffeeklatsch oder Singen\, Kreativangebote\, Bewegung die Spaß macht\, Gedächtnistraining oder geselliges Miteinander und neue Freundschaften – der offene Treff für SeniorInnen mit und ohne Demenz und ihren Angehörigen bietet für jeden etwas\, Spaß und vor allem die Kraft der Gemeinschaft. \nFür den ersten Besuch wird um Anmeldung gebeten bei Carolin Fritzsche\, Leiterin der DRK Sozialstation und der DRK Tagespflege unter 03871 – 441045 oder Sozialstation.parchim@drk-parchim.de
URL:https://alzheimer-mv.de/event/die-kraft-der-gemeinschaft/2030-05-01/
CATEGORIES:Allgemein,Beschäftigungsnachmittag,Beschäftigungsnachmittag
ORGANIZER;CN="DRK Sozialstation Parchim":MAILTO:Sozialstation.parchim@drk-parchim.de
END:VEVENT
BEGIN:VEVENT
DTSTART;TZID=Europe/Berlin:20300508T143000
DTEND;TZID=Europe/Berlin:20300508T163000
DTSTAMP:20260421T021658
CREATED:20250423T075246Z
LAST-MODIFIED:20250521T140448Z
UID:10006741-1904481000-1904488200@alzheimer-mv.de
SUMMARY:Die Kraft der Gemeinschaft in Parchim
DESCRIPTION:Willkommen zu Begegnung und Geselligkeit für SeniorInnen mit und ohne Demenz und ihre Angehörigen! \nOb Spieletreff\, Vorträge\, Kaffeeklatsch oder Singen\, Kreativangebote\, Bewegung die Spaß macht\, Gedächtnistraining oder geselliges Miteinander und neue Freundschaften – der offene Treff für SeniorInnen mit und ohne Demenz und ihren Angehörigen bietet für jeden etwas\, Spaß und vor allem die Kraft der Gemeinschaft. \nFür den ersten Besuch wird um Anmeldung gebeten bei Carolin Fritzsche\, Leiterin der DRK Sozialstation und der DRK Tagespflege unter 03871 – 441045 oder Sozialstation.parchim@drk-parchim.de
URL:https://alzheimer-mv.de/event/die-kraft-der-gemeinschaft/2030-05-08/
CATEGORIES:Allgemein,Beschäftigungsnachmittag,Beschäftigungsnachmittag
ORGANIZER;CN="DRK Sozialstation Parchim":MAILTO:Sozialstation.parchim@drk-parchim.de
END:VEVENT
BEGIN:VEVENT
DTSTART;TZID=Europe/Berlin:20300515T143000
DTEND;TZID=Europe/Berlin:20300515T163000
DTSTAMP:20260421T021658
CREATED:20250423T075246Z
LAST-MODIFIED:20250521T140448Z
UID:10006742-1905085800-1905093000@alzheimer-mv.de
SUMMARY:Die Kraft der Gemeinschaft in Parchim
DESCRIPTION:Willkommen zu Begegnung und Geselligkeit für SeniorInnen mit und ohne Demenz und ihre Angehörigen! \nOb Spieletreff\, Vorträge\, Kaffeeklatsch oder Singen\, Kreativangebote\, Bewegung die Spaß macht\, Gedächtnistraining oder geselliges Miteinander und neue Freundschaften – der offene Treff für SeniorInnen mit und ohne Demenz und ihren Angehörigen bietet für jeden etwas\, Spaß und vor allem die Kraft der Gemeinschaft. \nFür den ersten Besuch wird um Anmeldung gebeten bei Carolin Fritzsche\, Leiterin der DRK Sozialstation und der DRK Tagespflege unter 03871 – 441045 oder Sozialstation.parchim@drk-parchim.de
URL:https://alzheimer-mv.de/event/die-kraft-der-gemeinschaft/2030-05-15/
CATEGORIES:Allgemein,Beschäftigungsnachmittag,Beschäftigungsnachmittag
ORGANIZER;CN="DRK Sozialstation Parchim":MAILTO:Sozialstation.parchim@drk-parchim.de
END:VEVENT
END:VCALENDAR