
BEGIN:VCALENDAR
VERSION:2.0
PRODID:-//Deutsche Alzheimer Gesellschaft - ECPv6.15.20//NONSGML v1.0//EN
CALSCALE:GREGORIAN
METHOD:PUBLISH
X-WR-CALNAME:Deutsche Alzheimer Gesellschaft
X-ORIGINAL-URL:https://alzheimer-mv.de
X-WR-CALDESC:Veranstaltungen für Deutsche Alzheimer Gesellschaft
REFRESH-INTERVAL;VALUE=DURATION:PT1H
X-Robots-Tag:noindex
X-PUBLISHED-TTL:PT1H
BEGIN:VTIMEZONE
TZID:Europe/Berlin
BEGIN:DAYLIGHT
TZOFFSETFROM:+0100
TZOFFSETTO:+0200
TZNAME:CEST
DTSTART:20250330T010000
END:DAYLIGHT
BEGIN:STANDARD
TZOFFSETFROM:+0200
TZOFFSETTO:+0100
TZNAME:CET
DTSTART:20251026T010000
END:STANDARD
BEGIN:DAYLIGHT
TZOFFSETFROM:+0100
TZOFFSETTO:+0200
TZNAME:CEST
DTSTART:20260329T010000
END:DAYLIGHT
BEGIN:STANDARD
TZOFFSETFROM:+0200
TZOFFSETTO:+0100
TZNAME:CET
DTSTART:20261025T010000
END:STANDARD
BEGIN:DAYLIGHT
TZOFFSETFROM:+0100
TZOFFSETTO:+0200
TZNAME:CEST
DTSTART:20270328T010000
END:DAYLIGHT
BEGIN:STANDARD
TZOFFSETFROM:+0200
TZOFFSETTO:+0100
TZNAME:CET
DTSTART:20271031T010000
END:STANDARD
END:VTIMEZONE
BEGIN:VEVENT
DTSTART;TZID=Europe/Berlin:20260422T143000
DTEND;TZID=Europe/Berlin:20260422T163000
DTSTAMP:20260420T014841
CREATED:20250423T075246Z
LAST-MODIFIED:20250521T140448Z
UID:10006359-1776868200-1776875400@alzheimer-mv.de
SUMMARY:Die Kraft der Gemeinschaft in Parchim
DESCRIPTION:Willkommen zu Begegnung und Geselligkeit für SeniorInnen mit und ohne Demenz und ihre Angehörigen! \nOb Spieletreff\, Vorträge\, Kaffeeklatsch oder Singen\, Kreativangebote\, Bewegung die Spaß macht\, Gedächtnistraining oder geselliges Miteinander und neue Freundschaften – der offene Treff für SeniorInnen mit und ohne Demenz und ihren Angehörigen bietet für jeden etwas\, Spaß und vor allem die Kraft der Gemeinschaft. \nFür den ersten Besuch wird um Anmeldung gebeten bei Carolin Fritzsche\, Leiterin der DRK Sozialstation und der DRK Tagespflege unter 03871 – 441045 oder Sozialstation.parchim@drk-parchim.de
URL:https://alzheimer-mv.de/event/die-kraft-der-gemeinschaft/2026-04-22/
LOCATION:Mecklenburg-Vorpommern
CATEGORIES:Allgemein,Beschäftigungsnachmittag,Beschäftigungsnachmittag
ORGANIZER;CN="DRK Sozialstation Parchim":MAILTO:Sozialstation.parchim@drk-parchim.de
END:VEVENT
BEGIN:VEVENT
DTSTART;TZID=Europe/Berlin:20260429T143000
DTEND;TZID=Europe/Berlin:20260429T163000
DTSTAMP:20260420T014841
CREATED:20250423T075246Z
LAST-MODIFIED:20250521T140448Z
UID:10006360-1777473000-1777480200@alzheimer-mv.de
SUMMARY:Die Kraft der Gemeinschaft in Parchim
DESCRIPTION:Willkommen zu Begegnung und Geselligkeit für SeniorInnen mit und ohne Demenz und ihre Angehörigen! \nOb Spieletreff\, Vorträge\, Kaffeeklatsch oder Singen\, Kreativangebote\, Bewegung die Spaß macht\, Gedächtnistraining oder geselliges Miteinander und neue Freundschaften – der offene Treff für SeniorInnen mit und ohne Demenz und ihren Angehörigen bietet für jeden etwas\, Spaß und vor allem die Kraft der Gemeinschaft. \nFür den ersten Besuch wird um Anmeldung gebeten bei Carolin Fritzsche\, Leiterin der DRK Sozialstation und der DRK Tagespflege unter 03871 – 441045 oder Sozialstation.parchim@drk-parchim.de
URL:https://alzheimer-mv.de/event/die-kraft-der-gemeinschaft/2026-04-29/
LOCATION:Mecklenburg-Vorpommern
CATEGORIES:Allgemein,Beschäftigungsnachmittag,Beschäftigungsnachmittag
ORGANIZER;CN="DRK Sozialstation Parchim":MAILTO:Sozialstation.parchim@drk-parchim.de
END:VEVENT
END:VCALENDAR