
BEGIN:VCALENDAR
VERSION:2.0
PRODID:-//Deutsche Alzheimer Gesellschaft - ECPv6.15.20//NONSGML v1.0//EN
CALSCALE:GREGORIAN
METHOD:PUBLISH
X-ORIGINAL-URL:https://alzheimer-mv.de
X-WR-CALDESC:Veranstaltungen für Deutsche Alzheimer Gesellschaft
REFRESH-INTERVAL;VALUE=DURATION:PT1H
X-Robots-Tag:noindex
X-PUBLISHED-TTL:PT1H
BEGIN:VTIMEZONE
TZID:Europe/Berlin
BEGIN:DAYLIGHT
TZOFFSETFROM:+0100
TZOFFSETTO:+0200
TZNAME:CEST
DTSTART:20240331T010000
END:DAYLIGHT
BEGIN:STANDARD
TZOFFSETFROM:+0200
TZOFFSETTO:+0100
TZNAME:CET
DTSTART:20241027T010000
END:STANDARD
BEGIN:DAYLIGHT
TZOFFSETFROM:+0100
TZOFFSETTO:+0200
TZNAME:CEST
DTSTART:20250330T010000
END:DAYLIGHT
BEGIN:STANDARD
TZOFFSETFROM:+0200
TZOFFSETTO:+0100
TZNAME:CET
DTSTART:20251026T010000
END:STANDARD
BEGIN:DAYLIGHT
TZOFFSETFROM:+0100
TZOFFSETTO:+0200
TZNAME:CEST
DTSTART:20260329T010000
END:DAYLIGHT
BEGIN:STANDARD
TZOFFSETFROM:+0200
TZOFFSETTO:+0100
TZNAME:CET
DTSTART:20261025T010000
END:STANDARD
END:VTIMEZONE
BEGIN:VEVENT
DTSTART;TZID=Europe/Berlin:20250425T140000
DTEND;TZID=Europe/Berlin:20250425T170000
DTSTAMP:20260421T015921
CREATED:20250423T081024Z
LAST-MODIFIED:20250423T081155Z
UID:10006568-1745589600-1745600400@alzheimer-mv.de
SUMMARY:Tierparkbesuch in Greifswald
DESCRIPTION:Das Netzwerk Demenz und Kultur lädt herzlich zum Tierparkbesuch für Menschen mit und ohne Demenz ein.\nWir freuen uns auf einen fröhlichen Nachtmittag mit Tierschau & gemütlicher Kaffeetafel. \nDie Plätze sind begrenzt\, Anmeldung bitte bis 23.04 2025 unter 03834/875253 oder mgh@aktion-sonnenschein-greifswald.de \nTreffpunkt: Eingang Tierpark\nEintritt : 7\,00 Euro zzgl. Kaffeegedeck
URL:https://alzheimer-mv.de/event/tierparkbesuch-in-greifswald/
LOCATION:Tierpark Greifwald\, Anlagen\, Greifswald\, Mecklenburg-Vorpommern\, 17489\, Germany
CATEGORIES:Allgemein,Beschäftigungsnachmittag,Beschäftigungsnachmittag
GEO:54.097418;13.3688756
X-APPLE-STRUCTURED-LOCATION;VALUE=URI;X-ADDRESS=Tierpark Greifwald Anlagen Greifswald Mecklenburg-Vorpommern 17489 Germany;X-APPLE-RADIUS=500;X-TITLE=Anlagen:geo:13.3688756,54.097418
END:VEVENT
BEGIN:VEVENT
DTSTART;TZID=Europe/Berlin:20250430T143000
DTEND;TZID=Europe/Berlin:20250430T163000
DTSTAMP:20260421T015921
CREATED:20250423T075246Z
LAST-MODIFIED:20250521T140448Z
UID:10006308-1746023400-1746030600@alzheimer-mv.de
SUMMARY:Die Kraft der Gemeinschaft in Parchim
DESCRIPTION:Willkommen zu Begegnung und Geselligkeit für SeniorInnen mit und ohne Demenz und ihre Angehörigen! \nOb Spieletreff\, Vorträge\, Kaffeeklatsch oder Singen\, Kreativangebote\, Bewegung die Spaß macht\, Gedächtnistraining oder geselliges Miteinander und neue Freundschaften – der offene Treff für SeniorInnen mit und ohne Demenz und ihren Angehörigen bietet für jeden etwas\, Spaß und vor allem die Kraft der Gemeinschaft. \nFür den ersten Besuch wird um Anmeldung gebeten bei Carolin Fritzsche\, Leiterin der DRK Sozialstation und der DRK Tagespflege unter 03871 – 441045 oder Sozialstation.parchim@drk-parchim.de
URL:https://alzheimer-mv.de/event/die-kraft-der-gemeinschaft/2025-04-30/
LOCATION:Mecklenburg-Vorpommern
CATEGORIES:Allgemein,Beschäftigungsnachmittag,Beschäftigungsnachmittag
ORGANIZER;CN="DRK Sozialstation Parchim":MAILTO:Sozialstation.parchim@drk-parchim.de
END:VEVENT
END:VCALENDAR