
BEGIN:VCALENDAR
VERSION:2.0
PRODID:-//Deutsche Alzheimer Gesellschaft - ECPv6.15.20//NONSGML v1.0//EN
CALSCALE:GREGORIAN
METHOD:PUBLISH
X-WR-CALNAME:Deutsche Alzheimer Gesellschaft
X-ORIGINAL-URL:https://alzheimer-mv.de
X-WR-CALDESC:Veranstaltungen für Deutsche Alzheimer Gesellschaft
REFRESH-INTERVAL;VALUE=DURATION:PT1H
X-Robots-Tag:noindex
X-PUBLISHED-TTL:PT1H
BEGIN:VTIMEZONE
TZID:Europe/Berlin
BEGIN:DAYLIGHT
TZOFFSETFROM:+0100
TZOFFSETTO:+0200
TZNAME:CEST
DTSTART:20250330T010000
END:DAYLIGHT
BEGIN:STANDARD
TZOFFSETFROM:+0200
TZOFFSETTO:+0100
TZNAME:CET
DTSTART:20251026T010000
END:STANDARD
BEGIN:DAYLIGHT
TZOFFSETFROM:+0100
TZOFFSETTO:+0200
TZNAME:CEST
DTSTART:20260329T010000
END:DAYLIGHT
BEGIN:STANDARD
TZOFFSETFROM:+0200
TZOFFSETTO:+0100
TZNAME:CET
DTSTART:20261025T010000
END:STANDARD
BEGIN:DAYLIGHT
TZOFFSETFROM:+0100
TZOFFSETTO:+0200
TZNAME:CEST
DTSTART:20270328T010000
END:DAYLIGHT
BEGIN:STANDARD
TZOFFSETFROM:+0200
TZOFFSETTO:+0100
TZNAME:CET
DTSTART:20271031T010000
END:STANDARD
END:VTIMEZONE
BEGIN:VEVENT
DTSTART;TZID=Europe/Berlin:20260507T143000
DTEND;TZID=Europe/Berlin:20260507T163000
DTSTAMP:20260422T100245
CREATED:20260420T080253Z
LAST-MODIFIED:20260420T081550Z
UID:10008795-1778164200-1778171400@alzheimer-mv.de
SUMMARY:Tanzcafé in Neubrandenburg
DESCRIPTION:Einmal im Monat findet das Tanzcafé in Neubrandenburg statt  \nJedes Mal unter einem anderen Motto. \nAlle\, die Lust auf einen geselligen\, spaßigen und unterhaltsamen Nachmittag haben\, sind willkommen.\nHier stehen die Begegnung\, das Miteinander und die Gemeinsamkeit im Mittelpunkt \n–>  Informationen und Anmeldung zum nächsten Tanzcafé telefonisch ☎ unter der 0395 351 16 58 13 \n 
URL:https://alzheimer-mv.de/event/tanzcafe-in-neubrandenburg/2026-05-07/
LOCATION:Caritas im Norden Begegnungsstätte\, Clara-Zetkin-Str. 53\, Neubrandenburg\, Mecklenburg-Vorpommern\, 17033\, Germany
CATEGORIES:Tanzcafe
GEO:53.5497863;13.272761
X-APPLE-STRUCTURED-LOCATION;VALUE=URI;X-ADDRESS=Caritas im Norden Begegnungsstätte Clara-Zetkin-Str. 53 Neubrandenburg Mecklenburg-Vorpommern 17033 Germany;X-APPLE-RADIUS=500;X-TITLE=Clara-Zetkin-Str. 53:geo:13.272761,53.5497863
END:VEVENT
BEGIN:VEVENT
DTSTART;TZID=Europe/Berlin:20260604T143000
DTEND;TZID=Europe/Berlin:20260604T163000
DTSTAMP:20260422T100245
CREATED:20260420T080253Z
LAST-MODIFIED:20260420T081550Z
UID:10008796-1780583400-1780590600@alzheimer-mv.de
SUMMARY:Tanzcafé in Neubrandenburg
DESCRIPTION:Einmal im Monat findet das Tanzcafé in Neubrandenburg statt  \nJedes Mal unter einem anderen Motto. \nAlle\, die Lust auf einen geselligen\, spaßigen und unterhaltsamen Nachmittag haben\, sind willkommen.\nHier stehen die Begegnung\, das Miteinander und die Gemeinsamkeit im Mittelpunkt \n–>  Informationen und Anmeldung zum nächsten Tanzcafé telefonisch ☎ unter der 0395 351 16 58 13 \n 
URL:https://alzheimer-mv.de/event/tanzcafe-in-neubrandenburg/2026-06-04/
LOCATION:Caritas im Norden Begegnungsstätte\, Clara-Zetkin-Str. 53\, Neubrandenburg\, Mecklenburg-Vorpommern\, 17033\, Germany
CATEGORIES:Tanzcafe
GEO:53.5497863;13.272761
X-APPLE-STRUCTURED-LOCATION;VALUE=URI;X-ADDRESS=Caritas im Norden Begegnungsstätte Clara-Zetkin-Str. 53 Neubrandenburg Mecklenburg-Vorpommern 17033 Germany;X-APPLE-RADIUS=500;X-TITLE=Clara-Zetkin-Str. 53:geo:13.272761,53.5497863
END:VEVENT
BEGIN:VEVENT
DTSTART;TZID=Europe/Berlin:20260709T143000
DTEND;TZID=Europe/Berlin:20260709T163000
DTSTAMP:20260422T100245
CREATED:20260420T080253Z
LAST-MODIFIED:20260420T081550Z
UID:10008797-1783607400-1783614600@alzheimer-mv.de
SUMMARY:Tanzcafé in Neubrandenburg
DESCRIPTION:Einmal im Monat findet das Tanzcafé in Neubrandenburg statt  \nJedes Mal unter einem anderen Motto. \nAlle\, die Lust auf einen geselligen\, spaßigen und unterhaltsamen Nachmittag haben\, sind willkommen.\nHier stehen die Begegnung\, das Miteinander und die Gemeinsamkeit im Mittelpunkt \n–>  Informationen und Anmeldung zum nächsten Tanzcafé telefonisch ☎ unter der 0395 351 16 58 13 \n 
URL:https://alzheimer-mv.de/event/tanzcafe-in-neubrandenburg/2026-07-09/
LOCATION:Caritas im Norden Begegnungsstätte\, Clara-Zetkin-Str. 53\, Neubrandenburg\, Mecklenburg-Vorpommern\, 17033\, Germany
CATEGORIES:Tanzcafe
GEO:53.5497863;13.272761
X-APPLE-STRUCTURED-LOCATION;VALUE=URI;X-ADDRESS=Caritas im Norden Begegnungsstätte Clara-Zetkin-Str. 53 Neubrandenburg Mecklenburg-Vorpommern 17033 Germany;X-APPLE-RADIUS=500;X-TITLE=Clara-Zetkin-Str. 53:geo:13.272761,53.5497863
END:VEVENT
BEGIN:VEVENT
DTSTART;TZID=Europe/Berlin:20260820T143000
DTEND;TZID=Europe/Berlin:20260820T163000
DTSTAMP:20260422T100245
CREATED:20260420T080253Z
LAST-MODIFIED:20260420T081550Z
UID:10008798-1787236200-1787243400@alzheimer-mv.de
SUMMARY:Tanzcafé in Neubrandenburg
DESCRIPTION:Einmal im Monat findet das Tanzcafé in Neubrandenburg statt  \nJedes Mal unter einem anderen Motto. \nAlle\, die Lust auf einen geselligen\, spaßigen und unterhaltsamen Nachmittag haben\, sind willkommen.\nHier stehen die Begegnung\, das Miteinander und die Gemeinsamkeit im Mittelpunkt \n–>  Informationen und Anmeldung zum nächsten Tanzcafé telefonisch ☎ unter der 0395 351 16 58 13 \n 
URL:https://alzheimer-mv.de/event/tanzcafe-in-neubrandenburg/2026-08-20/
LOCATION:Caritas im Norden Begegnungsstätte\, Clara-Zetkin-Str. 53\, Neubrandenburg\, Mecklenburg-Vorpommern\, 17033\, Germany
CATEGORIES:Tanzcafe
GEO:53.5497863;13.272761
X-APPLE-STRUCTURED-LOCATION;VALUE=URI;X-ADDRESS=Caritas im Norden Begegnungsstätte Clara-Zetkin-Str. 53 Neubrandenburg Mecklenburg-Vorpommern 17033 Germany;X-APPLE-RADIUS=500;X-TITLE=Clara-Zetkin-Str. 53:geo:13.272761,53.5497863
END:VEVENT
BEGIN:VEVENT
DTSTART;TZID=Europe/Berlin:20260917T143000
DTEND;TZID=Europe/Berlin:20260917T163000
DTSTAMP:20260422T100245
CREATED:20260420T080253Z
LAST-MODIFIED:20260420T081550Z
UID:10008799-1789655400-1789662600@alzheimer-mv.de
SUMMARY:Tanzcafé in Neubrandenburg
DESCRIPTION:Einmal im Monat findet das Tanzcafé in Neubrandenburg statt  \nJedes Mal unter einem anderen Motto. \nAlle\, die Lust auf einen geselligen\, spaßigen und unterhaltsamen Nachmittag haben\, sind willkommen.\nHier stehen die Begegnung\, das Miteinander und die Gemeinsamkeit im Mittelpunkt \n–>  Informationen und Anmeldung zum nächsten Tanzcafé telefonisch ☎ unter der 0395 351 16 58 13 \n 
URL:https://alzheimer-mv.de/event/tanzcafe-in-neubrandenburg/2026-09-17/
LOCATION:Caritas im Norden Begegnungsstätte\, Clara-Zetkin-Str. 53\, Neubrandenburg\, Mecklenburg-Vorpommern\, 17033\, Germany
CATEGORIES:Tanzcafe
GEO:53.5497863;13.272761
X-APPLE-STRUCTURED-LOCATION;VALUE=URI;X-ADDRESS=Caritas im Norden Begegnungsstätte Clara-Zetkin-Str. 53 Neubrandenburg Mecklenburg-Vorpommern 17033 Germany;X-APPLE-RADIUS=500;X-TITLE=Clara-Zetkin-Str. 53:geo:13.272761,53.5497863
END:VEVENT
BEGIN:VEVENT
DTSTART;TZID=Europe/Berlin:20261015T143000
DTEND;TZID=Europe/Berlin:20261015T163000
DTSTAMP:20260422T100245
CREATED:20260420T080253Z
LAST-MODIFIED:20260420T081550Z
UID:10008800-1792074600-1792081800@alzheimer-mv.de
SUMMARY:Tanzcafé in Neubrandenburg
DESCRIPTION:Einmal im Monat findet das Tanzcafé in Neubrandenburg statt  \nJedes Mal unter einem anderen Motto. \nAlle\, die Lust auf einen geselligen\, spaßigen und unterhaltsamen Nachmittag haben\, sind willkommen.\nHier stehen die Begegnung\, das Miteinander und die Gemeinsamkeit im Mittelpunkt \n–>  Informationen und Anmeldung zum nächsten Tanzcafé telefonisch ☎ unter der 0395 351 16 58 13 \n 
URL:https://alzheimer-mv.de/event/tanzcafe-in-neubrandenburg/2026-10-15/
LOCATION:Caritas im Norden Begegnungsstätte\, Clara-Zetkin-Str. 53\, Neubrandenburg\, Mecklenburg-Vorpommern\, 17033\, Germany
CATEGORIES:Tanzcafe
GEO:53.5497863;13.272761
X-APPLE-STRUCTURED-LOCATION;VALUE=URI;X-ADDRESS=Caritas im Norden Begegnungsstätte Clara-Zetkin-Str. 53 Neubrandenburg Mecklenburg-Vorpommern 17033 Germany;X-APPLE-RADIUS=500;X-TITLE=Clara-Zetkin-Str. 53:geo:13.272761,53.5497863
END:VEVENT
BEGIN:VEVENT
DTSTART;TZID=Europe/Berlin:20261126T143000
DTEND;TZID=Europe/Berlin:20261126T163000
DTSTAMP:20260422T100245
CREATED:20260420T080253Z
LAST-MODIFIED:20260420T081550Z
UID:10008801-1795703400-1795710600@alzheimer-mv.de
SUMMARY:Tanzcafé in Neubrandenburg
DESCRIPTION:Einmal im Monat findet das Tanzcafé in Neubrandenburg statt  \nJedes Mal unter einem anderen Motto. \nAlle\, die Lust auf einen geselligen\, spaßigen und unterhaltsamen Nachmittag haben\, sind willkommen.\nHier stehen die Begegnung\, das Miteinander und die Gemeinsamkeit im Mittelpunkt \n–>  Informationen und Anmeldung zum nächsten Tanzcafé telefonisch ☎ unter der 0395 351 16 58 13 \n 
URL:https://alzheimer-mv.de/event/tanzcafe-in-neubrandenburg/2026-11-26/
LOCATION:Caritas im Norden Begegnungsstätte\, Clara-Zetkin-Str. 53\, Neubrandenburg\, Mecklenburg-Vorpommern\, 17033\, Germany
CATEGORIES:Tanzcafe
GEO:53.5497863;13.272761
X-APPLE-STRUCTURED-LOCATION;VALUE=URI;X-ADDRESS=Caritas im Norden Begegnungsstätte Clara-Zetkin-Str. 53 Neubrandenburg Mecklenburg-Vorpommern 17033 Germany;X-APPLE-RADIUS=500;X-TITLE=Clara-Zetkin-Str. 53:geo:13.272761,53.5497863
END:VEVENT
BEGIN:VEVENT
DTSTART;TZID=Europe/Berlin:20261210T143000
DTEND;TZID=Europe/Berlin:20261210T163000
DTSTAMP:20260422T100245
CREATED:20260420T080253Z
LAST-MODIFIED:20260420T081550Z
UID:10008802-1796913000-1796920200@alzheimer-mv.de
SUMMARY:Tanzcafé in Neubrandenburg
DESCRIPTION:Einmal im Monat findet das Tanzcafé in Neubrandenburg statt  \nJedes Mal unter einem anderen Motto. \nAlle\, die Lust auf einen geselligen\, spaßigen und unterhaltsamen Nachmittag haben\, sind willkommen.\nHier stehen die Begegnung\, das Miteinander und die Gemeinsamkeit im Mittelpunkt \n–>  Informationen und Anmeldung zum nächsten Tanzcafé telefonisch ☎ unter der 0395 351 16 58 13 \n 
URL:https://alzheimer-mv.de/event/tanzcafe-in-neubrandenburg/2026-12-10/
LOCATION:Caritas im Norden Begegnungsstätte\, Clara-Zetkin-Str. 53\, Neubrandenburg\, Mecklenburg-Vorpommern\, 17033\, Germany
CATEGORIES:Tanzcafe
GEO:53.5497863;13.272761
X-APPLE-STRUCTURED-LOCATION;VALUE=URI;X-ADDRESS=Caritas im Norden Begegnungsstätte Clara-Zetkin-Str. 53 Neubrandenburg Mecklenburg-Vorpommern 17033 Germany;X-APPLE-RADIUS=500;X-TITLE=Clara-Zetkin-Str. 53:geo:13.272761,53.5497863
END:VEVENT
END:VCALENDAR