
BEGIN:VCALENDAR
VERSION:2.0
PRODID:-//Deutsche Alzheimer Gesellschaft - ECPv6.15.20//NONSGML v1.0//EN
CALSCALE:GREGORIAN
METHOD:PUBLISH
X-WR-CALNAME:Deutsche Alzheimer Gesellschaft
X-ORIGINAL-URL:https://alzheimer-mv.de
X-WR-CALDESC:Veranstaltungen für Deutsche Alzheimer Gesellschaft
REFRESH-INTERVAL;VALUE=DURATION:PT1H
X-Robots-Tag:noindex
X-PUBLISHED-TTL:PT1H
BEGIN:VTIMEZONE
TZID:Europe/Berlin
BEGIN:DAYLIGHT
TZOFFSETFROM:+0100
TZOFFSETTO:+0200
TZNAME:CEST
DTSTART:20250330T010000
END:DAYLIGHT
BEGIN:STANDARD
TZOFFSETFROM:+0200
TZOFFSETTO:+0100
TZNAME:CET
DTSTART:20251026T010000
END:STANDARD
BEGIN:DAYLIGHT
TZOFFSETFROM:+0100
TZOFFSETTO:+0200
TZNAME:CEST
DTSTART:20260329T010000
END:DAYLIGHT
BEGIN:STANDARD
TZOFFSETFROM:+0200
TZOFFSETTO:+0100
TZNAME:CET
DTSTART:20261025T010000
END:STANDARD
BEGIN:DAYLIGHT
TZOFFSETFROM:+0100
TZOFFSETTO:+0200
TZNAME:CEST
DTSTART:20270328T010000
END:DAYLIGHT
BEGIN:STANDARD
TZOFFSETFROM:+0200
TZOFFSETTO:+0100
TZNAME:CET
DTSTART:20271031T010000
END:STANDARD
END:VTIMEZONE
BEGIN:VEVENT
DTSTART;TZID=Europe/Berlin:20261007T093000
DTEND;TZID=Europe/Berlin:20261007T113000
DTSTAMP:20260419T234430
CREATED:20260211T081400Z
LAST-MODIFIED:20260211T081400Z
UID:10007185-1791365400-1791372600@alzheimer-mv.de
SUMMARY:Angehörigenschulung „Leben mit Demenz“ (23/26) in Neubrandenburg
DESCRIPTION:Ab dem 07. Oktober bis zum 02. Dezember 2026 findet immer mittwochs von 09:30 Uhr bis 11:30 Uhr im DRK Kreisverband e.V. Selbsthilfekontaktstelle in der Robert – Blum – Str. 34 in 17033 Neubrandenburg eine kostenfreie Schulung für pflegende und betreuende An- und Zugehörige von Menschen mit Demenz statt. \nDie Schulungsreihe „Leben mit Demenz“ umfasst acht Module (jeweils zwei Stunden). Durch den Schulungsleiter werden Kenntnisse zum Krankheitsbild\, zur Kommunikation und zum Umgang mit an Demenz erkrankten Personen\, Leistungen der Pflege- und Krankenversicherungen und zu rechtlichen Fragestellungen vermittelt sowie Möglichkeiten zur Wohnraumanpassung und zur Entlastung für die An- und Zugehörigen besprochen. Zudem ist ein Austausch von Erfahrungen unter den Teilnehmenden erwünscht. \nSchulungsleiter ist Herr Frank Schäfer\, Dipl. Lehrer\, Demenz-Partner und zertifizierter GeriCoach der Deutschen Alzheimer Gesellschaft LV M-V. \nZur Planung bitten wir um vorherige Anmeldung bei Herrn Schröder telefonisch unter 0395 56039 55 oder per E-Mail unter selbsthilfe@neubrandenburg.drk.de \nDie Schulungsreihe für An- und Zugehörige von Menschen mit Demenz wurde von der Deutschen Alzheimer Gesellschaft Landesverband M-V e.V.\, dem Deutschen Zentrum für Neurodegenerative Erkrankungen e.V. Standort Rostock/Greifswald entwickelt und finanziert sich durch die Barmer Krankenkasse. \nWeitere Informationen finden Sie hier:AGS_23-26_Flyer_Schaefer_Neubrandenburg_Barmer_07102026-02122026_09.02.2026
URL:https://alzheimer-mv.de/event/angehoerigenschulung-leben-mit-demenz-23-26-in-neubrandenburg/2026-10-07/
LOCATION:DRK Kreisverband e.V. Selbsthilfekontaktstelle in der Robert – Blum – Str. 34 in 17033 Neubrandenburg\, Robert-Blum-Str. 34\, Neubrandenburg\, 17033\, Germany
GEO:53.5614758;13.2494762
X-APPLE-STRUCTURED-LOCATION;VALUE=URI;X-ADDRESS=DRK Kreisverband e.V. Selbsthilfekontaktstelle in der Robert – Blum – Str. 34 in 17033 Neubrandenburg Robert-Blum-Str. 34 Neubrandenburg 17033 Germany;X-APPLE-RADIUS=500;X-TITLE=Robert-Blum-Str. 34:geo:13.2494762,53.5614758
END:VEVENT
BEGIN:VEVENT
DTSTART;TZID=Europe/Berlin:20261014T093000
DTEND;TZID=Europe/Berlin:20261014T113000
DTSTAMP:20260419T234430
CREATED:20260211T081400Z
LAST-MODIFIED:20260211T081400Z
UID:10007186-1791970200-1791977400@alzheimer-mv.de
SUMMARY:Angehörigenschulung „Leben mit Demenz“ (23/26) in Neubrandenburg
DESCRIPTION:Ab dem 07. Oktober bis zum 02. Dezember 2026 findet immer mittwochs von 09:30 Uhr bis 11:30 Uhr im DRK Kreisverband e.V. Selbsthilfekontaktstelle in der Robert – Blum – Str. 34 in 17033 Neubrandenburg eine kostenfreie Schulung für pflegende und betreuende An- und Zugehörige von Menschen mit Demenz statt. \nDie Schulungsreihe „Leben mit Demenz“ umfasst acht Module (jeweils zwei Stunden). Durch den Schulungsleiter werden Kenntnisse zum Krankheitsbild\, zur Kommunikation und zum Umgang mit an Demenz erkrankten Personen\, Leistungen der Pflege- und Krankenversicherungen und zu rechtlichen Fragestellungen vermittelt sowie Möglichkeiten zur Wohnraumanpassung und zur Entlastung für die An- und Zugehörigen besprochen. Zudem ist ein Austausch von Erfahrungen unter den Teilnehmenden erwünscht. \nSchulungsleiter ist Herr Frank Schäfer\, Dipl. Lehrer\, Demenz-Partner und zertifizierter GeriCoach der Deutschen Alzheimer Gesellschaft LV M-V. \nZur Planung bitten wir um vorherige Anmeldung bei Herrn Schröder telefonisch unter 0395 56039 55 oder per E-Mail unter selbsthilfe@neubrandenburg.drk.de \nDie Schulungsreihe für An- und Zugehörige von Menschen mit Demenz wurde von der Deutschen Alzheimer Gesellschaft Landesverband M-V e.V.\, dem Deutschen Zentrum für Neurodegenerative Erkrankungen e.V. Standort Rostock/Greifswald entwickelt und finanziert sich durch die Barmer Krankenkasse. \nWeitere Informationen finden Sie hier:AGS_23-26_Flyer_Schaefer_Neubrandenburg_Barmer_07102026-02122026_09.02.2026
URL:https://alzheimer-mv.de/event/angehoerigenschulung-leben-mit-demenz-23-26-in-neubrandenburg/2026-10-14/
LOCATION:DRK Kreisverband e.V. Selbsthilfekontaktstelle in der Robert – Blum – Str. 34 in 17033 Neubrandenburg\, Robert-Blum-Str. 34\, Neubrandenburg\, 17033\, Germany
GEO:53.5614758;13.2494762
X-APPLE-STRUCTURED-LOCATION;VALUE=URI;X-ADDRESS=DRK Kreisverband e.V. Selbsthilfekontaktstelle in der Robert – Blum – Str. 34 in 17033 Neubrandenburg Robert-Blum-Str. 34 Neubrandenburg 17033 Germany;X-APPLE-RADIUS=500;X-TITLE=Robert-Blum-Str. 34:geo:13.2494762,53.5614758
END:VEVENT
BEGIN:VEVENT
DTSTART;TZID=Europe/Berlin:20261021T093000
DTEND;TZID=Europe/Berlin:20261021T113000
DTSTAMP:20260419T234430
CREATED:20260211T081400Z
LAST-MODIFIED:20260211T081400Z
UID:10007187-1792575000-1792582200@alzheimer-mv.de
SUMMARY:Angehörigenschulung „Leben mit Demenz“ (23/26) in Neubrandenburg
DESCRIPTION:Ab dem 07. Oktober bis zum 02. Dezember 2026 findet immer mittwochs von 09:30 Uhr bis 11:30 Uhr im DRK Kreisverband e.V. Selbsthilfekontaktstelle in der Robert – Blum – Str. 34 in 17033 Neubrandenburg eine kostenfreie Schulung für pflegende und betreuende An- und Zugehörige von Menschen mit Demenz statt. \nDie Schulungsreihe „Leben mit Demenz“ umfasst acht Module (jeweils zwei Stunden). Durch den Schulungsleiter werden Kenntnisse zum Krankheitsbild\, zur Kommunikation und zum Umgang mit an Demenz erkrankten Personen\, Leistungen der Pflege- und Krankenversicherungen und zu rechtlichen Fragestellungen vermittelt sowie Möglichkeiten zur Wohnraumanpassung und zur Entlastung für die An- und Zugehörigen besprochen. Zudem ist ein Austausch von Erfahrungen unter den Teilnehmenden erwünscht. \nSchulungsleiter ist Herr Frank Schäfer\, Dipl. Lehrer\, Demenz-Partner und zertifizierter GeriCoach der Deutschen Alzheimer Gesellschaft LV M-V. \nZur Planung bitten wir um vorherige Anmeldung bei Herrn Schröder telefonisch unter 0395 56039 55 oder per E-Mail unter selbsthilfe@neubrandenburg.drk.de \nDie Schulungsreihe für An- und Zugehörige von Menschen mit Demenz wurde von der Deutschen Alzheimer Gesellschaft Landesverband M-V e.V.\, dem Deutschen Zentrum für Neurodegenerative Erkrankungen e.V. Standort Rostock/Greifswald entwickelt und finanziert sich durch die Barmer Krankenkasse. \nWeitere Informationen finden Sie hier:AGS_23-26_Flyer_Schaefer_Neubrandenburg_Barmer_07102026-02122026_09.02.2026
URL:https://alzheimer-mv.de/event/angehoerigenschulung-leben-mit-demenz-23-26-in-neubrandenburg/2026-10-21/
LOCATION:DRK Kreisverband e.V. Selbsthilfekontaktstelle in der Robert – Blum – Str. 34 in 17033 Neubrandenburg\, Robert-Blum-Str. 34\, Neubrandenburg\, 17033\, Germany
GEO:53.5614758;13.2494762
X-APPLE-STRUCTURED-LOCATION;VALUE=URI;X-ADDRESS=DRK Kreisverband e.V. Selbsthilfekontaktstelle in der Robert – Blum – Str. 34 in 17033 Neubrandenburg Robert-Blum-Str. 34 Neubrandenburg 17033 Germany;X-APPLE-RADIUS=500;X-TITLE=Robert-Blum-Str. 34:geo:13.2494762,53.5614758
END:VEVENT
BEGIN:VEVENT
DTSTART;TZID=Europe/Berlin:20261028T093000
DTEND;TZID=Europe/Berlin:20261028T113000
DTSTAMP:20260419T234430
CREATED:20260211T081400Z
LAST-MODIFIED:20260211T081400Z
UID:10007188-1793179800-1793187000@alzheimer-mv.de
SUMMARY:Angehörigenschulung „Leben mit Demenz“ (23/26) in Neubrandenburg
DESCRIPTION:Ab dem 07. Oktober bis zum 02. Dezember 2026 findet immer mittwochs von 09:30 Uhr bis 11:30 Uhr im DRK Kreisverband e.V. Selbsthilfekontaktstelle in der Robert – Blum – Str. 34 in 17033 Neubrandenburg eine kostenfreie Schulung für pflegende und betreuende An- und Zugehörige von Menschen mit Demenz statt. \nDie Schulungsreihe „Leben mit Demenz“ umfasst acht Module (jeweils zwei Stunden). Durch den Schulungsleiter werden Kenntnisse zum Krankheitsbild\, zur Kommunikation und zum Umgang mit an Demenz erkrankten Personen\, Leistungen der Pflege- und Krankenversicherungen und zu rechtlichen Fragestellungen vermittelt sowie Möglichkeiten zur Wohnraumanpassung und zur Entlastung für die An- und Zugehörigen besprochen. Zudem ist ein Austausch von Erfahrungen unter den Teilnehmenden erwünscht. \nSchulungsleiter ist Herr Frank Schäfer\, Dipl. Lehrer\, Demenz-Partner und zertifizierter GeriCoach der Deutschen Alzheimer Gesellschaft LV M-V. \nZur Planung bitten wir um vorherige Anmeldung bei Herrn Schröder telefonisch unter 0395 56039 55 oder per E-Mail unter selbsthilfe@neubrandenburg.drk.de \nDie Schulungsreihe für An- und Zugehörige von Menschen mit Demenz wurde von der Deutschen Alzheimer Gesellschaft Landesverband M-V e.V.\, dem Deutschen Zentrum für Neurodegenerative Erkrankungen e.V. Standort Rostock/Greifswald entwickelt und finanziert sich durch die Barmer Krankenkasse. \nWeitere Informationen finden Sie hier:AGS_23-26_Flyer_Schaefer_Neubrandenburg_Barmer_07102026-02122026_09.02.2026
URL:https://alzheimer-mv.de/event/angehoerigenschulung-leben-mit-demenz-23-26-in-neubrandenburg/2026-10-28/
LOCATION:DRK Kreisverband e.V. Selbsthilfekontaktstelle in der Robert – Blum – Str. 34 in 17033 Neubrandenburg\, Robert-Blum-Str. 34\, Neubrandenburg\, 17033\, Germany
GEO:53.5614758;13.2494762
X-APPLE-STRUCTURED-LOCATION;VALUE=URI;X-ADDRESS=DRK Kreisverband e.V. Selbsthilfekontaktstelle in der Robert – Blum – Str. 34 in 17033 Neubrandenburg Robert-Blum-Str. 34 Neubrandenburg 17033 Germany;X-APPLE-RADIUS=500;X-TITLE=Robert-Blum-Str. 34:geo:13.2494762,53.5614758
END:VEVENT
BEGIN:VEVENT
DTSTART;TZID=Europe/Berlin:20261104T093000
DTEND;TZID=Europe/Berlin:20261104T113000
DTSTAMP:20260419T234430
CREATED:20260211T081400Z
LAST-MODIFIED:20260211T081400Z
UID:10007189-1793784600-1793791800@alzheimer-mv.de
SUMMARY:Angehörigenschulung „Leben mit Demenz“ (23/26) in Neubrandenburg
DESCRIPTION:Ab dem 07. Oktober bis zum 02. Dezember 2026 findet immer mittwochs von 09:30 Uhr bis 11:30 Uhr im DRK Kreisverband e.V. Selbsthilfekontaktstelle in der Robert – Blum – Str. 34 in 17033 Neubrandenburg eine kostenfreie Schulung für pflegende und betreuende An- und Zugehörige von Menschen mit Demenz statt. \nDie Schulungsreihe „Leben mit Demenz“ umfasst acht Module (jeweils zwei Stunden). Durch den Schulungsleiter werden Kenntnisse zum Krankheitsbild\, zur Kommunikation und zum Umgang mit an Demenz erkrankten Personen\, Leistungen der Pflege- und Krankenversicherungen und zu rechtlichen Fragestellungen vermittelt sowie Möglichkeiten zur Wohnraumanpassung und zur Entlastung für die An- und Zugehörigen besprochen. Zudem ist ein Austausch von Erfahrungen unter den Teilnehmenden erwünscht. \nSchulungsleiter ist Herr Frank Schäfer\, Dipl. Lehrer\, Demenz-Partner und zertifizierter GeriCoach der Deutschen Alzheimer Gesellschaft LV M-V. \nZur Planung bitten wir um vorherige Anmeldung bei Herrn Schröder telefonisch unter 0395 56039 55 oder per E-Mail unter selbsthilfe@neubrandenburg.drk.de \nDie Schulungsreihe für An- und Zugehörige von Menschen mit Demenz wurde von der Deutschen Alzheimer Gesellschaft Landesverband M-V e.V.\, dem Deutschen Zentrum für Neurodegenerative Erkrankungen e.V. Standort Rostock/Greifswald entwickelt und finanziert sich durch die Barmer Krankenkasse. \nWeitere Informationen finden Sie hier:AGS_23-26_Flyer_Schaefer_Neubrandenburg_Barmer_07102026-02122026_09.02.2026
URL:https://alzheimer-mv.de/event/angehoerigenschulung-leben-mit-demenz-23-26-in-neubrandenburg/2026-11-04/
LOCATION:DRK Kreisverband e.V. Selbsthilfekontaktstelle in der Robert – Blum – Str. 34 in 17033 Neubrandenburg\, Robert-Blum-Str. 34\, Neubrandenburg\, 17033\, Germany
GEO:53.5614758;13.2494762
X-APPLE-STRUCTURED-LOCATION;VALUE=URI;X-ADDRESS=DRK Kreisverband e.V. Selbsthilfekontaktstelle in der Robert – Blum – Str. 34 in 17033 Neubrandenburg Robert-Blum-Str. 34 Neubrandenburg 17033 Germany;X-APPLE-RADIUS=500;X-TITLE=Robert-Blum-Str. 34:geo:13.2494762,53.5614758
END:VEVENT
BEGIN:VEVENT
DTSTART;TZID=Europe/Berlin:20261118T093000
DTEND;TZID=Europe/Berlin:20261118T113000
DTSTAMP:20260419T234430
CREATED:20260211T081400Z
LAST-MODIFIED:20260211T081400Z
UID:10007190-1794994200-1795001400@alzheimer-mv.de
SUMMARY:Angehörigenschulung „Leben mit Demenz“ (23/26) in Neubrandenburg
DESCRIPTION:Ab dem 07. Oktober bis zum 02. Dezember 2026 findet immer mittwochs von 09:30 Uhr bis 11:30 Uhr im DRK Kreisverband e.V. Selbsthilfekontaktstelle in der Robert – Blum – Str. 34 in 17033 Neubrandenburg eine kostenfreie Schulung für pflegende und betreuende An- und Zugehörige von Menschen mit Demenz statt. \nDie Schulungsreihe „Leben mit Demenz“ umfasst acht Module (jeweils zwei Stunden). Durch den Schulungsleiter werden Kenntnisse zum Krankheitsbild\, zur Kommunikation und zum Umgang mit an Demenz erkrankten Personen\, Leistungen der Pflege- und Krankenversicherungen und zu rechtlichen Fragestellungen vermittelt sowie Möglichkeiten zur Wohnraumanpassung und zur Entlastung für die An- und Zugehörigen besprochen. Zudem ist ein Austausch von Erfahrungen unter den Teilnehmenden erwünscht. \nSchulungsleiter ist Herr Frank Schäfer\, Dipl. Lehrer\, Demenz-Partner und zertifizierter GeriCoach der Deutschen Alzheimer Gesellschaft LV M-V. \nZur Planung bitten wir um vorherige Anmeldung bei Herrn Schröder telefonisch unter 0395 56039 55 oder per E-Mail unter selbsthilfe@neubrandenburg.drk.de \nDie Schulungsreihe für An- und Zugehörige von Menschen mit Demenz wurde von der Deutschen Alzheimer Gesellschaft Landesverband M-V e.V.\, dem Deutschen Zentrum für Neurodegenerative Erkrankungen e.V. Standort Rostock/Greifswald entwickelt und finanziert sich durch die Barmer Krankenkasse. \nWeitere Informationen finden Sie hier:AGS_23-26_Flyer_Schaefer_Neubrandenburg_Barmer_07102026-02122026_09.02.2026
URL:https://alzheimer-mv.de/event/angehoerigenschulung-leben-mit-demenz-23-26-in-neubrandenburg/2026-11-18/
LOCATION:DRK Kreisverband e.V. Selbsthilfekontaktstelle in der Robert – Blum – Str. 34 in 17033 Neubrandenburg\, Robert-Blum-Str. 34\, Neubrandenburg\, 17033\, Germany
GEO:53.5614758;13.2494762
X-APPLE-STRUCTURED-LOCATION;VALUE=URI;X-ADDRESS=DRK Kreisverband e.V. Selbsthilfekontaktstelle in der Robert – Blum – Str. 34 in 17033 Neubrandenburg Robert-Blum-Str. 34 Neubrandenburg 17033 Germany;X-APPLE-RADIUS=500;X-TITLE=Robert-Blum-Str. 34:geo:13.2494762,53.5614758
END:VEVENT
BEGIN:VEVENT
DTSTART;TZID=Europe/Berlin:20261125T093000
DTEND;TZID=Europe/Berlin:20261125T113000
DTSTAMP:20260419T234430
CREATED:20260211T081400Z
LAST-MODIFIED:20260211T081400Z
UID:10007191-1795599000-1795606200@alzheimer-mv.de
SUMMARY:Angehörigenschulung „Leben mit Demenz“ (23/26) in Neubrandenburg
DESCRIPTION:Ab dem 07. Oktober bis zum 02. Dezember 2026 findet immer mittwochs von 09:30 Uhr bis 11:30 Uhr im DRK Kreisverband e.V. Selbsthilfekontaktstelle in der Robert – Blum – Str. 34 in 17033 Neubrandenburg eine kostenfreie Schulung für pflegende und betreuende An- und Zugehörige von Menschen mit Demenz statt. \nDie Schulungsreihe „Leben mit Demenz“ umfasst acht Module (jeweils zwei Stunden). Durch den Schulungsleiter werden Kenntnisse zum Krankheitsbild\, zur Kommunikation und zum Umgang mit an Demenz erkrankten Personen\, Leistungen der Pflege- und Krankenversicherungen und zu rechtlichen Fragestellungen vermittelt sowie Möglichkeiten zur Wohnraumanpassung und zur Entlastung für die An- und Zugehörigen besprochen. Zudem ist ein Austausch von Erfahrungen unter den Teilnehmenden erwünscht. \nSchulungsleiter ist Herr Frank Schäfer\, Dipl. Lehrer\, Demenz-Partner und zertifizierter GeriCoach der Deutschen Alzheimer Gesellschaft LV M-V. \nZur Planung bitten wir um vorherige Anmeldung bei Herrn Schröder telefonisch unter 0395 56039 55 oder per E-Mail unter selbsthilfe@neubrandenburg.drk.de \nDie Schulungsreihe für An- und Zugehörige von Menschen mit Demenz wurde von der Deutschen Alzheimer Gesellschaft Landesverband M-V e.V.\, dem Deutschen Zentrum für Neurodegenerative Erkrankungen e.V. Standort Rostock/Greifswald entwickelt und finanziert sich durch die Barmer Krankenkasse. \nWeitere Informationen finden Sie hier:AGS_23-26_Flyer_Schaefer_Neubrandenburg_Barmer_07102026-02122026_09.02.2026
URL:https://alzheimer-mv.de/event/angehoerigenschulung-leben-mit-demenz-23-26-in-neubrandenburg/2026-11-25/
LOCATION:DRK Kreisverband e.V. Selbsthilfekontaktstelle in der Robert – Blum – Str. 34 in 17033 Neubrandenburg\, Robert-Blum-Str. 34\, Neubrandenburg\, 17033\, Germany
GEO:53.5614758;13.2494762
X-APPLE-STRUCTURED-LOCATION;VALUE=URI;X-ADDRESS=DRK Kreisverband e.V. Selbsthilfekontaktstelle in der Robert – Blum – Str. 34 in 17033 Neubrandenburg Robert-Blum-Str. 34 Neubrandenburg 17033 Germany;X-APPLE-RADIUS=500;X-TITLE=Robert-Blum-Str. 34:geo:13.2494762,53.5614758
END:VEVENT
BEGIN:VEVENT
DTSTART;TZID=Europe/Berlin:20261202T093000
DTEND;TZID=Europe/Berlin:20261202T113000
DTSTAMP:20260419T234430
CREATED:20260211T081400Z
LAST-MODIFIED:20260211T081400Z
UID:10007192-1796203800-1796211000@alzheimer-mv.de
SUMMARY:Angehörigenschulung „Leben mit Demenz“ (23/26) in Neubrandenburg
DESCRIPTION:Ab dem 07. Oktober bis zum 02. Dezember 2026 findet immer mittwochs von 09:30 Uhr bis 11:30 Uhr im DRK Kreisverband e.V. Selbsthilfekontaktstelle in der Robert – Blum – Str. 34 in 17033 Neubrandenburg eine kostenfreie Schulung für pflegende und betreuende An- und Zugehörige von Menschen mit Demenz statt. \nDie Schulungsreihe „Leben mit Demenz“ umfasst acht Module (jeweils zwei Stunden). Durch den Schulungsleiter werden Kenntnisse zum Krankheitsbild\, zur Kommunikation und zum Umgang mit an Demenz erkrankten Personen\, Leistungen der Pflege- und Krankenversicherungen und zu rechtlichen Fragestellungen vermittelt sowie Möglichkeiten zur Wohnraumanpassung und zur Entlastung für die An- und Zugehörigen besprochen. Zudem ist ein Austausch von Erfahrungen unter den Teilnehmenden erwünscht. \nSchulungsleiter ist Herr Frank Schäfer\, Dipl. Lehrer\, Demenz-Partner und zertifizierter GeriCoach der Deutschen Alzheimer Gesellschaft LV M-V. \nZur Planung bitten wir um vorherige Anmeldung bei Herrn Schröder telefonisch unter 0395 56039 55 oder per E-Mail unter selbsthilfe@neubrandenburg.drk.de \nDie Schulungsreihe für An- und Zugehörige von Menschen mit Demenz wurde von der Deutschen Alzheimer Gesellschaft Landesverband M-V e.V.\, dem Deutschen Zentrum für Neurodegenerative Erkrankungen e.V. Standort Rostock/Greifswald entwickelt und finanziert sich durch die Barmer Krankenkasse. \nWeitere Informationen finden Sie hier:AGS_23-26_Flyer_Schaefer_Neubrandenburg_Barmer_07102026-02122026_09.02.2026
URL:https://alzheimer-mv.de/event/angehoerigenschulung-leben-mit-demenz-23-26-in-neubrandenburg/2026-12-02/
LOCATION:DRK Kreisverband e.V. Selbsthilfekontaktstelle in der Robert – Blum – Str. 34 in 17033 Neubrandenburg\, Robert-Blum-Str. 34\, Neubrandenburg\, 17033\, Germany
GEO:53.5614758;13.2494762
X-APPLE-STRUCTURED-LOCATION;VALUE=URI;X-ADDRESS=DRK Kreisverband e.V. Selbsthilfekontaktstelle in der Robert – Blum – Str. 34 in 17033 Neubrandenburg Robert-Blum-Str. 34 Neubrandenburg 17033 Germany;X-APPLE-RADIUS=500;X-TITLE=Robert-Blum-Str. 34:geo:13.2494762,53.5614758
END:VEVENT
END:VCALENDAR